Workbook

Sheet Work 1-19 Hrs-Unemployed
A1: ABSOLUTE DISTRIBUTION OF WORKING POPULATION BY ECONOMIC ACTIVITY BY TYPE OF ENGAGEMENT AND BY SEX
B2: Major Economic Activity | C2: Work for Pay/Wage | E2: Self employment (in farming) | G2: Self employment (non farming) | I2: Paid Apprentice | K2: UnPaid Household Worker | M2: TOTAL
C3: Male | D3: Female | E3: Male | F3: Female | G3: Male | H3: Female | I3: Male | J3: Female | K3: Male | L3: Female | M3: Male | N3: Female | O3: Male+Female
A4: A | B4: AGRICULTURE | C4: 145041.6 | D4: 107102 | E4: 2564470.4 | F4: 1619151.4 | G4: 98160.239 | H4: 59223.199 | I4: 20686.328 | J4: 6501.5441 | K4: 187711.18 | L4: 202648.97 | M4: =SUM(C4,E4,G4,I4,K4) -> 3016069.7 | N4: =SUM(D4,F4,H4,J4,L4) -> 1994627.1 | O4: =M4+N4 -> 5010696.8
A5: B | B5: MINING AND QUARRYING | C5: 9679.9287 | D5: 362.13411 | G5: 5130.6104 | H5: 2841.0295 | M5: =SUM(C5,E5,G5,I5,K5) -> 14810.539 | N5: =SUM(D5,F5,H5,J5,L5) -> 3203.1636 | O5: =M5+N5 -> 18013.703
A6: C | B6: MANUFACTURING | C6: 69215.242 | D6: 43396.422 | G6: 125419.41 | H6: 164843.79 | I6: 10472.956 | J6: 2580.3386 | K6: 36291.851 | L6: 36553.492 | M6: =SUM(C6,E6,G6,I6,K6) -> 241399.46 | N6: =SUM(D6,F6,H6,J6,L6) -> 247374.04 | O6: =M6+N6 -> 488773.5
A7: D | B7: ELECTRICITY, GAS, STEAM & AIR CONDITIONING SUPPLY | G7: 1922.9373 | H7: 0 | K7: 1439.5023 | L7: 0 | M7: =SUM(C7,E7,G7,I7,K7) -> 3362.4396 | N7: =SUM(D7,F7,H7,J7,L7) -> 0 | O7: =M7+N7 -> 3362.4396
A8: E | B8: WATER SUPPLY, SEWERAGE, WASTE MANAGEMENT & REMEDIATION | C8: 3722.1522 | D8: 2077.1615 | G8: 0 | H8: 1394.8988 | M8: =SUM(C8,E8,G8,I8,K8) -> 3722.1522 | N8: =SUM(D8,F8,H8,J8,L8) -> 3472.0603 | O8: =M8+N8 -> 7194.2124
A9: F | B9: CONSTRUCTION | C9: 66946.524 | D9: 6550.3984 | G9: 44283.688 | H9: 2045.4528 | I9: 1274.2204 | J9: 0 | K9: 10430.74 | M9: =SUM(C9,E9,G9,I9,K9) -> 122935.17 | N9: =SUM(D9,F9,H9,J9,L9) -> 8595.8512 | O9: =M9+N9 -> 131531.02
A10: G | B10: TRADE | C10: 54833.161 | D10: 87191.581 | G10: 130042.39 | H10: 479085.48 | I10: 8933.6569 | J10: 2996.2573 | K10: 22483.078 | L10: 34671.976 | M10: =SUM(C10,E10,G10,I10,K10) -> 216292.28 | N10: =SUM(D10,F10,H10,J10,L10) -> 603945.3 | O10: =M10+N10 -> 820237.58
A11: I | B11: ACCOMMODATION AND FOOD SERVICES | G11: 2077.8808 | H11: 98350.279 | I11: 0 | J11: 3379.7833 | K11: 408.29231 | L11: 13259.42 | M11: =SUM(C11,E11,G11,I11,K11) -> 2486.1731 | N11: =SUM(D11,F11,H11,J11,L11) -> 114989.48 | O11: =M11+N11 -> 117475.65
A12: H | B12: TRANSPORTATION AND STORAGE | C12: 43380.076 | D12: 223.44541 | G12: 50982.329 | H12: 803.89054 | I12: 230.83502 | J12: 0 | K12: 2077.6014 | L12: 2079.0304 | M12: =SUM(C12,E12,G12,I12,K12) -> 96670.842 | N12: =SUM(D12,F12,H12,J12,L12) -> 3106.3663 | O12: =M12+N12 -> 99777.208
A13: J | B13: INFORMATION AND COMMUNICATION | C13: 12135.492 | D13: 7618.381 | G13: 12699.235 | H13: 734.9298 | K13: 2524.9737 | L13: 0 | M13: =SUM(C13,E13,G13,I13,K13) -> 27359.701 | N13: =SUM(D13,F13,H13,J13,L13) -> 8353.3108 | O13: =M13+N13 -> 35713.012
A14: K | B14: ARTS, ENTERTAINMENTAND RECREATION | C14: 64639.395 | D14: 41146.774 | G14: 5349.4393 | H14: 1101.0962 | M14: =SUM(C14,E14,G14,I14,K14) -> 69988.834 | N14: =SUM(D14,F14,H14,J14,L14) -> 42247.87 | O14: =M14+N14 -> 112236.7
A15: L | B15: FINANCIAL AND INSURANCE | C15: 76085.603 | D15: 41747.612 | G15: 2890.4309 | H15: 0 | K15: 5386.0434 | L15: 1429.763 | M15: =SUM(C15,E15,G15,I15,K15) -> 84362.077 | N15: =SUM(D15,F15,H15,J15,L15) -> 43177.375 | O15: =M15+N15 -> 127539.45
A16: M | B16: REAL ESTATE | G16: 1252.4817 | H16: 0 | K16: 2082.3028 | L16: 0 | M16: =SUM(C16,E16,G16,I16,K16) -> 3334.7845 | N16: =SUM(D16,F16,H16,J16,L16) -> 0 | O16: =M16+N16 -> 3334.7845
A17: N | B17: PROFESSIONAL, SCIENTIFIC AND TECHNICAL SERVICES | C17: 226591.01 | D17: 190486.76 | G17: 52046.109 | H17: 61417.484 | I17: 12991.471 | J17: 1491.0968 | K17: 35885.325 | L17: 10004.984 | M17: =SUM(C17,E17,G17,I17,K17) -> 327513.91 | N17: =SUM(D17,F17,H17,J17,L17) -> 263400.32 | O17: =M17+N17 -> 590914.24
A18: O | B18: ADMINISTRATIVE & SUPPORT SERVICES | C18: 18334.845 | D18: 1534.3968 | G18: 6890.5988 | H18: 4343.7052 | K18: 1110.1981 | L18: 0 | M18: =SUM(C18,E18,G18,I18,K18) -> 26335.642 | N18: =SUM(D18,F18,H18,J18,L18) -> 5878.102 | O18: =M18+N18 -> 32213.744
A19: Q | B19: EDUCATION | C19: 74743.598 | D19: 46340.551 | G19: 18666.682 | H19: 10791.147 | I19: 626.15701 | J19: 1654.6834 | K19: 4160.9651 | L19: 5522.5262 | M19: =SUM(C19,E19,G19,I19,K19) -> 98197.402 | N19: =SUM(D19,F19,H19,J19,L19) -> 64308.908 | O19: =M19+N19 -> 162506.31
A20: R | B20: HUMAN HEALTH AND SOCIAL SERVICES | C20: 61734.157 | D20: 81214.018 | G20: 11029.496 | H20: 3071.3844 | I20: 0 | J20: 1127.5305 | K20: 5374.5836 | L20: 6616.4899 | M20: =SUM(C20,E20,G20,I20,K20) -> 78138.237 | N20: =SUM(D20,F20,H20,J20,L20) -> 92029.423 | O20: =M20+N20 -> 170167.66
A21: S | B21: OTHER SERVICES | C21: 158770.87 | D21: 90690.168 | G21: 94211.711 | H21: 103943.25 | I21: 3507.0907 | J21: 5524.2559 | K21: 24685.484 | L21: 48401.2 | M21: =SUM(C21,E21,G21,I21,K21) -> 281175.16 | N21: =SUM(D21,F21,H21,J21,L21) -> 248558.87 | O21: =M21+N21 -> 529734.03
B22: TOTAL | C22: =SUM(C4:C21) -> 1085853.7 | D22: =SUM(D4:D21) -> 747681.8 | E22: =SUM(E4:E21) -> 2564470.4 | F22: =SUM(F4:F21) -> 1619151.4 | G22: =SUM(G4:G21) -> 663055.67 | H22: =SUM(H4:H21) -> 993991.02 | I22: =SUM(I4:I21) -> 58722.714 | J22: =SUM(J4:J21) -> 25255.49 | ... N22: =SUM(N4:N21) -> 3747267.6 | O22: =M22+N22 -> 8461422.1
A24: DISTRIBUTION OF WORKING POPULATION BY ECONOMIC ACTIVITY BY TYPE OF ENGAGEMENT AND BY SEX -Male
B25: Major Economic Activity | C25: Work for Pay/Wage | E25: Self employment (in farming) | G25: Self employment (non farming) | I25: Paid Apprentice | K25: UnPaid Household Worker | M25: TOTAL
C26: Total Male | E26: Total Male | G26: Total Male | I26: Total Male | K26: Total Male | M26: Total Male
A27: A | B27: AGRICULTURE | C27: 145041.6 | E27: 2564470.4 | G27: 98160.239 | I27: 20686.328 | K27: 187711.18 | M27: 3016069.7
A28: B | B28: MINING AND QUARRYING | C28: 9679.9287 | E28: 0 | G28: 5130.6104 | I28: 0 | K28: 0 | M28: 14810.539
A29: C | B29: MANUFACTURING | C29: 69215.242 | E29: 0 | G29: 125419.41 | I29: 10472.956 | K29: 36291.851 | M29: 241399.46
A30: D | B30: ELECTRICITY, GAS, STEAM & AIR CONDITIONING SUPPLY | C30: 0 | E30: 0 | G30: 1922.9373 | I30: 0 | K30: 1439.5023 | M30: 3362.4396
A31: E | B31: WATER SUPPLY, SEWERAGE, WASTE MANAGEMENT & REMEDIATION | C31: 3722.1522 | E31: 0 | G31: 0 | I31: 0 | K31: 0 | M31: 3722.1522
A32: F | B32: CONSTRUCTION | C32: 66946.524 | E32: 0 | G32: 44283.688 | I32: 1274.2204 | K32: 10430.74 | M32: 122935.17
A33: G | B33: TRADE | C33: 54833.161 | E33: 0 | G33: 130042.39 | I33: 8933.6569 | K33: 22483.078 | M33: 216292.28
A34: I | B34: ACCOMMODATION AND FOOD SERVICES | C34: 0 | E34: 0 | G34: 2077.8808 | I34: 0 | K34: 408.29231 | M34: 2486.1731
A35: H | B35: TRANSPORTATION AND STORAGE | C35: 43380.076 | E35: 0 | G35: 50982.329 | I35: 230.83502 | K35: 2077.6014 | M35: 96670.842
A36: J | B36: INFORMATION AND COMMUNICATION | C36: 12135.492 | E36: 0 | G36: 12699.235 | I36: 0 | K36: 2524.9737 | M36: 27359.701
A37: K | B37: ARTS, ENTERTAINMENTAND RECREATION | C37: 64639.395 | E37: 0 | G37: 5349.4393 | I37: 0 | K37: 0 | M37: 69988.834
A38: L | B38: FINANCIAL AND INSURANCE | C38: 76085.603 | E38: 0 | G38: 2890.4309 | I38: 0 | K38: 5386.0434 | M38: 84362.077
... A44: S | B44: OTHER SERVICES | C44: 158770.87 | E44: 0 | G44: 94211.711 | I44: 3507.0907 | K44: 24685.484 | M44: 281175.16
B45: TOTAL | C45: 1085853.7 | E45: 2564470.4 | G45: 663055.67 | I45: 58722.714 | K45: 342052.12 | M45: 4714154.5
A47: DISTRIBUTION OF WORKING POPULATION BY ECONOMIC ACTIVITY BY TYPE OF ENGAGEMENT AND BY SEX- Female
...

Sheet Work 20-39 Hrs-Underemployed
A1: ABSOLUTE DISTRIBUTION OF WORKING POPULATION BY ECONOMIC ACTIVITY BY TYPE OF ENGAGEMENT AND BY SEX
B2: Major Economic Activity | C2: Work for Pay/Wage | E2: Self employment (in farming) | G2: Self employment (non farming) | I2: Paid Apprentice | K2: UnPaid Household Worker | M2: TOTAL
C3: Male | D3: Female | E3: Male | F3: Female | G3: Male | H3: Female | I3: Male | J3: Female | K3: Male | L3: Female | M3: Male | N3: Female | O3: Male+Female
A4: A | B4: AGRICULTURE | C4: 336232.57 | D4: 185390.01 | E4: 4467539.9 | F4: 2153465.2 | G4: 221001.76 | H4: 81902.109 | I4: 32658.426 | J4: 13795.524 | K4: 943206.26 | L4: 974017.01 | M4: =SUM(C4,E4,G4,I4,K4) -> 6000638.9 | N4: =SUM(D4,F4,H4,J4,L4) -> 3408569.9 | O4: =M4+N4 -> 9409208.8
A5: B | B5: MINING AND QUARRYING | C5: 3030.7999 | D5: 0 | G5: 20055.919 | H5: 2183.3893 | I5: 345.67595 | J5: 0 | M5: =SUM(C5,E5,G5,I5,K5) -> 23432.395 | N5: =SUM(D5,F5,H5,J5,L5) -> 2183.3893 | O5: =M5+N5 -> 25615.784
A6: C | B6: MANUFACTURING | C6: 83979.668 | D6: 60236.119 | G6: 416762.82 | H6: 640260.21 | I6: 30350.727 | J6: 13050.581 | K6: 19004.237 | L6: 76709.81 | M6: =SUM(C6,E6,G6,I6,K6) -> 550097.45 | N6: =SUM(D6,F6,H6,J6,L6) -> 790256.72 | O6: =M6+N6 -> 1340354.2
A7: D | B7: ELECTRICITY, GAS, STEAM & AIR CONDITIONING SUPPLY | G7: 1161.0115 | H7: 0 | M7: =SUM(C7,E7,G7,I7,K7) -> 1161.0115 | N7: =SUM(D7,F7,H7,J7,L7) -> 0 | O7: =M7+N7 -> 1161.0115
A8: E | B8: WATER SUPPLY, SEWERAGE, WASTE MANAGEMENT & REMEDIATION | C8: 2219.4455 | D8: 0 | G8: 3334.9716 | H8: 5439.6052 | K8: 0 | L8: 485.312 | M8: =SUM(C8,E8,G8,I8,K8) -> 5554.4171 | N8: =SUM(D8,F8,H8,J8,L8) -> 5924.9172 | O8: =M8+N8 -> 11479.334
A9: F | B9: CONSTRUCTION | C9: 145824.96 | D9: 1419.1516 | G9: 194964.7 | H9: 5110.5048 | I9: 16163.062 | J9: 0 | K9: 2797.7159 | L9: 1125.9187 | M9: =SUM(C9,E9,G9,I9,K9) -> 359750.44 | N9: =SUM(D9,F9,H9,J9,L9) -> 7655.5751 | O9: =M9+N9 -> 367406.01
A10: G | B10: TRADE | C10: 81663.008 | D10: 216849.07 | G10: 395881.05 | H10: 1555605.3 | I10: 17170.326 | J10: 18198.952 | K10: 17468.668 | L10: 82210.157 | M10: =SUM(C10,E10,G10,I10,K10) -> 512183.05 | N10: =SUM(D10,F10,H10,J10,L10) -> 1872863.5 | O10: =M10+N10 -> 2385046.5
A11: I | B11: ACCOMMODATION AND FOOD SERVICES | C11: 0 | D11: 0 | G11: 15171.96 | H11: 362295.91 | I11: 0 | J11: 7718.7768 | K11: 4221.3853 | L11: 22295.063 | M11: =SUM(C11,E11,G11,I11,K11) -> 19393.345 | N11: =SUM(D11,F11,H11,J11,L11) -> 392309.75 | O11: =M11+N11 -> 411703.1
A12: H | B12: TRANSPORTATION AND STORAGE | C12: 157691.51 | D12: 5888.714 | G12: 163182.84 | H12: 0 | I12: 1454.7894 | J12: 0 | K12: 4722.801 | L12: 0 | M12: =SUM(C12,E12,G12,I12,K12) -> 327051.94 | N12: =SUM(D12,F12,H12,J12,L12) -> 5888.714 | O12: =M12+N12 -> 332940.65
A13: J | B13: INFORMATION AND COMMUNICATION | C13: 56330.964 | D13: 16851.282 | G13: 25729.428 | H13: 3333.721 | I13: 2021.2598 | J13: 0 | M13: =SUM(C13,E13,G13,I13,K13) -> 84081.652 | N13: =SUM(D13,F13,H13,J13,L13) -> 20185.003 | O13: =M13+N13 -> 104266.66
A14: K | B14: ARTS, ENTERTAINMENTAND RECREATION | C14: 95216.669 | D14: 23275.289 | G14: 12317.129 | H14: 685.27642 | M14: =SUM(C14,E14,G14,I14,K14) -> 107533.8 | N14: =SUM(D14,F14,H14,J14,L14) -> 23960.565 | O14: =M14+N14 -> 131494.36
A15: L | B15: FINANCIAL AND INSURANCE | C15: 84598.774 | D15: 108484.13 | G15: 2085.7308 | H15: 0 | K15: 1202.0317 | L15: 0 | M15: =SUM(C15,E15,G15,I15,K15) -> 87886.537 | N15: =SUM(D15,F15,H15,J15,L15) -> 108484.13 | O15: =M15+N15 -> 196370.67
A16: M | B16: REAL ESTATE | G16: 16117.192 | H16: 2613.6226 | M16: =SUM(C16,E16,G16,I16,K16) -> 16117.192 | N16: =SUM(D16,F16,H16,J16,L16) -> 2613.6226 | O16: =M16+N16 -> 18730.814
A17: N | B17: PROFESSIONAL, SCIENTIFIC AND TECHNICAL SERVICES | C17: 331128.74 | D17: 238556.18 | G17: 129376.73 | H17: 119132.33 | I17: 34906.737 | J17: 21596.368 | K17: 6801.1891 | L17: 21383.982 | M17: =SUM(C17,E17,G17,I17,K17) -> 502213.4 | N17: =SUM(D17,F17,H17,J17,L17) -> 400668.86 | O17: =M17+N17 -> 902882.26
A18: O | B18: ADMINISTRATIVE & SUPPORT SERVICES | C18: 26088.656 | D18: 4376.0081 | G18: 19129.912 | H18: 5215.9902 | I18: 338.34895 | J18: 0 | K18: 818.89965 | L18: 0 | M18: =SUM(C18,E18,G18,I18,K18) -> 46375.817 | N18: =SUM(D18,F18,H18,J18,L18) -> 9591.9982 | O18: =M18+N18 -> 55967.815
A19: Q | B19: EDUCATION | C19: 237906.16 | D19: 348305.81 | G19: 59486.538 | H19: 38089.725 | I19: 854.91938 | J19: 1095.1443 | K19: 10662.142 | L19: 3733.1096 | M19: =SUM(C19,E19,G19,I19,K19) -> 308909.76 | N19: =SUM(D19,F19,H19,J19,L19) -> 391223.79 | O19: =M19+N19 -> 700133.55
A20: R | B20: HUMAN HEALTH AND SOCIAL SERVICES | C20: 92270.337 | D20: 199453.37 | G20: 18924.162 | H20: 14197.567 | I20: 1213.6771 | J20: 934.47796 | K20: 1339.4679 | L20: 40262.228 | M20: =SUM(C20,E20,G20,I20,K20) -> 113747.64 | N20: =SUM(D20,F20,H20,J20,L20) -> 254847.65 | O20: =M20+N20 -> 368595.29
A21: S | B21: OTHER SERVICES | C21: 389335.68 | D21: 246722.89 | G21: 187915.2 | H21: 244221.92 | I21: 12171.711 | J21: 5631.7814 | K21: 71703.176 | L21: 108011.66 | M21: =SUM(C21,E21,G21,I21,K21) -> 661125.77 | N21: =SUM(D21,F21,H21,J21,L21) -> 604588.26 | O21: =M21+N21 -> 1265714
B22: TOTAL | C22: =SUM(C4:C21) -> 2123517.9 | D22: =SUM(D4:D21) -> 1655808 | E22: =SUM(E4:E21) -> 4467539.9 | F22: =SUM(F4:F21) -> 2153465.2 | G22: =SUM(G4:G21) -> 1902599.1 | H22: =SUM(H4:H21) -> 3080287.2 | I22: =SUM(I4:I21) -> 149649.66 | J22: =SUM(J4:J21) -> 82021.605 | ... N22: =SUM(N4:N21) -> 8301816.3 | O22: =M22+N22 -> 18029071
A24: DISTRIBUTION OF WORKING POPULATION BY ECONOMIC ACTIVITY BY TYPE OF ENGAGEMENT AND BY SEX -Male
B25: Major Economic Activity | C25: Work for Pay/Wage | E25: Self employment (in farming) | G25: Self employment (non farming) | I25: Paid Apprentice | K25: UnPaid Household Worker | M25: TOTAL
C26: Total Male | E26: Total Male | G26: Total Male | I26: Total Male | K26: Total Male | M26: Total Male
A27: A | B27: AGRICULTURE | C27: 336232.57 | E27: 4467539.9 | G27: 221001.76 | I27: 32658.426 | K27: 943206.26 | M27: 6000638.9
A28: B | B28: MINING AND QUARRYING | C28: 3030.7999 | E28: 0 | G28: 20055.919 | I28: 345.67595 | K28: 0 | M28: 23432.395
A29: C | B29: MANUFACTURING | C29: 83979.668 | E29: 0 | G29: 416762.82 | I29: 30350.727 | K29: 19004.237 | M29: 550097.45
A30: D | B30: ELECTRICITY, GAS, STEAM & AIR CONDITIONING SUPPLY | C30: 0 | E30: 0 | G30: 1161.0115 | I30: 0 | K30: 0 | M30: 1161.0115
A31: E | B31: WATER SUPPLY, SEWERAGE, WASTE MANAGEMENT & REMEDIATION | C31: 2219.4455 | E31: 0 | G31: 3334.9716 | I31: 0 | K31: 0 | M31: 5554.4171
A32: F | B32: CONSTRUCTION | C32: 145824.96 | E32: 0 | G32: 194964.7 | I32: 16163.062 | K32: 2797.7159 | M32: 359750.44
A33: G | B33: TRADE | C33: 81663.008 | E33: 0 | G33: 395881.05 | I33: 17170.326 | K33: 17468.668 | M33: 512183.05
A34: I | B34: ACCOMMODATION AND FOOD SERVICES | C34: 0 | E34: 0 | G34: 15171.96 | I34: 0 | K34: 4221.3853 | M34: 19393.345
A35: H | B35: TRANSPORTATION AND STORAGE | C35: 157691.51 | E35: 0 | G35: 163182.84 | I35: 1454.7894 | K35: 4722.801 | M35: 327051.94
A36: J | B36: INFORMATION AND COMMUNICATION | C36: 56330.964 | E36: 0 | G36: 25729.428 | I36: 2021.2598 | K36: 0 | M36: 84081.652
A37: K | B37: ARTS, ENTERTAINMENTAND RECREATION | C37: 95216.669 | E37: 0 | G37: 12317.129 | I37: 0 | K37: 0 | M37: 107533.8
A38: L | B38: FINANCIAL AND INSURANCE | C38: 84598.774 | E38: 0 | G38: 2085.7308 | I38: 0 | K38: 1202.0317 | M38: 87886.537
... A44: S | B44: OTHER SERVICES | C44: 389335.68 | E44: 0 | G44: 187915.2 | I44: 12171.711 | K44: 71703.176 | M44: 661125.77
B45: TOTAL | C45: 2123517.9 | E45: 4467539.9 | G45: 1902599.1 | I45: 149649.66 | K45: 1083948 | M45: 9727254.5
A47: DISTRIBUTION OF WORKING POPULATION BY ECONOMIC ACTIVITY BY TYPE OF ENGAGEMENT AND BY SEX- Female
...

Sheet Work 40 Hrs-Full-Time employed
A1: ABSOLUTE DISTRIBUTION OF WORKING POPULATION BY ECONOMIC ACTIVITY BY TYPE OF ENGAGEMENT AND BY SEX
B2: Major Economic Activity | C2: Work for Pay/Wage | E2: Self employment (in farming) | G2: Self employment (non farming) | I2: Paid Apprentice | K2: UnPaid Household Worker | M2: TOTAL
C3: Male | D3: Female | E3: Male | F3: Female | G3: Male | H3: Female | I3: Male | J3: Female | K3: Male | L3: Female | M3: Male | N3: Female | O3: Male+Female
A4: A | B4: AGRICULTURE | C4: 1289697 | D4: 400806.09 | E4: 15240449 | F4: 3612219.4 | G4: 554942.03 | H4: 162215.96 | I4: 118512.38 | J4: 25603.345 | K4: 905177.65 | L4: 639402.28 | M4: =SUM(C4,E4,G4,I4,K4) -> 18108778 | N4: =SUM(D4,F4,H4,J4,L4) -> 4840247.1 | O4: =M4+N4 -> 22949025
A5: B | B5: MINING AND QUARRYING | C5: 11838.893 | D5: 0 | G5: 62474.193 | H5: 6513.4175 | I5: 4091.1137 | J5: 0 | K5: 1158.0094 | L5: 0 | M5: =SUM(C5,E5,G5,I5,K5) -> 79562.208 | N5: =SUM(D5,F5,H5,J5,L5) -> 6513.4175 | O5: =M5+N5 -> 86075.626
A6: C | B6: MANUFACTURING | C6: 569115.8 | D6: 110208.8 | G6: 1715209.7 | H6: 875285.09 | I6: 95113.509 | J6: 28951.802 | K6: 78446.588 | L6: 109182.46 | M6: =SUM(C6,E6,G6,I6,K6) -> 2457885.6 | N6: =SUM(D6,F6,H6,J6,L6) -> 1123628.2 | O6: =M6+N6 -> 3581513.8
A7: D | B7: ELECTRICITY, GAS, STEAM & AIR CONDITIONING SUPPLY | G7: 5144.2045 | H7: 0 | K7: 823.91988 | L7: 0 | M7: =SUM(C7,E7,G7,I7,K7) -> 5968.1244 | N7: =SUM(D7,F7,H7,J7,L7) -> 0 | O7: =M7+N7 -> 5968.1244
A8: E | B8: WATER SUPPLY, SEWERAGE, WASTE MANAGEMENT & REMEDIATION | C8: 33784.872 | D8: 7310.9119 | G8: 27390.178 | H8: 2626.3535 | I8: 223.45651 | J8: 0 | K8: 0 | L8: 796.40855 | M8: =SUM(C8,E8,G8,I8,K8) -> 61398.507 | N8: =SUM(D8,F8,H8,J8,L8) -> 10733.674 | O8: =M8+N8 -> 72132.181
A9: F | B9: CONSTRUCTION | C9: 556355.76 | D9: 18368.439 | G9: 627161.19 | H9: 5895.925 | I9: 28814.701 | J9: 0 | K9: 9266.7895 | L9: 679.03517 | M9: =SUM(C9,E9,G9,I9,K9) -> 1221598.4 | N9: =SUM(D9,F9,H9,J9,L9) -> 24943.399 | O9: =M9+N9 -> 1246541.8
A10: G | B10: TRADE | C10: 433718.79 | D10: 574557.29 | G10: 2539866.6 | H10: 3878479.3 | I10: 53304.871 | J10: 29770.115 | K10: 51947.236 | L10: 68103.826 | M10: =SUM(C10,E10,G10,I10,K10) -> 3078837.5 | N10: =SUM(D10,F10,H10,J10,L10) -> 4550910.5 | O10: =M10+N10 -> 7629748
A11: I | B11: ACCOMMODATION AND FOOD SERVICES | C11: 5113.2759 | D11: 2599.3037 | G11: 77274.656 | H11: 358504.36 | I11: 4285.2597 | J11: 3616.4377 | K11: 8441.9303 | L11: 63093.774 | M11: =SUM(C11,E11,G11,I11,K11) -> 95115.121 | N11: =SUM(D11,F11,H11,J11,L11) -> 427813.88 | O11: =M11+N11 -> 522929
A12: H | B12: TRANSPORTATION AND STORAGE | C12: 675231.09 | D12: 8671.5441 | G12: 1337922.2 | H12: 8594.5615 | I12: 12686.297 | J12: 0 | K12: 14033.059 | L12: 0 | M12: =SUM(C12,E12,G12,I12,K12) -> 2039872.6 | N12: =SUM(D12,F12,H12,J12,L12) -> 17266.106 | O12: =M12+N12 -> 2057138.7
A13: J | B13: INFORMATION AND COMMUNICATION | C13: 159183.31 | D13: 59640.598 | G13: 59251.046 | H13: 2425.4777 | I13: 2366.7557 | J13: 1309.2954 | M13: =SUM(C13,E13,G13,I13,K13) -> 220801.12 | N13: =SUM(D13,F13,H13,J13,L13) -> 63375.371 | O13: =M13+N13 -> 284176.49
A14: K | B14: ARTS, ENTERTAINMENTAND RECREATION | C14: 223890.75 | D14: 56389.477 | G14: 24996.213 | H14: 4047.7992 | I14: 4102.281 | J14: 0 | M14: =SUM(C14,E14,G14,I14,K14) -> 252989.24 | N14: =SUM(D14,F14,H14,J14,L14) -> 60437.276 | O14: =M14+N14 -> 313426.52
A15: L | B15: FINANCIAL AND INSURANCE | C15: 428201.14 | D15: 199701.2 | G15: 47254.433 | H15: 4378.5166 | I15: 834.21728 | J15: 0 | K15: 4334.032 | L15: 3005.7579 | M15: =SUM(C15,E15,G15,I15,K15) -> 480623.82 | N15: =SUM(D15,F15,H15,J15,L15) -> 207085.48 | O15: =M15+N15 -> 687709.3
A16: M | B16: REAL ESTATE | G16: 46346.954 | H16: 0 | K16: 1102.6478 | L16: 0 | M16: =SUM(C16,E16,G16,I16,K16) -> 47449.602 | N16: =SUM(D16,F16,H16,J16,L16) -> 0 | O16: =M16+N16 -> 47449.602
A17: N | B17: PROFESSIONAL, SCIENTIFIC AND TECHNICAL SERVICES | C17: 1749950.5 | D17: 846955.3 | G17: 500094.57 | H17: 246388.5 | I17: 22274.208 | J17: 26058.58 | K17: 18776.796 | L17: 34205.711 | M17: =SUM(C17,E17,G17,I17,K17) -> 2291096 | N17: =SUM(D17,F17,H17,J17,L17) -> 1153608.1 | O17: =M17+N17 -> 3444704.1
A18: O | B18: ADMINISTRATIVE & SUPPORT SERVICES | C18: 215986.91 | D18: 40403.123 | G18: 79102.014 | H18: 25008.747 | I18: 5184.1953 | J18: 0 | K18: 7672.2133 | L18: 5093.4702 | M18: =SUM(C18,E18,G18,I18,K18) -> 307945.34 | N18: =SUM(D18,F18,H18,J18,L18) -> 70505.34 | O18: =M18+N18 -> 378450.68
A19: Q | B19: EDUCATION | C19: 721017.62 | D19: 736661.1 | G19: 176519.57 | H19: 132886.55 | I19: 7583.5048 | J19: 2471.8744 | K19: 29908.532 | L19: 15568.524 | M19: =SUM(C19,E19,G19,I19,K19) -> 935029.23 | N19: =SUM(D19,F19,H19,J19,L19) -> 887588.05 | O19: =M19+N19 -> 1822617.3
A20: R | B20: HUMAN HEALTH AND SOCIAL SERVICES | C20: 508435.03 | D20: 801401.28 | G20: 113825.6 | H20: 60409.924 | I20: 8538.0712 | J20: 5088.3989 | K20: 10618.292 | L20: 97028.241 | M20: =SUM(C20,E20,G20,I20,K20) -> 641416.99 | N20: =SUM(D20,F20,H20,J20,L20) -> 963927.85 | O20: =M20+N20 -> 1605344.8
A21: S | B21: OTHER SERVICES | C21: 1681377.2 | D21: 975602.39 | G21: 664665.24 | H21: 584228.72 | I21: 26718.626 | J21: 29827.159 | K21: 148930.76 | L21: 214634.97 | M21: =SUM(C21,E21,G21,I21,K21) -> 2521691.8 | N21: =SUM(D21,F21,H21,J21,L21) -> 1804293.2 | O21: =M21+N21 -> 4325985
B22: TOTAL | C22: =SUM(C4:C21) -> 9262897.8 | D22: =SUM(D4:D21) -> 4839276.9 | E22: =SUM(E4:E21) -> 15240449 | F22: =SUM(F4:F21) -> 3612219.4 | G22: =SUM(G4:G21) -> 8659440.5 | H22: =SUM(H4:H21) -> 6357889.2 | I22: =SUM(I4:I21) -> 394633.45 | J22: =SUM(J4:J21) -> 152697.01 | ... N22: =SUM(N4:N21) -> 16212877 | O22: =M22+N22 -> 51060936
A24: DISTRIBUTION OF WORKING POPULATION BY ECONOMIC ACTIVITY BY TYPE OF ENGAGEMENT AND BY SEX -Male
B25: Major Economic Activity | C25: Work for Pay/Wage | E25: Self employment (in farming) | G25: Self employment (non farming) | I25: Paid Apprentice | K25: UnPaid Household Worker | M25: TOTAL
C26: Total Male | E26: Total Male | G26: Total Male | I26: Total Male | K26: Total Male | M26: Total Male
A27: A | B27: AGRICULTURE | C27: 1289697 | E27: 15240449 | G27: 554942.03 | I27: 118512.38 | K27: 905177.65 | M27: 18108778
A28: B | B28: MINING AND QUARRYING | C28: 11838.893 | E28: 0 | G28: 62474.193 | I28: 4091.1137 | K28: 1158.0094 | M28: 79562.208
A29: C | B29: MANUFACTURING | C29: 569115.8 | E29: 0 | G29: 1715209.7 | I29: 95113.509 | K29: 78446.588 | M29: 2457885.6
A30: D | B30: ELECTRICITY, GAS, STEAM & AIR CONDITIONING SUPPLY | C30: 0 | E30: 0 | G30: 5144.2045 | I30: 0 | K30: 823.91988 | M30: 5968.1244
A31: E | B31: WATER SUPPLY, SEWERAGE, WASTE MANAGEMENT & REMEDIATION | C31: 33784.872 | E31: 0 | G31: 27390.178 | I31: 223.45651 | K31: 0 | M31: 61398.507
A32: F | B32: CONSTRUCTION | C32: 556355.76 | E32: 0 | G32: 627161.19 | I32: 28814.701 | K32: 9266.7895 | M32: 1221598.4
A33: G | B33: TRADE | C33: 433718.79 | E33: 0 | G33: 2539866.6 | I33: 53304.871 | K33: 51947.236 | M33: 3078837.5
A34: I | B34: ACCOMMODATION AND FOOD SERVICES | C34: 5113.2759 | E34: 0 | G34: 77274.656 | I34: 4285.2597 | K34: 8441.9303 | M34: 95115.121
A35: H | B35: TRANSPORTATION AND STORAGE | C35: 675231.09 | E35: 0 | G35: 1337922.2 | I35: 12686.297 | K35: 14033.059 | M35: 2039872.6
A36: J | B36: INFORMATION AND COMMUNICATION | C36: 159183.31 | E36: 0 | G36: 59251.046 | I36: 2366.7557 | K36: 0 | M36: 220801.12
A37: K | B37: ARTS, ENTERTAINMENTAND RECREATION | C37: 223890.75 | E37: 0 | G37: 24996.213 | I37: 4102.281 | K37: 0 | M37: 252989.24
A38: L | B38: FINANCIAL AND INSURANCE | C38: 428201.14 | E38: 0 | G38: 47254.433 | I38: 834.21728 | K38: 4334.032 | M38: 480623.82
... A44: S | B44: OTHER SERVICES | C44: 1681377.2 | E44: 0 | G44: 664665.24 | I44: 26718.626 | K44: 148930.76 | M44: 2521691.8
B45: TOTAL | C45: 9262897.8 | E45: 15240449 | G45: 8659440.5 | I45: 394633.45 | K45: 1290638.5 | M45: 34848059
A47: DISTRIBUTION OF WORKING POPULATION BY ECONOMIC ACTIVITY BY TYPE OF ENGAGEMENT AND BY SEX- Female
...

Sheet Employed=Full time+Undermployed
A1: ABSOLUTE DISTRIBUTION OF WORKING POPULATION BY ECONOMIC ACTIVITY BY TYPE OF ENGAGEMENT AND BY SEX
B2: Major Economic Activity | C2: Work for Pay/Wage | E2: Self employment (in farming) | G2: Self employment (non farming) | I2: Paid Apprentice | K2: UnPaid Household Worker | M2: TOTAL
C3: Male | D3: Female | E3: Male | F3: Female | G3: Male | H3: Female | I3: Male | J3: Female | K3: Male | L3: Female | M3: Male | N3: Female | O3: Male+Female
A4: A | B4: AGRICULTURE | C4: ='Work 40 Hrs-Full-Time employed'!C4+'Work 20-39 Hrs-Underemployed'!C4 -> 1625929.5 | D4: ='Work 40 Hrs-Full-Time employed'!D4+'Work 20-39 Hrs-Underemployed'!D4 -> 586196.1 | E4: ='Work 40 Hrs-Full-Time employed'!E4+'Work 20-39 Hrs-Underemployed'!E4 -> 19707988 | F4: ='Work 40 Hrs-Full-Time employed'!F4+'Work 20-39 Hrs-Underemployed'!F4 -> 5765684.7 | G4: ='Work 40 Hrs-Full-Time employed'!G4+'Work 20-39 Hrs-Underemployed'!G4 -> 775943.79 | H4: ='Work 40 Hrs-Full-Time employed'!H4+'Work 20-39 Hrs-Underemployed'!H4 -> 244118.07 | I4: ='Work 40 Hrs-Full-Time employed'!I4+'Work 20-39 Hrs-Underemployed'!I4 -> 151170.81 | J4: ='Work 40 Hrs-Full-Time employed'!J4+'Work 20-39 Hrs-Underemployed'!J4 -> 39398.869 | ... N4: ='Work 40 Hrs-Full-Time employed'!N4+'Work 20-39 Hrs-Underemployed'!N4 -> 8248817 | O4: =M4+N4 -> 32358233
A5: B | B5: MINING AND QUARRYING | C5: ='Work 40 Hrs-Full-Time employed'!C5+'Work 20-39 Hrs-Underemployed'!C5 -> 14869.693 | D5: ='Work 40 Hrs-Full-Time employed'!D5+'Work 20-39 Hrs-Underemployed'!D5 -> 0 | E5: ='Work 40 Hrs-Full-Time employed'!E5+'Work 20-39 Hrs-Underemployed'!E5 -> 0 | F5: ='Work 40 Hrs-Full-Time employed'!F5+'Work 20-39 Hrs-Underemployed'!F5 -> 0 | G5: ='Work 40 Hrs-Full-Time employed'!G5+'Work 20-39 Hrs-Underemployed'!G5 -> 82530.112 | H5: ='Work 40 Hrs-Full-Time employed'!H5+'Work 20-39 Hrs-Underemployed'!H5 -> 8696.8067 | I5: ='Work 40 Hrs-Full-Time employed'!I5+'Work 20-39 Hrs-Underemployed'!I5 -> 4436.7896 | J5: ='Work 40 Hrs-Full-Time employed'!J5+'Work 20-39 Hrs-Underemployed'!J5 -> 0 | ... N5: ='Work 40 Hrs-Full-Time employed'!N5+'Work 20-39 Hrs-Underemployed'!N5 -> 8696.8067 | O5: =M5+N5 -> 111691.41
A6: C | B6: MANUFACTURING | C6: ='Work 40 Hrs-Full-Time employed'!C6+'Work 20-39 Hrs-Underemployed'!C6 -> 653095.47 | D6: ='Work 40 Hrs-Full-Time employed'!D6+'Work 20-39 Hrs-Underemployed'!D6 -> 170444.92 | E6: ='Work 40 Hrs-Full-Time employed'!E6+'Work 20-39 Hrs-Underemployed'!E6 -> 0 | F6: ='Work 40 Hrs-Full-Time employed'!F6+'Work 20-39 Hrs-Underemployed'!F6 -> 0 | G6: ='Work 40 Hrs-Full-Time employed'!G6+'Work 20-39 Hrs-Underemployed'!G6 -> 2131972.5 | H6: ='Work 40 Hrs-Full-Time employed'!H6+'Work 20-39 Hrs-Underemployed'!H6 -> 1515545.3 | I6: ='Work 40 Hrs-Full-Time employed'!I6+'Work 20-39 Hrs-Underemployed'!I6 -> 125464.24 | J6: ='Work 40 Hrs-Full-Time employed'!J6+'Work 20-39 Hrs-Underemployed'!J6 -> 42002.383 | ... N6: ='Work 40 Hrs-Full-Time employed'!N6+'Work 20-39 Hrs-Underemployed'!N6 -> 1913884.9 | O6: =M6+N6 -> 4921867.9
A7: D | B7: ELECTRICITY, GAS, STEAM & AIR CONDITIONING SUPPLY | C7: ='Work 40 Hrs-Full-Time employed'!C7+'Work 20-39 Hrs-Underemployed'!C7 -> 0 | D7: ='Work 40 Hrs-Full-Time employed'!D7+'Work 20-39 Hrs-Underemployed'!D7 -> 0 | E7: ='Work 40 Hrs-Full-Time employed'!E7+'Work 20-39 Hrs-Underemployed'!E7 -> 0 | F7: ='Work 40 Hrs-Full-Time employed'!F7+'Work 20-39 Hrs-Underemployed'!F7 -> 0 | G7: ='Work 40 Hrs-Full-Time employed'!G7+'Work 20-39 Hrs-Underemployed'!G7 -> 6305.216 | H7: ='Work 40 Hrs-Full-Time employed'!H7+'Work 20-39 Hrs-Underemployed'!H7 -> 0 | I7: ='Work 40 Hrs-Full-Time employed'!I7+'Work 20-39 Hrs-Underemployed'!I7 -> 0 | J7: ='Work 40 Hrs-Full-Time employed'!J7+'Work 20-39 Hrs-Underemployed'!J7 -> 0 | ... N7: ='Work 40 Hrs-Full-Time employed'!N7+'Work 20-39 Hrs-Underemployed'!N7 -> 0 | O7: =M7+N7 -> 7129.1359
A8: E | B8: WATER SUPPLY, SEWERAGE, WASTE MANAGEMENT & REMEDIATION | C8: ='Work 40 Hrs-Full-Time employed'!C8+'Work 20-39 Hrs-Underemployed'!C8 -> 36004.318 | D8: ='Work 40 Hrs-Full-Time employed'!D8+'Work 20-39 Hrs-Underemployed'!D8 -> 7310.9119 | E8: ='Work 40 Hrs-Full-Time employed'!E8+'Work 20-39 Hrs-Underemployed'!E8 -> 0 | F8: ='Work 40 Hrs-Full-Time employed'!F8+'Work 20-39 Hrs-Underemployed'!F8 -> 0 | G8: ='Work 40 Hrs-Full-Time employed'!G8+'Work 20-39 Hrs-Underemployed'!G8 -> 30725.15 | H8: ='Work 40 Hrs-Full-Time employed'!H8+'Work 20-39 Hrs-Underemployed'!H8 -> 8065.9588 | I8: ='Work 40 Hrs-Full-Time employed'!I8+'Work 20-39 Hrs-Underemployed'!I8 -> 223.45651 | J8: ='Work 40 Hrs-Full-Time employed'!J8+'Work 20-39 Hrs-Underemployed'!J8 -> 0 | ... N8: ='Work 40 Hrs-Full-Time employed'!N8+'Work 20-39 Hrs-Underemployed'!N8 -> 16658.591 | O8: =M8+N8 -> 83611.515
A9: F | B9: CONSTRUCTION | C9: ='Work 40 Hrs-Full-Time employed'!C9+'Work 20-39 Hrs-Underemployed'!C9 -> 702180.72 | D9: ='Work 40 Hrs-Full-Time employed'!D9+'Work 20-39 Hrs-Underemployed'!D9 -> 19787.59 | E9: ='Work 40 Hrs-Full-Time employed'!E9+'Work 20-39 Hrs-Underemployed'!E9 -> 0 | F9: ='Work 40 Hrs-Full-Time employed'!F9+'Work 20-39 Hrs-Underemployed'!F9 -> 0 | G9: ='Work 40 Hrs-Full-Time employed'!G9+'Work 20-39 Hrs-Underemployed'!G9 -> 822125.89 | H9: ='Work 40 Hrs-Full-Time employed'!H9+'Work 20-39 Hrs-Underemployed'!H9 -> 11006.43 | I9: ='Work 40 Hrs-Full-Time employed'!I9+'Work 20-39 Hrs-Underemployed'!I9 -> 44977.763 | J9: ='Work 40 Hrs-Full-Time employed'!J9+'Work 20-39 Hrs-Underemployed'!J9 -> 0 | ... N9: ='Work 40 Hrs-Full-Time employed'!N9+'Work 20-39 Hrs-Underemployed'!N9 -> 32598.974 | O9: =M9+N9 -> 1613947.8
A10: G | B10: TRADE | C10: ='Work 40 Hrs-Full-Time employed'!C10+'Work 20-39 Hrs-Underemployed'!C10 -> 515381.8 | D10: ='Work 40 Hrs-Full-Time employed'!D10+'Work 20-39 Hrs-Underemployed'!D10 -> 791406.36 | E10: ='Work 40 Hrs-Full-Time employed'!E10+'Work 20-39 Hrs-Underemployed'!E10 -> 0 | F10: ='Work 40 Hrs-Full-Time employed'!F10+'Work 20-39 Hrs-Underemployed'!F10 -> 0 | G10: ='Work 40 Hrs-Full-Time employed'!G10+'Work 20-39 Hrs-Underemployed'!G10 -> 2935747.6 | H10: ='Work 40 Hrs-Full-Time employed'!H10+'Work 20-39 Hrs-Underemployed'!H10 -> 5434084.5 | I10: ='Work 40 Hrs-Full-Time employed'!I10+'Work 20-39 Hrs-Underemployed'!I10 -> 70475.197 | J10: ='Work 40 Hrs-Full-Time employed'!J10+'Work 20-39 Hrs-Underemployed'!J10 -> 47969.067 | ... N10: ='Work 40 Hrs-Full-Time employed'!N10+'Work 20-39 Hrs-Underemployed'!N10 -> 6423773.9 | O10: =M10+N10 -> 10014794
A11: I | B11: ACCOMMODATION AND FOOD SERVICES | C11: ='Work 40 Hrs-Full-Time employed'!C11+'Work 20-39 Hrs-Underemployed'!C11 -> 5113.2759 | D11: ='Work 40 Hrs-Full-Time employed'!D11+'Work 20-39 Hrs-Underemployed'!D11 -> 2599.3037 | E11: ='Work 40 Hrs-Full-Time employed'!E11+'Work 20-39 Hrs-Underemployed'!E11 -> 0 | F11: ='Work 40 Hrs-Full-Time employed'!F11+'Work 20-39 Hrs-Underemployed'!F11 -> 0 | G11: ='Work 40 Hrs-Full-Time employed'!G11+'Work 20-39 Hrs-Underemployed'!G11 -> 92446.615 | H11: ='Work 40 Hrs-Full-Time employed'!H11+'Work 20-39 Hrs-Underemployed'!H11 -> 720800.27 | I11: ='Work 40 Hrs-Full-Time employed'!I11+'Work 20-39 Hrs-Underemployed'!I11 -> 4285.2597 | J11: ='Work 40 Hrs-Full-Time employed'!J11+'Work 20-39 Hrs-Underemployed'!J11 -> 11335.214 | ... N11: ='Work 40 Hrs-Full-Time employed'!N11+'Work 20-39 Hrs-Underemployed'!N11 -> 820123.63 | O11: =M11+N11 -> 934632.09
A12: H | B12: TRANSPORTATION AND STORAGE | C12: ='Work 40 Hrs-Full-Time employed'!C12+'Work 20-39 Hrs-Underemployed'!C12 -> 832922.6 | D12: ='Work 40 Hrs-Full-Time employed'!D12+'Work 20-39 Hrs-Underemployed'!D12 -> 14560.258 | E12: ='Work 40 Hrs-Full-Time employed'!E12+'Work 20-39 Hrs-Underemployed'!E12 -> 0 | F12: ='Work 40 Hrs-Full-Time employed'!F12+'Work 20-39 Hrs-Underemployed'!F12 -> 0 | G12: ='Work 40 Hrs-Full-Time employed'!G12+'Work 20-39 Hrs-Underemployed'!G12 -> 1501105 | H12: ='Work 40 Hrs-Full-Time employed'!H12+'Work 20-39 Hrs-Underemployed'!H12 -> 8594.5615 | I12: ='Work 40 Hrs-Full-Time employed'!I12+'Work 20-39 Hrs-Underemployed'!I12 -> 14141.086 | J12: ='Work 40 Hrs-Full-Time employed'!J12+'Work 20-39 Hrs-Underemployed'!J12 -> 0 | ... N12: ='Work 40 Hrs-Full-Time employed'!N12+'Work 20-39 Hrs-Underemployed'!N12 -> 23154.82 | O12: =M12+N12 -> 2390079.4
A13: J | B13: INFORMATION AND COMMUNICATION | C13: ='Work 40 Hrs-Full-Time employed'!C13+'Work 20-39 Hrs-Underemployed'!C13 -> 215514.28 | D13: ='Work 40 Hrs-Full-Time employed'!D13+'Work 20-39 Hrs-Underemployed'!D13 -> 76491.88 | E13: ='Work 40 Hrs-Full-Time employed'!E13+'Work 20-39 Hrs-Underemployed'!E13 -> 0 | F13: ='Work 40 Hrs-Full-Time employed'!F13+'Work 20-39 Hrs-Underemployed'!F13 -> 0 | G13: ='Work 40 Hrs-Full-Time employed'!G13+'Work 20-39 Hrs-Underemployed'!G13 -> 84980.474 | H13: ='Work 40 Hrs-Full-Time employed'!H13+'Work 20-39 Hrs-Underemployed'!H13 -> 5759.1987 | I13: ='Work 40 Hrs-Full-Time employed'!I13+'Work 20-39 Hrs-Underemployed'!I13 -> 4388.0154 | J13: ='Work 40 Hrs-Full-Time employed'!J13+'Work 20-39 Hrs-Underemployed'!J13 -> 1309.2954 | ... N13: ='Work 40 Hrs-Full-Time employed'!N13+'Work 20-39 Hrs-Underemployed'!N13 -> 83560.374 | O13: =M13+N13 -> 388443.14
A14: K | B14: ARTS, ENTERTAINMENTAND RECREATION | C14: ='Work 40 Hrs-Full-Time employed'!C14+'Work 20-39 Hrs-Underemployed'!C14 -> 319107.41 | D14: ='Work 40 Hrs-Full-Time employed'!D14+'Work 20-39 Hrs-Underemployed'!D14 -> 79664.766 | E14: ='Work 40 Hrs-Full-Time employed'!E14+'Work 20-39 Hrs-Underemployed'!E14 -> 0 | F14: ='Work 40 Hrs-Full-Time employed'!F14+'Work 20-39 Hrs-Underemployed'!F14 -> 0 | G14: ='Work 40 Hrs-Full-Time employed'!G14+'Work 20-39 Hrs-Underemployed'!G14 -> 37313.342 | H14: ='Work 40 Hrs-Full-Time employed'!H14+'Work 20-39 Hrs-Underemployed'!H14 -> 4733.0756 | I14: ='Work 40 Hrs-Full-Time employed'!I14+'Work 20-39 Hrs-Underemployed'!I14 -> 4102.281 | J14: ='Work 40 Hrs-Full-Time employed'!J14+'Work 20-39 Hrs-Underemployed'!J14 -> 0 | ... N14: ='Work 40 Hrs-Full-Time employed'!N14+'Work 20-39 Hrs-Underemployed'!N14 -> 84397.842 | O14: =M14+N14 -> 444920.88
A15: L | B15: FINANCIAL AND INSURANCE | C15: ='Work 40 Hrs-Full-Time employed'!C15+'Work 20-39 Hrs-Underemployed'!C15 -> 512799.91 | D15: ='Work 40 Hrs-Full-Time employed'!D15+'Work 20-39 Hrs-Underemployed'!D15 -> 308185.33 | E15: ='Work 40 Hrs-Full-Time employed'!E15+'Work 20-39 Hrs-Underemployed'!E15 -> 0 | F15: ='Work 40 Hrs-Full-Time employed'!F15+'Work 20-39 Hrs-Underemployed'!F15 -> 0 | G15: ='Work 40 Hrs-Full-Time employed'!G15+'Work 20-39 Hrs-Underemployed'!G15 -> 49340.163 | H15: ='Work 40 Hrs-Full-Time employed'!H15+'Work 20-39 Hrs-Underemployed'!H15 -> 4378.5166 | I15: ='Work 40 Hrs-Full-Time employed'!I15+'Work 20-39 Hrs-Underemployed'!I15 -> 834.21728 | J15: ='Work 40 Hrs-Full-Time employed'!J15+'Work 20-39 Hrs-Underemployed'!J15 -> 0 | ... N15: ='Work 40 Hrs-Full-Time employed'!N15+'Work 20-39 Hrs-Underemployed'!N15 -> 315569.61 | O15: =M15+N15 -> 884079.96
... A21: S | B21: OTHER SERVICES | C21: ='Work 40 Hrs-Full-Time employed'!C21+'Work 20-39 Hrs-Underemployed'!C21 -> 2070712.8 | D21: ='Work 40 Hrs-Full-Time employed'!D21+'Work 20-39 Hrs-Underemployed'!D21 -> 1222325.3 | E21: ='Work 40 Hrs-Full-Time employed'!E21+'Work 20-39 Hrs-Underemployed'!E21 -> 0 | F21: ='Work 40 Hrs-Full-Time employed'!F21+'Work 20-39 Hrs-Underemployed'!F21 -> 0 | G21: ='Work 40 Hrs-Full-Time employed'!G21+'Work 20-39 Hrs-Underemployed'!G21 -> 852580.44 | H21: ='Work 40 Hrs-Full-Time employed'!H21+'Work 20-39 Hrs-Underemployed'!H21 -> 828450.64 | I21: ='Work 40 Hrs-Full-Time employed'!I21+'Work 20-39 Hrs-Underemployed'!I21 -> 38890.338 | J21: ='Work 40 Hrs-Full-Time employed'!J21+'Work 20-39 Hrs-Underemployed'!J21 -> 35458.94 | ... N21: ='Work 40 Hrs-Full-Time employed'!N21+'Work 20-39 Hrs-Underemployed'!N21 -> 2408881.5 | O21: =M21+N21 -> 5591699.1
B22: TOTAL | C22: =SUM(C4:C21) -> 11386416 | D22: =SUM(D4:D21) -> 6495084.9 | E22: =SUM(E4:E21) -> 19707988 | F22: =SUM(F4:F21) -> 5765684.7 | G22: =SUM(G4:G21) -> 10562040 | H22: =SUM(H4:H21) -> 9438176.3 | I22: =SUM(I4:I21) -> 544283.11 | J22: =SUM(J4:J21) -> 234718.61 | ... N22: =SUM(N4:N21) -> 24514693 | O22: =M22+N22 -> 69090007
A24: DISTRIBUTION OF WORKING POPULATION BY ECONOMIC ACTIVITY BY TYPE OF ENGAGEMENT AND BY SEX -Male
B25: Major Economic Activity | C25: Work for Pay/Wage | E25: Self employment (in farming) | G25: Self employment (non farming) | I25: Paid Apprentice | K25: UnPaid Household Worker | M25: TOTAL
C26: Total Male | E26: Total Male | G26: Total Male | I26: Total Male | K26: Total Male | M26: Total Male
A27: A | B27: AGRICULTURE | C27: 1625929.5 | E27: 19707988 | G27: 775943.79 | I27: 151170.81 | K27: 1848383.9 | M27: 24109416
A28: B | B28: MINING AND QUARRYING | C28: 14869.693 | E28: 0 | G28: 82530.112 | I28: 4436.7896 | K28: 1158.0094 | M28: 102994.6
A29: C | B29: MANUFACTURING | C29: 653095.47 | E29: 0 | G29: 2131972.5 | I29: 125464.24 | K29: 97450.826 | M29: 3007983.1
A30: D | B30: ELECTRICITY, GAS, STEAM & AIR CONDITIONING SUPPLY | C30: 0 | E30: 0 | G30: 6305.216 | I30: 0 | K30: 823.91988 | M30: 7129.1359
A31: E | B31: WATER SUPPLY, SEWERAGE, WASTE MANAGEMENT & REMEDIATION | C31: 36004.318 | E31: 0 | G31: 30725.15 | I31: 223.45651 | K31: 0 | M31: 66952.924
A32: F | B32: CONSTRUCTION | C32: 702180.72 | E32: 0 | G32: 822125.89 | I32: 44977.763 | K32: 12064.505 | M32: 1581348.9
A33: G | B33: TRADE | C33: 515381.8 | E33: 0 | G33: 2935747.6 | I33: 70475.197 | K33: 69415.903 | M33: 3591020.5
A34: I | B34: ACCOMMODATION AND FOOD SERVICES | C34: 5113.2759 | E34: 0 | G34: 92446.615 | I34: 4285.2597 | K34: 12663.316 | M34: 114508.47
A35: H | B35: TRANSPORTATION AND STORAGE | C35: 832922.6 | E35: 0 | G35: 1501105 | I35: 14141.086 | K35: 18755.86 | M35: 2366924.5
A36: J | B36: INFORMATION AND COMMUNICATION | C36: 215514.28 | E36: 0 | G36: 84980.474 | I36: 4388.0154 | K36: 0 | M36: 304882.77
A37: K | B37: ARTS, ENTERTAINMENTAND RECREATION | C37: 319107.41 | E37: 0 | G37: 37313.342 | I37: 4102.281 | K37: 0 | M37: 360523.04
A38: L | B38: FINANCIAL AND INSURANCE | C38: 512799.91 | E38: 0 | G38: 49340.163 | I38: 834.21728 | K38: 5536.0638 | M38: 568510.36
... A44: S | B44: OTHER SERVICES | C44: 2070712.8 | E44: 0 | G44: 852580.44 | I44: 38890.338 | K44: 220633.93 | M44: 3182817.6
B45: TOTAL | C45: 11386416 | E45: 19707988 | G45: 10562040 | I45: 544283.11 | K45: 2374586.4 | M45: 44575313
A47: DISTRIBUTION OF WORKING POPULATION BY ECONOMIC ACTIVITY BY TYPE OF ENGAGEMENT AND BY SEX- Female
B48: Major Economic Activity | C48: Work for Pay/Wage | E48: Self employment (in farming) | G48: Self employment (non farming) | I48: Paid Apprentice | K48: UnPaid Household Worker | M48: TOTAL
C49: Female | E49: Female | G49: Female | I49: Female | K49: Female | M49: Female
A50: A | B50: AGRICULTURE | C50: 586196.1 | E50: 5765684.7 | G50: 244118.07 | I50: 39398.869 | K50: 1613419.3 | M50: 8248817
A51: B | B51: MINING AND QUARRYING | C51: 0 | E51: 0 | G51: 8696.8067 | I51: 0 | K51: 0 | M51: 8696.8067
A52: C | B52: MANUFACTURING | C52: 170444.92 | E52: 0 | G52: 1515545.3 | I52: 42002.383 | K52: 185892.27 | M52: 1913884.9
...

Sheet All-Employed+Unemployed(<20hr) 
A1: ABSOLUTE DISTRIBUTION OF WORKING POPULATION BY ECONOMIC ACTIVITY BY TYPE OF ENGAGEMENT AND BY SEX
B2: Major Economic Activity | C2: Work for Pay/Wage | E2: Self employment (in farming) | G2: Self employment (non farming) | I2: Paid Apprentice | K2: UnPaid Household Worker | M2: TOTAL
C3: Male | D3: Female | E3: Male | F3: Female | G3: Male | H3: Female | I3: Male | J3: Female | K3: Male | L3: Female | M3: Male | N3: Female | O3: Male+Female
A4: A | B4: AGRICULTURE | C4: ='Work 1-19 Hrs-Unemployed'!C4+'Work 20-39 Hrs-Underemployed'!C4+'Work 40 Hrs-Full-Time employed'!C4 -> 1770971.1 | D4: ='Work 1-19 Hrs-Unemployed'!D4+'Work 20-39 Hrs-Underemployed'!D4+'Work 40 Hrs-Full-Time employed'!D4 -> 693298.1 | E4: ='Work 1-19 Hrs-Unemployed'!E4+'Work 20-39 Hrs-Underemployed'!E4+'Work 40 Hrs-Full-Time employed'!E4 -> 22272459 | F4: ='Work 1-19 Hrs-Unemployed'!F4+'Work 20-39 Hrs-Underemployed'!F4+'Work 40 Hrs-Full-Time employed'!F4 -> 7384836.1 | G4: ='Work 1-19 Hrs-Unemployed'!G4+'Work 20-39 Hrs-Underemployed'!G4+'Work 40 Hrs-Full-Time employed'!G4 -> 874104.03 | H4: ='Work 1-19 Hrs-Unemployed'!H4+'Work 20-39 Hrs-Underemployed'!H4+'Work 40 Hrs-Full-Time employed'!H4 -> 303341.27 | I4: ='Work 1-19 Hrs-Unemployed'!I4+'Work 20-39 Hrs-Underemployed'!I4+'Work 40 Hrs-Full-Time employed'!I4 -> 171857.13 | J4: ='Work 1-19 Hrs-Unemployed'!J4+'Work 20-39 Hrs-Underemployed'!J4+'Work 40 Hrs-Full-Time employed'!J4 -> 45900.413 | ... L4: ='Work 1-19 Hrs-Unemployed'!L4+'Work 20-39 Hrs-Underemployed'!L4+'Work 40 Hrs-Full-Time employed'!L4 -> 1816068.3 | M4: =SUM(C4,E4,G4,I4,K4) -> 27125486 | N4: =SUM(D4,F4,H4,J4,L4) -> 10243444 | O4: =M4+N4 -> 37368930
A5: B | B5: MINING AND QUARRYING | C5: ='Work 1-19 Hrs-Unemployed'!C5+'Work 20-39 Hrs-Underemployed'!C5+'Work 40 Hrs-Full-Time employed'!C5 -> 24549.621 | D5: ='Work 1-19 Hrs-Unemployed'!D5+'Work 20-39 Hrs-Underemployed'!D5+'Work 40 Hrs-Full-Time employed'!D5 -> 362.13411 | G5: ='Work 1-19 Hrs-Unemployed'!G5+'Work 20-39 Hrs-Underemployed'!G5+'Work 40 Hrs-Full-Time employed'!G5 -> 87660.722 | H5: ='Work 1-19 Hrs-Unemployed'!H5+'Work 20-39 Hrs-Underemployed'!H5+'Work 40 Hrs-Full-Time employed'!H5 -> 11537.836 | I5: ='Work 1-19 Hrs-Unemployed'!I5+'Work 20-39 Hrs-Underemployed'!I5+'Work 40 Hrs-Full-Time employed'!I5 -> 4436.7896 | J5: ='Work 1-19 Hrs-Unemployed'!J5+'Work 20-39 Hrs-Underemployed'!J5+'Work 40 Hrs-Full-Time employed'!J5 -> 0 | K5: ='Work 1-19 Hrs-Unemployed'!K5+'Work 20-39 Hrs-Underemployed'!K5+'Work 40 Hrs-Full-Time employed'!K5 -> 1158.0094 | L5: ='Work 1-19 Hrs-Unemployed'!L5+'Work 20-39 Hrs-Underemployed'!L5+'Work 40 Hrs-Full-Time employed'!L5 -> 0 | M5: =SUM(C5,E5,G5,I5,K5) -> 117805.14 | N5: =SUM(D5,F5,H5,J5,L5) -> 11899.97 | O5: =M5+N5 -> 129705.11
A6: C | B6: MANUFACTURING | C6: ='Work 1-19 Hrs-Unemployed'!C6+'Work 20-39 Hrs-Underemployed'!C6+'Work 40 Hrs-Full-Time employed'!C6 -> 722310.71 | D6: ='Work 1-19 Hrs-Unemployed'!D6+'Work 20-39 Hrs-Underemployed'!D6+'Work 40 Hrs-Full-Time employed'!D6 -> 213841.34 | G6: ='Work 1-19 Hrs-Unemployed'!G6+'Work 20-39 Hrs-Underemployed'!G6+'Work 40 Hrs-Full-Time employed'!G6 -> 2257392 | H6: ='Work 1-19 Hrs-Unemployed'!H6+'Work 20-39 Hrs-Underemployed'!H6+'Work 40 Hrs-Full-Time employed'!H6 -> 1680389.1 | I6: ='Work 1-19 Hrs-Unemployed'!I6+'Work 20-39 Hrs-Underemployed'!I6+'Work 40 Hrs-Full-Time employed'!I6 -> 135937.19 | J6: ='Work 1-19 Hrs-Unemployed'!J6+'Work 20-39 Hrs-Underemployed'!J6+'Work 40 Hrs-Full-Time employed'!J6 -> 44582.721 | K6: ='Work 1-19 Hrs-Unemployed'!K6+'Work 20-39 Hrs-Underemployed'!K6+'Work 40 Hrs-Full-Time employed'!K6 -> 133742.68 | L6: ='Work 1-19 Hrs-Unemployed'!L6+'Work 20-39 Hrs-Underemployed'!L6+'Work 40 Hrs-Full-Time employed'!L6 -> 222445.76 | M6: =SUM(C6,E6,G6,I6,K6) -> 3249382.5 | N6: =SUM(D6,F6,H6,J6,L6) -> 2161258.9 | O6: =M6+N6 -> 5410641.4
A7: D | B7: ELECTRICITY, GAS, STEAM & AIR CONDITIONING SUPPLY | G7: ='Work 1-19 Hrs-Unemployed'!G7+'Work 20-39 Hrs-Underemployed'!G7+'Work 40 Hrs-Full-Time employed'!G7 -> 8228.1533 | H7: ='Work 1-19 Hrs-Unemployed'!H7+'Work 20-39 Hrs-Underemployed'!H7+'Work 40 Hrs-Full-Time employed'!H7 -> 0 | K7: ='Work 1-19 Hrs-Unemployed'!K7+'Work 20-39 Hrs-Underemployed'!K7+'Work 40 Hrs-Full-Time employed'!K7 -> 2263.4221 | L7: ='Work 1-19 Hrs-Unemployed'!L7+'Work 20-39 Hrs-Underemployed'!L7+'Work 40 Hrs-Full-Time employed'!L7 -> 0 | M7: =SUM(C7,E7,G7,I7,K7) -> 10491.575 | N7: =SUM(D7,F7,H7,J7,L7) -> 0 | O7: =M7+N7 -> 10491.575
A8: E | B8: WATER SUPPLY, SEWERAGE, WASTE MANAGEMENT & REMEDIATION | C8: ='Work 1-19 Hrs-Unemployed'!C8+'Work 20-39 Hrs-Underemployed'!C8+'Work 40 Hrs-Full-Time employed'!C8 -> 39726.47 | D8: ='Work 1-19 Hrs-Unemployed'!D8+'Work 20-39 Hrs-Underemployed'!D8+'Work 40 Hrs-Full-Time employed'!D8 -> 9388.0735 | G8: ='Work 1-19 Hrs-Unemployed'!G8+'Work 20-39 Hrs-Underemployed'!G8+'Work 40 Hrs-Full-Time employed'!G8 -> 30725.15 | H8: ='Work 1-19 Hrs-Unemployed'!H8+'Work 20-39 Hrs-Underemployed'!H8+'Work 40 Hrs-Full-Time employed'!H8 -> 9460.8575 | I8: ='Work 1-19 Hrs-Unemployed'!I8+'Work 20-39 Hrs-Underemployed'!I8+'Work 40 Hrs-Full-Time employed'!I8 -> 223.45651 | J8: ='Work 1-19 Hrs-Unemployed'!J8+'Work 20-39 Hrs-Underemployed'!J8+'Work 40 Hrs-Full-Time employed'!J8 -> 0 | K8: ='Work 1-19 Hrs-Unemployed'!K8+'Work 20-39 Hrs-Underemployed'!K8+'Work 40 Hrs-Full-Time employed'!K8 -> 0 | L8: ='Work 1-19 Hrs-Unemployed'!L8+'Work 20-39 Hrs-Underemployed'!L8+'Work 40 Hrs-Full-Time employed'!L8 -> 1281.7205 | M8: =SUM(C8,E8,G8,I8,K8) -> 70675.076 | N8: =SUM(D8,F8,H8,J8,L8) -> 20130.652 | O8: =M8+N8 -> 90805.728
A9: F | B9: CONSTRUCTION | C9: ='Work 1-19 Hrs-Unemployed'!C9+'Work 20-39 Hrs-Underemployed'!C9+'Work 40 Hrs-Full-Time employed'!C9 -> 769127.24 | D9: ='Work 1-19 Hrs-Unemployed'!D9+'Work 20-39 Hrs-Underemployed'!D9+'Work 40 Hrs-Full-Time employed'!D9 -> 26337.989 | G9: ='Work 1-19 Hrs-Unemployed'!G9+'Work 20-39 Hrs-Underemployed'!G9+'Work 40 Hrs-Full-Time employed'!G9 -> 866409.57 | H9: ='Work 1-19 Hrs-Unemployed'!H9+'Work 20-39 Hrs-Underemployed'!H9+'Work 40 Hrs-Full-Time employed'!H9 -> 13051.883 | I9: ='Work 1-19 Hrs-Unemployed'!I9+'Work 20-39 Hrs-Underemployed'!I9+'Work 40 Hrs-Full-Time employed'!I9 -> 46251.983 | J9: ='Work 1-19 Hrs-Unemployed'!J9+'Work 20-39 Hrs-Underemployed'!J9+'Work 40 Hrs-Full-Time employed'!J9 -> 0 | K9: ='Work 1-19 Hrs-Unemployed'!K9+'Work 20-39 Hrs-Underemployed'!K9+'Work 40 Hrs-Full-Time employed'!K9 -> 22495.246 | L9: ='Work 1-19 Hrs-Unemployed'!L9+'Work 20-39 Hrs-Underemployed'!L9+'Work 40 Hrs-Full-Time employed'!L9 -> 1804.9539 | M9: =SUM(C9,E9,G9,I9,K9) -> 1704284 | N9: =SUM(D9,F9,H9,J9,L9) -> 41194.825 | O9: =M9+N9 -> 1745478.9
A10: G | B10: TRADE | C10: ='Work 1-19 Hrs-Unemployed'!C10+'Work 20-39 Hrs-Underemployed'!C10+'Work 40 Hrs-Full-Time employed'!C10 -> 570214.96 | D10: ='Work 1-19 Hrs-Unemployed'!D10+'Work 20-39 Hrs-Underemployed'!D10+'Work 40 Hrs-Full-Time employed'!D10 -> 878597.94 | G10: ='Work 1-19 Hrs-Unemployed'!G10+'Work 20-39 Hrs-Underemployed'!G10+'Work 40 Hrs-Full-Time employed'!G10 -> 3065790 | H10: ='Work 1-19 Hrs-Unemployed'!H10+'Work 20-39 Hrs-Underemployed'!H10+'Work 40 Hrs-Full-Time employed'!H10 -> 5913170 | I10: ='Work 1-19 Hrs-Unemployed'!I10+'Work 20-39 Hrs-Underemployed'!I10+'Work 40 Hrs-Full-Time employed'!I10 -> 79408.854 | J10: ='Work 1-19 Hrs-Unemployed'!J10+'Work 20-39 Hrs-Underemployed'!J10+'Work 40 Hrs-Full-Time employed'!J10 -> 50965.324 | K10: ='Work 1-19 Hrs-Unemployed'!K10+'Work 20-39 Hrs-Underemployed'!K10+'Work 40 Hrs-Full-Time employed'!K10 -> 91898.981 | L10: ='Work 1-19 Hrs-Unemployed'!L10+'Work 20-39 Hrs-Underemployed'!L10+'Work 40 Hrs-Full-Time employed'!L10 -> 184985.96 | M10: =SUM(C10,E10,G10,I10,K10) -> 3807312.8 | N10: =SUM(D10,F10,H10,J10,L10) -> 7027719.2 | O10: =M10+N10 -> 10835032
A11: I | B11: ACCOMMODATION AND FOOD SERVICES | C11: ='Work 1-19 Hrs-Unemployed'!C11+'Work 20-39 Hrs-Underemployed'!C11+'Work 40 Hrs-Full-Time employed'!C11 -> 5113.2759 | D11: ='Work 1-19 Hrs-Unemployed'!D11+'Work 20-39 Hrs-Underemployed'!D11+'Work 40 Hrs-Full-Time employed'!D11 -> 2599.3037 | G11: ='Work 1-19 Hrs-Unemployed'!G11+'Work 20-39 Hrs-Underemployed'!G11+'Work 40 Hrs-Full-Time employed'!G11 -> 94524.496 | H11: ='Work 1-19 Hrs-Unemployed'!H11+'Work 20-39 Hrs-Underemployed'!H11+'Work 40 Hrs-Full-Time employed'!H11 -> 819150.55 | I11: ='Work 1-19 Hrs-Unemployed'!I11+'Work 20-39 Hrs-Underemployed'!I11+'Work 40 Hrs-Full-Time employed'!I11 -> 4285.2597 | J11: ='Work 1-19 Hrs-Unemployed'!J11+'Work 20-39 Hrs-Underemployed'!J11+'Work 40 Hrs-Full-Time employed'!J11 -> 14714.998 | K11: ='Work 1-19 Hrs-Unemployed'!K11+'Work 20-39 Hrs-Underemployed'!K11+'Work 40 Hrs-Full-Time employed'!K11 -> 13071.608 | L11: ='Work 1-19 Hrs-Unemployed'!L11+'Work 20-39 Hrs-Underemployed'!L11+'Work 40 Hrs-Full-Time employed'!L11 -> 98648.257 | M11: =SUM(C11,E11,G11,I11,K11) -> 116994.64 | N11: =SUM(D11,F11,H11,J11,L11) -> 935113.11 | O11: =M11+N11 -> 1052107.7
A12: H | B12: TRANSPORTATION AND STORAGE | C12: ='Work 1-19 Hrs-Unemployed'!C12+'Work 20-39 Hrs-Underemployed'!C12+'Work 40 Hrs-Full-Time employed'!C12 -> 876302.67 | D12: ='Work 1-19 Hrs-Unemployed'!D12+'Work 20-39 Hrs-Underemployed'!D12+'Work 40 Hrs-Full-Time employed'!D12 -> 14783.703 | G12: ='Work 1-19 Hrs-Unemployed'!G12+'Work 20-39 Hrs-Underemployed'!G12+'Work 40 Hrs-Full-Time employed'!G12 -> 1552087.3 | H12: ='Work 1-19 Hrs-Unemployed'!H12+'Work 20-39 Hrs-Underemployed'!H12+'Work 40 Hrs-Full-Time employed'!H12 -> 9398.452 | I12: ='Work 1-19 Hrs-Unemployed'!I12+'Work 20-39 Hrs-Underemployed'!I12+'Work 40 Hrs-Full-Time employed'!I12 -> 14371.921 | J12: ='Work 1-19 Hrs-Unemployed'!J12+'Work 20-39 Hrs-Underemployed'!J12+'Work 40 Hrs-Full-Time employed'!J12 -> 0 | K12: ='Work 1-19 Hrs-Unemployed'!K12+'Work 20-39 Hrs-Underemployed'!K12+'Work 40 Hrs-Full-Time employed'!K12 -> 20833.461 | L12: ='Work 1-19 Hrs-Unemployed'!L12+'Work 20-39 Hrs-Underemployed'!L12+'Work 40 Hrs-Full-Time employed'!L12 -> 2079.0304 | M12: =SUM(C12,E12,G12,I12,K12) -> 2463595.4 | N12: =SUM(D12,F12,H12,J12,L12) -> 26261.186 | O12: =M12+N12 -> 2489856.6
A13: J | B13: INFORMATION AND COMMUNICATION | C13: ='Work 1-19 Hrs-Unemployed'!C13+'Work 20-39 Hrs-Underemployed'!C13+'Work 40 Hrs-Full-Time employed'!C13 -> 227649.77 | D13: ='Work 1-19 Hrs-Unemployed'!D13+'Work 20-39 Hrs-Underemployed'!D13+'Work 40 Hrs-Full-Time employed'!D13 -> 84110.261 | G13: ='Work 1-19 Hrs-Unemployed'!G13+'Work 20-39 Hrs-Underemployed'!G13+'Work 40 Hrs-Full-Time employed'!G13 -> 97679.708 | H13: ='Work 1-19 Hrs-Unemployed'!H13+'Work 20-39 Hrs-Underemployed'!H13+'Work 40 Hrs-Full-Time employed'!H13 -> 6494.1285 | I13: ='Work 1-19 Hrs-Unemployed'!I13+'Work 20-39 Hrs-Underemployed'!I13+'Work 40 Hrs-Full-Time employed'!I13 -> 4388.0154 | J13: ='Work 1-19 Hrs-Unemployed'!J13+'Work 20-39 Hrs-Underemployed'!J13+'Work 40 Hrs-Full-Time employed'!J13 -> 1309.2954 | K13: ='Work 1-19 Hrs-Unemployed'!K13+'Work 20-39 Hrs-Underemployed'!K13+'Work 40 Hrs-Full-Time employed'!K13 -> 2524.9737 | L13: ='Work 1-19 Hrs-Unemployed'!L13+'Work 20-39 Hrs-Underemployed'!L13+'Work 40 Hrs-Full-Time employed'!L13 -> 0 | M13: =SUM(C13,E13,G13,I13,K13) -> 332242.47 | N13: =SUM(D13,F13,H13,J13,L13) -> 91913.685 | O13: =M13+N13 -> 424156.15
A14: K | B14: ARTS, ENTERTAINMENTAND RECREATION | C14: ='Work 1-19 Hrs-Unemployed'!C14+'Work 20-39 Hrs-Underemployed'!C14+'Work 40 Hrs-Full-Time employed'!C14 -> 383746.81 | D14: ='Work 1-19 Hrs-Unemployed'!D14+'Work 20-39 Hrs-Underemployed'!D14+'Work 40 Hrs-Full-Time employed'!D14 -> 120811.54 | G14: ='Work 1-19 Hrs-Unemployed'!G14+'Work 20-39 Hrs-Underemployed'!G14+'Work 40 Hrs-Full-Time employed'!G14 -> 42662.781 | H14: ='Work 1-19 Hrs-Unemployed'!H14+'Work 20-39 Hrs-Underemployed'!H14+'Work 40 Hrs-Full-Time employed'!H14 -> 5834.1718 | I14: ='Work 1-19 Hrs-Unemployed'!I14+'Work 20-39 Hrs-Underemployed'!I14+'Work 40 Hrs-Full-Time employed'!I14 -> 4102.281 | J14: ='Work 1-19 Hrs-Unemployed'!J14+'Work 20-39 Hrs-Underemployed'!J14+'Work 40 Hrs-Full-Time employed'!J14 -> 0 | M14: =SUM(C14,E14,G14,I14,K14) -> 430511.87 | N14: =SUM(D14,F14,H14,J14,L14) -> 126645.71 | O14: =M14+N14 -> 557157.58
A15: L | B15: FINANCIAL AND INSURANCE | C15: ='Work 1-19 Hrs-Unemployed'!C15+'Work 20-39 Hrs-Underemployed'!C15+'Work 40 Hrs-Full-Time employed'!C15 -> 588885.51 | D15: ='Work 1-19 Hrs-Unemployed'!D15+'Work 20-39 Hrs-Underemployed'!D15+'Work 40 Hrs-Full-Time employed'!D15 -> 349932.94 | G15: ='Work 1-19 Hrs-Unemployed'!G15+'Work 20-39 Hrs-Underemployed'!G15+'Work 40 Hrs-Full-Time employed'!G15 -> 52230.594 | H15: ='Work 1-19 Hrs-Unemployed'!H15+'Work 20-39 Hrs-Underemployed'!H15+'Work 40 Hrs-Full-Time employed'!H15 -> 4378.5166 | I15: ='Work 1-19 Hrs-Unemployed'!I15+'Work 20-39 Hrs-Underemployed'!I15+'Work 40 Hrs-Full-Time employed'!I15 -> 834.21728 | J15: ='Work 1-19 Hrs-Unemployed'!J15+'Work 20-39 Hrs-Underemployed'!J15+'Work 40 Hrs-Full-Time employed'!J15 -> 0 | K15: ='Work 1-19 Hrs-Unemployed'!K15+'Work 20-39 Hrs-Underemployed'!K15+'Work 40 Hrs-Full-Time employed'!K15 -> 10922.107 | L15: ='Work 1-19 Hrs-Unemployed'!L15+'Work 20-39 Hrs-Underemployed'!L15+'Work 40 Hrs-Full-Time employed'!L15 -> 4435.5209 | M15: =SUM(C15,E15,G15,I15,K15) -> 652872.43 | N15: =SUM(D15,F15,H15,J15,L15) -> 358746.98 | O15: =M15+N15 -> 1011619.4
A16: M | B16: REAL ESTATE | G16: ='Work 1-19 Hrs-Unemployed'!G16+'Work 20-39 Hrs-Underemployed'!G16+'Work 40 Hrs-Full-Time employed'!G16 -> 63716.627 | H16: ='Work 1-19 Hrs-Unemployed'!H16+'Work 20-39 Hrs-Underemployed'!H16+'Work 40 Hrs-Full-Time employed'!H16 -> 2613.6226 | K16: ='Work 1-19 Hrs-Unemployed'!K16+'Work 20-39 Hrs-Underemployed'!K16+'Work 40 Hrs-Full-Time employed'!K16 -> 3184.9505 | L16: ='Work 1-19 Hrs-Unemployed'!L16+'Work 20-39 Hrs-Underemployed'!L16+'Work 40 Hrs-Full-Time employed'!L16 -> 0 | M16: =SUM(C16,E16,G16,I16,K16) -> 66901.578 | N16: =SUM(D16,F16,H16,J16,L16) -> 2613.6226 | O16: =M16+N16 -> 69515.201
A17: N | B17: PROFESSIONAL, SCIENTIFIC AND TECHNICAL SERVICES | C17: ='Work 1-19 Hrs-Unemployed'!C17+'Work 20-39 Hrs-Underemployed'!C17+'Work 40 Hrs-Full-Time employed'!C17 -> 2307670.2 | D17: ='Work 1-19 Hrs-Unemployed'!D17+'Work 20-39 Hrs-Underemployed'!D17+'Work 40 Hrs-Full-Time employed'!D17 -> 1275998.2 | G17: ='Work 1-19 Hrs-Unemployed'!G17+'Work 20-39 Hrs-Underemployed'!G17+'Work 40 Hrs-Full-Time employed'!G17 -> 681517.41 | H17: ='Work 1-19 Hrs-Unemployed'!H17+'Work 20-39 Hrs-Underemployed'!H17+'Work 40 Hrs-Full-Time employed'!H17 -> 426938.31 | I17: ='Work 1-19 Hrs-Unemployed'!I17+'Work 20-39 Hrs-Underemployed'!I17+'Work 40 Hrs-Full-Time employed'!I17 -> 70172.417 | J17: ='Work 1-19 Hrs-Unemployed'!J17+'Work 20-39 Hrs-Underemployed'!J17+'Work 40 Hrs-Full-Time employed'!J17 -> 49146.045 | K17: ='Work 1-19 Hrs-Unemployed'!K17+'Work 20-39 Hrs-Underemployed'!K17+'Work 40 Hrs-Full-Time employed'!K17 -> 61463.31 | L17: ='Work 1-19 Hrs-Unemployed'!L17+'Work 20-39 Hrs-Underemployed'!L17+'Work 40 Hrs-Full-Time employed'!L17 -> 65594.677 | M17: =SUM(C17,E17,G17,I17,K17) -> 3120823.3 | N17: =SUM(D17,F17,H17,J17,L17) -> 1817677.3 | O17: =M17+N17 -> 4938500.6
A18: O | B18: ADMINISTRATIVE & SUPPORT SERVICES | C18: ='Work 1-19 Hrs-Unemployed'!C18+'Work 20-39 Hrs-Underemployed'!C18+'Work 40 Hrs-Full-Time employed'!C18 -> 260410.41 | D18: ='Work 1-19 Hrs-Unemployed'!D18+'Work 20-39 Hrs-Underemployed'!D18+'Work 40 Hrs-Full-Time employed'!D18 -> 46313.528 | G18: ='Work 1-19 Hrs-Unemployed'!G18+'Work 20-39 Hrs-Underemployed'!G18+'Work 40 Hrs-Full-Time employed'!G18 -> 105122.53 | H18: ='Work 1-19 Hrs-Unemployed'!H18+'Work 20-39 Hrs-Underemployed'!H18+'Work 40 Hrs-Full-Time employed'!H18 -> 34568.442 | I18: ='Work 1-19 Hrs-Unemployed'!I18+'Work 20-39 Hrs-Underemployed'!I18+'Work 40 Hrs-Full-Time employed'!I18 -> 5522.5443 | J18: ='Work 1-19 Hrs-Unemployed'!J18+'Work 20-39 Hrs-Underemployed'!J18+'Work 40 Hrs-Full-Time employed'!J18 -> 0 | K18: ='Work 1-19 Hrs-Unemployed'!K18+'Work 20-39 Hrs-Underemployed'!K18+'Work 40 Hrs-Full-Time employed'!K18 -> 9601.311 | L18: ='Work 1-19 Hrs-Unemployed'!L18+'Work 20-39 Hrs-Underemployed'!L18+'Work 40 Hrs-Full-Time employed'!L18 -> 5093.4702 | M18: =SUM(C18,E18,G18,I18,K18) -> 380656.8 | N18: =SUM(D18,F18,H18,J18,L18) -> 85975.44 | O18: =M18+N18 -> 466632.24
A19: Q | B19: EDUCATION | C19: ='Work 1-19 Hrs-Unemployed'!C19+'Work 20-39 Hrs-Underemployed'!C19+'Work 40 Hrs-Full-Time employed'!C19 -> 1033667.4 | D19: ='Work 1-19 Hrs-Unemployed'!D19+'Work 20-39 Hrs-Underemployed'!D19+'Work 40 Hrs-Full-Time employed'!D19 -> 1131307.5 | G19: ='Work 1-19 Hrs-Unemployed'!G19+'Work 20-39 Hrs-Underemployed'!G19+'Work 40 Hrs-Full-Time employed'!G19 -> 254672.79 | H19: ='Work 1-19 Hrs-Unemployed'!H19+'Work 20-39 Hrs-Underemployed'!H19+'Work 40 Hrs-Full-Time employed'!H19 -> 181767.42 | I19: ='Work 1-19 Hrs-Unemployed'!I19+'Work 20-39 Hrs-Underemployed'!I19+'Work 40 Hrs-Full-Time employed'!I19 -> 9064.5812 | J19: ='Work 1-19 Hrs-Unemployed'!J19+'Work 20-39 Hrs-Underemployed'!J19+'Work 40 Hrs-Full-Time employed'!J19 -> 5221.7021 | K19: ='Work 1-19 Hrs-Unemployed'!K19+'Work 20-39 Hrs-Underemployed'!K19+'Work 40 Hrs-Full-Time employed'!K19 -> 44731.639 | L19: ='Work 1-19 Hrs-Unemployed'!L19+'Work 20-39 Hrs-Underemployed'!L19+'Work 40 Hrs-Full-Time employed'!L19 -> 24824.16 | M19: =SUM(C19,E19,G19,I19,K19) -> 1342136.4 | N19: =SUM(D19,F19,H19,J19,L19) -> 1343120.7 | O19: =M19+N19 -> 2685257.1
A20: R | B20: HUMAN HEALTH AND SOCIAL SERVICES | C20: ='Work 1-19 Hrs-Unemployed'!C20+'Work 20-39 Hrs-Underemployed'!C20+'Work 40 Hrs-Full-Time employed'!C20 -> 662439.52 | D20: ='Work 1-19 Hrs-Unemployed'!D20+'Work 20-39 Hrs-Underemployed'!D20+'Work 40 Hrs-Full-Time employed'!D20 -> 1082068.7 | G20: ='Work 1-19 Hrs-Unemployed'!G20+'Work 20-39 Hrs-Underemployed'!G20+'Work 40 Hrs-Full-Time employed'!G20 -> 143779.26 | H20: ='Work 1-19 Hrs-Unemployed'!H20+'Work 20-39 Hrs-Underemployed'!H20+'Work 40 Hrs-Full-Time employed'!H20 -> 77678.875 | I20: ='Work 1-19 Hrs-Unemployed'!I20+'Work 20-39 Hrs-Underemployed'!I20+'Work 40 Hrs-Full-Time employed'!I20 -> 9751.7483 | J20: ='Work 1-19 Hrs-Unemployed'!J20+'Work 20-39 Hrs-Underemployed'!J20+'Work 40 Hrs-Full-Time employed'!J20 -> 7150.4074 | K20: ='Work 1-19 Hrs-Unemployed'!K20+'Work 20-39 Hrs-Underemployed'!K20+'Work 40 Hrs-Full-Time employed'!K20 -> 17332.343 | L20: ='Work 1-19 Hrs-Unemployed'!L20+'Work 20-39 Hrs-Underemployed'!L20+'Work 40 Hrs-Full-Time employed'!L20 -> 143906.96 | M20: =SUM(C20,E20,G20,I20,K20) -> 833302.87 | N20: =SUM(D20,F20,H20,J20,L20) -> 1310804.9 | O20: =M20+N20 -> 2144107.8
A21: S | B21: OTHER SERVICES | C21: ='Work 1-19 Hrs-Unemployed'!C21+'Work 20-39 Hrs-Underemployed'!C21+'Work 40 Hrs-Full-Time employed'!C21 -> 2229483.7 | D21: ='Work 1-19 Hrs-Unemployed'!D21+'Work 20-39 Hrs-Underemployed'!D21+'Work 40 Hrs-Full-Time employed'!D21 -> 1313015.5 | G21: ='Work 1-19 Hrs-Unemployed'!G21+'Work 20-39 Hrs-Underemployed'!G21+'Work 40 Hrs-Full-Time employed'!G21 -> 946792.15 | H21: ='Work 1-19 Hrs-Unemployed'!H21+'Work 20-39 Hrs-Underemployed'!H21+'Work 40 Hrs-Full-Time employed'!H21 -> 932393.89 | I21: ='Work 1-19 Hrs-Unemployed'!I21+'Work 20-39 Hrs-Underemployed'!I21+'Work 40 Hrs-Full-Time employed'!I21 -> 42397.428 | J21: ='Work 1-19 Hrs-Unemployed'!J21+'Work 20-39 Hrs-Underemployed'!J21+'Work 40 Hrs-Full-Time employed'!J21 -> 40983.196 | K21: ='Work 1-19 Hrs-Unemployed'!K21+'Work 20-39 Hrs-Underemployed'!K21+'Work 40 Hrs-Full-Time employed'!K21 -> 245319.42 | L21: ='Work 1-19 Hrs-Unemployed'!L21+'Work 20-39 Hrs-Underemployed'!L21+'Work 40 Hrs-Full-Time employed'!L21 -> 371047.84 | M21: =SUM(C21,E21,G21,I21,K21) -> 3463992.7 | N21: =SUM(D21,F21,H21,J21,L21) -> 2657440.4 | O21: =M21+N21 -> 6121433.1
B22: TOTAL | C22: =SUM(C4:C21) -> 12472269 | D22: =SUM(D4:D21) -> 7242766.7 | E22: =SUM(E4:E21) -> 22272459 | F22: =SUM(F4:F21) -> 7384836.1 | G22: =SUM(G4:G21) -> 11225095 | H22: =SUM(H4:H21) -> 10432167 | I22: =SUM(I4:I21) -> 603005.82 | J22: =SUM(J4:J21) -> 259974.1 | ... N22: =SUM(N4:N21) -> 28261961 | O22: =M22+N22 -> 77551429
A24: DISTRIBUTION OF WORKING POPULATION BY ECONOMIC ACTIVITY BY TYPE OF ENGAGEMENT AND BY SEX -Male
B25: Major Economic Activity | C25: Work for Pay/Wage | E25: Self employment (in farming) | G25: Self employment (non farming) | I25: Paid Apprentice | K25: UnPaid Household Worker | M25: TOTAL
C26: Total Male | E26: Total Male | G26: Total Male | I26: Total Male | K26: Total Male | M26: Total Male
A27: A | B27: AGRICULTURE | C27: 1770971.1 | E27: 22272459 | G27: 874104.03 | I27: 171857.13 | K27: 2036095.1 | M27: 27125486
A28: B | B28: MINING AND QUARRYING | C28: 24549.621 | E28: 0 | G28: 87660.722 | I28: 4436.7896 | K28: 1158.0094 | M28: 117805.14
A29: C | B29: MANUFACTURING | C29: 722310.71 | E29: 0 | G29: 2257392 | I29: 135937.19 | K29: 133742.68 | M29: 3249382.5
A30: D | B30: ELECTRICITY, GAS, STEAM & AIR CONDITIONING SUPPLY | C30: 0 | E30: 0 | G30: 8228.1533 | I30: 0 | K30: 2263.4221 | M30: 10491.575
A31: E | B31: WATER SUPPLY, SEWERAGE, WASTE MANAGEMENT & REMEDIATION | C31: 39726.47 | E31: 0 | G31: 30725.15 | I31: 223.45651 | K31: 0 | M31: 70675.076
A32: F | B32: CONSTRUCTION | C32: 769127.24 | E32: 0 | G32: 866409.57 | I32: 46251.983 | K32: 22495.246 | M32: 1704284
A33: G | B33: TRADE | C33: 570214.96 | E33: 0 | G33: 3065790 | I33: 79408.854 | K33: 91898.981 | M33: 3807312.8
