Workbook

Sheet Work 1-19 Hrs-Unemployed
A1: ABSOLUTE DISTRIBUTION OF WORKING POPULATION BY ECONOMIC ACTIVITY BY TYPE OF ENGAGEMENT AND BY SEX
B2: Major Economic Activity | C2: Work for Pay/Wage | E2: Self employment (in farming) | G2: Self employment (non farming) | I2: Paid Apprentice | K2: UnPaid Household Worker | M2: TOTAL
C3: Male | D3: Female | E3: Male | F3: Female | G3: Male | H3: Female | I3: Male | J3: Female | K3: Male | L3: Female | M3: Male | N3: Female | O3: Male+Female
A4: A | B4: AGRICULTURE | C4: 145041.6 | D4: 107102 | E4: 2564470.4 | F4: 1619151.4 | G4: 98160.239 | H4: 59223.199 | I4: 20686.328 | J4: 6501.5441 | K4: 187711.18 | L4: 202648.97 | M4: =SUM(C4,E4,G4,I4,K4) -> 3016069.7 | N4: =SUM(D4,F4,H4,J4,L4) -> 1994627.1 | O4: =M4+N4 -> 5010696.8
A5: B | B5: MINING AND QUARRYING | C5: 9679.9287 | D5: 362.13411 | G5: 5130.6104 | H5: 2841.0295 | M5: =SUM(C5,E5,G5,I5,K5) -> 14810.539 | N5: =SUM(D5,F5,H5,J5,L5) -> 3203.1636 | O5: =M5+N5 -> 18013.703
A6: C | B6: MANUFACTURING | C6: 69215.242 | D6: 43396.422 | G6: 125419.41 | H6: 164843.79 | I6: 10472.956 | J6: 2580.3386 | K6: 36291.851 | L6: 36553.492 | M6: =SUM(C6,E6,G6,I6,K6) -> 241399.46 | N6: =SUM(D6,F6,H6,J6,L6) -> 247374.04 | O6: =M6+N6 -> 488773.5
A7: D | B7: ELECTRICITY, GAS, STEAM & AIR CONDITIONING SUPPLY | G7: 1922.9373 | H7: 0 | K7: 1439.5023 | L7: 0 | M7: =SUM(C7,E7,G7,I7,K7) -> 3362.4396 | N7: =SUM(D7,F7,H7,J7,L7) -> 0 | O7: =M7+N7 -> 3362.4396
A8: E | B8: WATER SUPPLY, SEWERAGE, WASTE MANAGEMENT & REMEDIATION | C8: 3722.1522 | D8: 2077.1615 | G8: 0 | H8: 1394.8988 | M8: =SUM(C8,E8,G8,I8,K8) -> 3722.1522 | N8: =SUM(D8,F8,H8,J8,L8) -> 3472.0603 | O8: =M8+N8 -> 7194.2124
A9: F | B9: CONSTRUCTION | C9: 66946.524 | D9: 6550.3984 | G9: 44283.688 | H9: 2045.4528 | I9: 1274.2204 | J9: 0 | K9: 10430.74 | M9: =SUM(C9,E9,G9,I9,K9) -> 122935.17 | N9: =SUM(D9,F9,H9,J9,L9) -> 8595.8512 | O9: =M9+N9 -> 131531.02
A10: G | B10: TRADE | C10: 54833.161 | D10: 87191.581 | G10: 130042.39 | H10: 479085.48 | I10: 8933.6569 | J10: 2996.2573 | K10: 22483.078 | L10: 34671.976 | M10: =SUM(C10,E10,G10,I10,K10) -> 216292.28 | N10: =SUM(D10,F10,H10,J10,L10) -> 603945.3 | O10: =M10+N10 -> 820237.58
A11: I | B11: ACCOMMODATION AND FOOD SERVICES | G11: 2077.8808 | H11: 98350.279 | I11: 0 | J11: 3379.7833 | K11: 408.29231 | L11: 13259.42 | M11: =SUM(C11,E11,G11,I11,K11) -> 2486.1731 | N11: =SUM(D11,F11,H11,J11,L11) -> 114989.48 | O11: =M11+N11 -> 117475.65
A12: H | B12: TRANSPORTATION AND STORAGE | C12: 43380.076 | D12: 223.44541 | G12: 50982.329 | H12: 803.89054 | I12: 230.83502 | J12: 0 | K12: 2077.6014 | L12: 2079.0304 | M12: =SUM(C12,E12,G12,I12,K12) -> 96670.842 | N12: =SUM(D12,F12,H12,J12,L12) -> 3106.3663 | O12: =M12+N12 -> 99777.208
A13: J | B13: INFORMATION AND COMMUNICATION | C13: 12135.492 | D13: 7618.381 | G13: 12699.235 | H13: 734.9298 | K13: 2524.9737 | L13: 0 | M13: =SUM(C13,E13,G13,I13,K13) -> 27359.701 | N13: =SUM(D13,F13,H13,J13,L13) -> 8353.3108 | O13: =M13+N13 -> 35713.012
A14: K | B14: ARTS, ENTERTAINMENTAND RECREATION | C14: 64639.395 | D14: 41146.774 | G14: 5349.4393 | H14: 1101.0962 | M14: =SUM(C14,E14,G14,I14,K14) -> 69988.834 | N14: =SUM(D14,F14,H14,J14,L14) -> 42247.87 | O14: =M14+N14 -> 112236.7
A15: L | B15: FINANCIAL AND INSURANCE | C15: 76085.603 | D15: 41747.612 | G15: 2890.4309 | H15: 0 | K15: 5386.0434 | L15: 1429.763 | M15: =SUM(C15,E15,G15,I15,K15) -> 84362.077 | N15: =SUM(D15,F15,H15,J15,L15) -> 43177.375 | O15: =M15+N15 -> 127539.45
A16: M | B16: REAL ESTATE | G16: 1252.4817 | H16: 0 | K16: 2082.3028 | L16: 0 | M16: =SUM(C16,E16,G16,I16,K16) -> 3334.7845 | N16: =SUM(D16,F16,H16,J16,L16) -> 0 | O16: =M16+N16 -> 3334.7845
A17: N | B17: PROFESSIONAL, SCIENTIFIC AND TECHNICAL SERVICES | C17: 226591.01 | D17: 190486.76 | G17: 52046.109 | H17: 61417.484 | I17: 12991.471 | J17: 1491.0968 | K17: 35885.325 | L17: 10004.984 | M17: =SUM(C17,E17,G17,I17,K17) -> 327513.91 | N17: =SUM(D17,F17,H17,J17,L17) -> 263400.32 | O17: =M17+N17 -> 590914.24
A18: O | B18: ADMINISTRATIVE & SUPPORT SERVICES | C18: 18334.845 | D18: 1534.3968 | G18: 6890.5988 | H18: 4343.7052 | K18: 1110.1981 | L18: 0 | M18: =SUM(C18,E18,G18,I18,K18) -> 26335.642 | N18: =SUM(D18,F18,H18,J18,L18) -> 5878.102 | O18: =M18+N18 -> 32213.744
A19: Q | B19: EDUCATION | C19: 74743.598 | D19: 46340.551 | G19: 18666.682 | H19: 10791.147 | I19: 626.15701 | J19: 1654.6834 | K19: 4160.9651 | L19: 5522.5262 | M19: =SUM(C19,E19,G19,I19,K19) -> 98197.402 | N19: =SUM(D19,F19,H19,J19,L19) -> 64308.908 | O19: =M19+N19 -> 162506.31
A20: R | B20: HUMAN HEALTH AND SOCIAL SERVICES | C20: 61734.157 | D20: 81214.018 | G20: 11029.496 | H20: 3071.3844 | I20: 0 | J20: 1127.5305 | K20: 5374.5836 | L20: 6616.4899 | M20: =SUM(C20,E20,G20,I20,K20) -> 78138.237 | N20: =SUM(D20,F20,H20,J20,L20) -> 92029.423 | O20: =M20+N20 -> 170167.66
A21: S | B21: OTHER SERVICES | C21: 158770.87 | D21: 90690.168 | G21: 94211.711 | H21: 103943.25 | I21: 3507.0907 | J21: 5524.2559 | K21: 24685.484 | L21: 48401.2 | M21: =SUM(C21,E21,G21,I21,K21) -> 281175.16 | N21: =SUM(D21,F21,H21,J21,L21) -> 248558.87 | O21: =M21+N21 -> 529734.03
B22: TOTAL | C22: =SUM(C4:C21) -> 1085853.7 | D22: =SUM(D4:D21) -> 747681.8 | E22: =SUM(E4:E21) -> 2564470.4 | F22: =SUM(F4:F21) -> 1619151.4 | G22: =SUM(G4:G21) -> 663055.67 | H22: =SUM(H4:H21) -> 993991.02 | I22: =SUM(I4:I21) -> 58722.714 | J22: =SUM(J4:J21) -> 25255.49 | ... N22: =SUM(N4:N21) -> 3747267.6 | O22: =M22+N22 -> 8461422.1
A24: DISTRIBUTION OF WORKING POPULATION BY ECONOMIC ACTIVITY BY TYPE OF ENGAGEMENT AND BY SEX -Male
B25: Major Economic Activity | C25: Work for Pay/Wage | E25: Self employment (in farming) | G25: Self employment (non farming) | I25: Paid Apprentice | K25: UnPaid Household Worker | M25: TOTAL
C26: Total Male | E26: Total Male | G26: Total Male | I26: Total Male | K26: Total Male | M26: Total Male
A27: A | B27: AGRICULTURE | C27: 145041.6 | E27: 2564470.4 | G27: 98160.239 | I27: 20686.328 | K27: 187711.18 | M27: 3016069.7
A28: B | B28: MINING AND QUARRYING | C28: 9679.9287 | E28: 0 | G28: 5130.6104 | I28: 0 | K28: 0 | M28: 14810.539
A29: C | B29: MANUFACTURING | C29: 69215.242 | E29: 0 | G29: 125419.41 | I29: 10472.956 | K29: 36291.851 | M29: 241399.46
A30: D | B30: ELECTRICITY, GAS, STEAM & AIR CONDITIONING SUPPLY | C30: 0 | E30: 0 | G30: 1922.9373 | I30: 0 | K30: 1439.5023 | M30: 3362.4396
A31: E | B31: WATER SUPPLY, SEWERAGE, WASTE MANAGEMENT & REMEDIATION | C31: 3722.1522 | E31: 0 | G31: 0 | I31: 0 | K31: 0 | M31: 3722.1522
A32: F | B32: CONSTRUCTION | C32: 66946.524 | E32: 0 | G32: 44283.688 | I32: 1274.2204 | K32: 10430.74 | M32: 122935.17
A33: G | B33: TRADE | C33: 54833.161 | E33: 0 | G33: 130042.39 | I33: 8933.6569 | K33: 22483.078 | M33: 216292.28
A34: I | B34: ACCOMMODATION AND FOOD SERVICES | C34: 0 | E34: 0 | G34: 2077.8808 | I34: 0 | K34: 408.29231 | M34: 2486.1731
A35: H | B35: TRANSPORTATION AND STORAGE | C35: 43380.076 | E35: 0 | G35: 50982.329 | I35: 230.83502 | K35: 2077.6014 | M35: 96670.842
A36: J | B36: INFORMATION AND COMMUNICATION | C36: 12135.492 | E36: 0 | G36: 12699.235 | I36: 0 | K36: 2524.9737 | M36: 27359.701
A37: K | B37: ARTS, ENTERTAINMENTAND RECREATION | C37: 64639.395 | E37: 0 | G37: 5349.4393 | I37: 0 | K37: 0 | M37: 69988.834
A38: L | B38: FINANCIAL AND INSURANCE | C38: 76085.603 | E38: 0 | G38: 2890.4309 | I38: 0 | K38: 5386.0434 | M38: 84362.077
... A44: S | B44: OTHER SERVICES | C44: 158770.87 | E44: 0 | G44: 94211.711 | I44: 3507.0907 | K44: 24685.484 | M44: 281175.16
B45: TOTAL | C45: 1085853.7 | E45: 2564470.4 | G45: 663055.67 | I45: 58722.714 | K45: 342052.12 | M45: 4714154.5
A47: DISTRIBUTION OF WORKING POPULATION BY ECONOMIC ACTIVITY BY TYPE OF ENGAGEMENT AND BY SEX- Female
B48: Major Economic Activity | C48: Work for Pay/Wage | E48: Self employment (in farming) | G48: Self employment (non farming) | I48: Paid Apprentice | K48: UnPaid Household Worker | M48: TOTAL
C49: Female | E49: Female | G49: Female | I49: Female | K49: Female | M49: Female
A50: A | B50: AGRICULTURE | C50: 107102 | E50: 1619151.4 | G50: 59223.199 | I50: 6501.5441 | K50: 202648.97 | M50: 1994627.1
A51: B | B51: MINING AND QUARRYING | C51: 362.13411 | E51: 0 | G51: 2841.0295 | I51: 0 | K51: 0 | M51: 3203.1636
A52: C | B52: MANUFACTURING | C52: 43396.422 | E52: 0 | G52: 164843.79 | I52: 2580.3386 | K52: 36553.492 | M52: 247374.04
A53: D | B53: ELECTRICITY, GAS, STEAM & AIR CONDITIONING SUPPLY | C53: 0 | E53: 0 | G53: 0 | I53: 0 | K53: 0 | M53: 0
A54: E | B54: WATER SUPPLY, SEWERAGE, WASTE MANAGEMENT & REMEDIATION | C54: 2077.1615 | E54: 0 | G54: 1394.8988 | I54: 0 | K54: 0 | M54: 3472.0603
A55: F | B55: CONSTRUCTION | C55: 6550.3984 | E55: 0 | G55: 2045.4528 | I55: 0 | K55: 0 | M55: 8595.8512
A56: G | B56: TRADE | C56: 87191.581 | E56: 0 | G56: 479085.48 | I56: 2996.2573 | K56: 34671.976 | M56: 603945.3
A57: I | B57: ACCOMMODATION AND FOOD SERVICES | C57: 0 | E57: 0 | G57: 98350.279 | I57: 3379.7833 | K57: 13259.42 | M57: 114989.48
A58: H | B58: TRANSPORTATION AND STORAGE | C58: 223.44541 | E58: 0 | G58: 803.89054 | I58: 0 | K58: 2079.0304 | M58: 3106.3663
A59: J | B59: INFORMATION AND COMMUNICATION | C59: 7618.381 | E59: 0 | G59: 734.9298 | I59: 0 | K59: 0 | M59: 8353.3108
A60: K | B60: ARTS, ENTERTAINMENTAND RECREATION | C60: 41146.774 | E60: 0 | G60: 1101.0962 | I60: 0 | K60: 0 | M60: 42247.87
A61: L | B61: FINANCIAL AND INSURANCE | C61: 41747.612 | E61: 0 | G61: 0 | I61: 0 | K61: 1429.763 | M61: 43177.375
... A67: S | B67: OTHER SERVICES | C67: 90690.168 | E67: 0 | G67: 103943.25 | I67: 5524.2559 | K67: 48401.2 | M67: 248558.87
B68: TOTAL | C68: =SUM(C50:D67) -> 747681.8 | E68: =SUM(E50:F67) -> 1619151.4 | G68: =SUM(G50:H67) -> 993991.02 | I68: =SUM(I50:J67) -> 25255.49 | K68: =SUM(K50:L67) -> 361187.86 | M68: =SUM(M50:N67) -> 3747267.6
A70: PERCENTAGE DISTRIBUTION OF WORKING POPULATION BY ECONOMIC ACTIVITY BY TYPE OF ENGAGEMENT AND BY SEX
A71: PERCENTAGE DISTRIBUTION OF WORKING POPULATION BY ECONOMIC ACTIVITY BY TYPE OF ENGAGEMENT AND BY SEX % | B71: Major Economic Activity | C71: Work for Pay/Wage | E71: Self employment (in farming) | G71: Self employment (non farming) | I71: Paid Apprentice | K71: UnPaid Household Worker | M71: TOTAL
C72: Male | D72: Female | E72: Male | F72: Female | G72: Male | H72: Female | I72: Male | J72: Female | K72: Male | L72: Female | M72: Male | N72: Female
A73: A | B73: AGRICULTURE | C73: 13.35738 | D73: 14.324543 | E73: 100 | F73: 100 | G73: 14.804223 | H73: 5.9581222 | I73: 35.227132 | J73: 25.743092 | K73: 54.877947 | L73: 56.106254 | M73: 63.979017 | N73: 53.228842
A74: B | B74: MINING AND QUARRYING | C74: 0.89145794 | D74: 0.048434255 | G74: 0.77378275 | H74: 0.28582044 | M74: 0.31417169 | N74: 0.085479981
A75: C | B75: MANUFACTURING | C75: 6.3742698 | D75: 5.8041297 | G75: 18.915367 | H75: 16.584032 | I75: 17.83459 | J75: 10.216941 | K75: 10.610035 | L75: 10.120355 | M75: 5.1207371 | N75: 6.6014513
A76: D | B76: ELECTRICITY, GAS, STEAM & AIR CONDITIONING SUPPLY | G76: =100*G7/G$22 -> 0.29001145 | H76: =100*H7/H$22 -> 0 | K76: =100*K7/K$22 -> 0.42084295 | L76: =100*L7/L$22 -> 0 | M76: =100*M7/M$22 -> 0.071326461 | N76: =100*N7/N$22 -> 0
A77: E | B77: WATER SUPPLY, SEWERAGE, WASTE MANAGEMENT & REMEDIATION | C77: =100*C8/C$22 -> 0.3427858 | D77: =100*D8/D$22 -> 0.27781357 | G77: =100*G8/G$22 -> 0 | H77: =100*H8/H$22 -> 0.14033313 | M77: =100*M8/M$22 -> 0.07895694 | N77: =100*N8/N$22 -> 0.092655788
A78: F | B78: CONSTRUCTION | C78: =100*C9/C$22 -> 6.1653357 | D78: =100*D9/D$22 -> 0.8760944 | G78: =100*G9/G$22 -> 6.6787286 | H78: =100*H9/H$22 -> 0.20578182 | I78: =100*I9/I$22 -> 2.1698936 | J78: =100*J9/J$22 -> 0 | K78: =100*K9/K$22 -> 3.0494594 | L78: =100*L9/L$22 -> 0 | M78: =100*M9/M$22 -> 2.6077883 | N78: =100*N9/N$22 -> 0.22938984
A79: G | B79: TRADE | C79: =100*C10/C$22 -> 5.0497745 | D79: =100*D10/D$22 -> 11.661589 | G79: =100*G10/G$22 -> 19.61259 | H79: =100*H10/H$22 -> 48.19817 | I79: =100*I10/I$22 -> 15.21329 | J79: =100*J10/J$22 -> 11.863786 | K79: =100*K10/K$22 -> 6.5729977 | L79: =100*L10/L$22 -> 9.5994303 | M79: =100*M10/M$22 -> 4.5881458 | N79: =100*N10/N$22 -> 16.116952
A80: I | B80: ACCOMMODATION AND FOOD SERVICES | G80: =100*G11/G$22 -> 0.31337954 | H80: =100*H11/H$22 -> 9.8944836 | I80: =100*I11/I$22 -> 0 | J80: =100*J11/J$22 -> 13.382371 | K80: =100*K11/K$22 -> 0.11936553 | L80: =100*L11/L$22 -> 3.6710591 | M80: =100*M11/M$22 -> 0.052738473 | N80: =100*N11/N$22 -> 3.0686221
A81: H | B81: TRANSPORTATION AND STORAGE | C81: =100*C12/C$22 -> 3.9950205 | D81: =100*D12/D$22 -> 0.029885094 | G81: =100*G12/G$22 -> 7.6889968 | H81: =100*H12/H$22 -> 0.080875031 | I81: =100*I12/I$22 -> 0.39309324 | J81: =100*J12/J$22 -> 0 | K81: =100*K12/K$22 -> 0.60739324 | L81: =100*L12/L$22 -> 0.57560916 | M81: =100*M12/M$22 -> 2.0506507 | N81: =100*N12/N$22 -> 0.082896838
A82: J | B82: INFORMATION AND COMMUNICATION | C82: =100*C13/C$22 -> 1.1175993 | D82: =100*D13/D$22 -> 1.0189336 | G82: =100*G13/G$22 -> 1.9152592 | H82: =100*H13/H$22 -> 0.073937267 | K82: =100*K13/K$22 -> 0.73818389 | L82: =100*L13/L$22 -> 0 | M82: =100*M13/M$22 -> 0.58037344 | N82: =100*N13/N$22 -> 0.22291738
A83: K | B83: ARTS, ENTERTAINMENTAND RECREATION | C83: =100*C14/C$22 -> 5.9528643 | D83: =100*D14/D$22 -> 5.5032467 | G83: =100*G14/G$22 -> 0.80678584 | H83: =100*H14/H$22 -> 0.11077526 | M83: =100*M14/M$22 -> 1.4846529 | N83: =100*N14/N$22 -> 1.1274314
A84: L | B84: FINANCIAL AND INSURANCE | C84: =100*C15/C$22 -> 7.006985 | D84: =100*D15/D$22 -> 5.5836067 | G84: =100*G15/G$22 -> 0.43592583 | H84: =100*H15/H$22 -> 0 | K84: =100*K15/K$22 -> 1.5746265 | L84: =100*L15/L$22 -> 0.39585023 | M84: =100*M15/M$22 -> 1.7895484 | N84: =100*N15/N$22 -> 1.1522362
A85: M | B85: REAL ESTATE | G85: =100*G16/G$22 -> 0.18889541 | H85: =100*H16/H$22 -> 0 | K85: =100*K16/K$22 -> 0.60876768 | L85: =100*L16/L$22 -> 0 | M85: =100*M16/M$22 -> 0.070739821 | N85: =100*N16/N$22 -> 0
A86: N | B86: PROFESSIONAL, SCIENTIFIC AND TECHNICAL SERVICES | C86: =100*C17/C$22 -> 20.867546 | D86: =100*D17/D$22 -> 25.476982 | G86: =100*G17/G$22 -> 7.8494327 | H86: =100*H17/H$22 -> 6.1788771 | I86: =100*I17/I$22 -> 22.123417 | J86: =100*J17/J$22 -> 5.9040503 | K86: =100*K17/K$22 -> 10.491186 | L86: =100*L17/L$22 -> 2.7700221 | M86: =100*M17/M$22 -> 6.9474581 | N86: =100*N17/N$22 -> 7.0291304
A87: O | B87: ADMINISTRATIVE & SUPPORT SERVICES | C87: =100*C18/C$22 -> 1.688519 | D87: =100*D18/D$22 -> 0.20522056 | G87: =100*G18/G$22 -> 1.0392187 | H87: =100*H18/H$22 -> 0.43699642 | K87: =100*K18/K$22 -> 0.32456986 | L87: =100*L18/L$22 -> 0 | M87: =100*M18/M$22 -> 0.55865038 | N87: =100*N18/N$22 -> 0.15686369
A88: Q | B88: EDUCATION | C88: =100*C19/C$22 -> 6.8833951 | D88: =100*D19/D$22 -> 6.1978974 | G88: =100*G19/G$22 -> 2.8152511 | H88: =100*H19/H$22 -> 1.0856383 | I88: =100*I19/I$22 -> 1.0662944 | J88: =100*J19/J$22 -> 6.551777 | K88: =100*K19/K$22 -> 1.2164711 | L88: =100*L19/L$22 -> 1.52899 | M88: =100*M19/M$22 -> 2.0830331 | N88: =100*N19/N$22 -> 1.7161547
A89: R | B89: HUMAN HEALTH AND SOCIAL SERVICES | C89: =100*C20/C$22 -> 5.685311 | D89: =100*D20/D$22 -> 10.86211 | G89: =100*G20/G$22 -> 1.6634344 | H89: =100*H20/H$22 -> 0.30899518 | I89: =100*I20/I$22 -> 0 | J89: =100*J20/J$22 -> 4.4644967 | K89: =100*K20/K$22 -> 1.5712762 | L89: =100*L20/L$22 -> 1.8318694 | M89: =100*M20/M$22 -> 1.6575239 | N89: =100*N20/N$22 -> 2.4559074
A90: S | B90: OTHER SERVICES | C90: =100*C21/C$22 -> 14.621756 | D90: =100*D21/D$22 -> 12.129514 | G90: =100*G21/G$22 -> 14.208718 | H90: =100*H21/H$22 -> 10.457162 | I90: =100*I21/I$22 -> 5.9722898 | J90: =100*J21/J$22 -> 21.873485 | K90: =100*K21/K$22 -> 7.2168779 | L90: =100*L21/L$22 -> 13.400561 | M90: =100*M21/M$22 -> 5.9644875 | N90: =100*N21/N$22 -> 6.6330698
B91: TOTAL | C91: =SUM(C73:C90) -> 100 | D91: =SUM(D73:D90) -> 100 | E91: =SUM(E73:E90) -> 100 | F91: =SUM(F73:F90) -> 100 | G91: =SUM(G73:G90) -> 100 | H91: =SUM(H73:H90) -> 100 | I91: =SUM(I73:I90) -> 100 | J91: =SUM(J73:J90) -> 100 | ... N91: =SUM(N73:N90) -> 100
C92: =SUM(C74:C91) -> 186.64262 | D92: =SUM(D74:D91) -> 185.67546 | E92: =SUM(E74:E91) -> 100 | F92: =SUM(F74:F91) -> 100 | G92: =SUM(G74:G91) -> 185.19578 | H92: =SUM(H74:H91) -> 194.04188 | I92: =SUM(I74:I91) -> 164.77287 | J92: =SUM(J74:J91) -> 174.25691 | ... N92: =SUM(N74:N91) -> 146.77116
A95: PERCENTAGE DISTRIBUTION OF WORKING POPULATION BY SECTOR AND BY SEX
A96: PERCENTAGE DISTRIBUTION OF WORKING POPULATION BY SECTOR AND BY SEX % | B96: Major Economic Activity | C96: Work for Pay/Wage | E96: Self employment (in farming) | G96: Self employment (non farming) | I96: Paid Apprentice | K96: UnPaid Household Worker | M96: TOTAL
C97: Male | D97: Female | E97: Male | F97: Female | G97: Male | H97: Female | I97: Male | J97: Female | K97: Male | L97: Female | M97: Male | N97: Female | O97: Male+Female
A98: A | B98: AGRICULTURE | C98: =C4/$O4*100 -> 2.8946393 | D98: =D4/$O4*100 -> 2.1374672 | E98: =E4/$O4*100 -> 51.179915 | F98: =F4/$O4*100 -> 32.313897 | G98: =G4/$O4*100 -> 1.9590137 | H98: =H4/$O4*100 -> 1.1819354 | I98: =I4/$O4*100 -> 0.41284334 | J98: =J4/$O4*100 -> 0.12975329 | ... N98: =N4/$O4*100 -> 39.80738 | O98: =M98+N98 -> 100
A99: B | B99: MINING AND QUARRYING | C99: =C5/$O5*100 -> 53.736474 | D99: =D5/$O5*100 -> 2.0103258 | E99: =E5/$O5*100 -> 0 | F99: =F5/$O5*100 -> 0 | G99: =G5/$O5*100 -> 28.481709 | H99: =H5/$O5*100 -> 15.771491 | I99: =I5/$O5*100 -> 0 | J99: =J5/$O5*100 -> 0 | ... N99: =N5/$O5*100 -> 17.781817 | O99: =M99+N99 -> 100
A100: C | B100: MANUFACTURING | C100: =C6/$O6*100 -> 14.161005 | D100: =D6/$O6*100 -> 8.8786362 | E100: =E6/$O6*100 -> 0 | F100: =F6/$O6*100 -> 0 | G100: =G6/$O6*100 -> 25.660027 | H100: =H6/$O6*100 -> 33.726008 | I100: =I6/$O6*100 -> 2.1427012 | J100: =J6/$O6*100 -> 0.52792113 | ... N100: =N6/$O6*100 -> 50.611181 | O100: =M100+N100 -> 100
A101: D | B101: ELECTRICITY, GAS, STEAM & AIR CONDITIONING SUPPLY | C101: =C7/$O7*100 -> 0 | D101: =D7/$O7*100 -> 0 | E101: =E7/$O7*100 -> 0 | F101: =F7/$O7*100 -> 0 | G101: =G7/$O7*100 -> 57.188755 | H101: =H7/$O7*100 -> 0 | I101: =I7/$O7*100 -> 0 | J101: =J7/$O7*100 -> 0 | ... N101: =N7/$O7*100 -> 0 | O101: =M101+N101 -> 100
A102: E | B102: WATER SUPPLY, SEWERAGE, WASTE MANAGEMENT & REMEDIATION | C102: =C8/$O8*100 -> 51.738146 | D102: =D8/$O8*100 -> 28.872674 | E102: =E8/$O8*100 -> 0 | F102: =F8/$O8*100 -> 0 | G102: =G8/$O8*100 -> 0 | H102: =H8/$O8*100 -> 19.389179 | I102: =I8/$O8*100 -> 0 | J102: =J8/$O8*100 -> 0 | ... N102: =N8/$O8*100 -> 48.261854 | O102: =M102+N102 -> 100
A103: F | B103: CONSTRUCTION | C103: =C9/$O9*100 -> 50.897896 | D103: =D9/$O9*100 -> 4.9801166 | E103: =E9/$O9*100 -> 0 | F103: =F9/$O9*100 -> 0 | G103: =G9/$O9*100 -> 33.667866 | H103: =H9/$O9*100 -> 1.5551105 | I103: =I9/$O9*100 -> 0.96876036 | J103: =J9/$O9*100 -> 0 | ... N103: =N9/$O9*100 -> 6.5352272 | O103: =M103+N103 -> 100
A104: G | B104: TRADE | C104: =C10/$O10*100 -> 6.685034 | D104: =D10/$O10*100 -> 10.63004 | E104: =E10/$O10*100 -> 0 | F104: =F10/$O10*100 -> 0 | G104: =G10/$O10*100 -> 15.854234 | H104: =H10/$O10*100 -> 58.408136 | I104: =I10/$O10*100 -> 1.0891548 | J104: =J10/$O10*100 -> 0.3652914 | ... N104: =N10/$O10*100 -> 73.630532 | O104: =M104+N104 -> 100
A105: I | B105: ACCOMMODATION AND FOOD SERVICES | C105: =C11/$O11*100 -> 0 | D105: =D11/$O11*100 -> 0 | E105: =E11/$O11*100 -> 0 | F105: =F11/$O11*100 -> 0 | G105: =G11/$O11*100 -> 1.7687757 | H105: =H11/$O11*100 -> 83.719711 | I105: =I11/$O11*100 -> 0 | J105: =J11/$O11*100 -> 2.8770074 | ... N105: =N11/$O11*100 -> 97.88367 | O105: =M105+N105 -> 100
A106: H | B106: TRANSPORTATION AND STORAGE | C106: =C12/$O12*100 -> 43.476939 | D106: =D12/$O12*100 -> 0.22394434 | E106: =E12/$O12*100 -> 0 | F106: =F12/$O12*100 -> 0 | G106: =G12/$O12*100 -> 51.096167 | H106: =H12/$O12*100 -> 0.80568555 | I106: =I12/$O12*100 -> 0.23135045 | J106: =J12/$O12*100 -> 0 | ... N106: =N12/$O12*100 -> 3.1133025 | O106: =M106+N106 -> 100
A107: J | B107: INFORMATION AND COMMUNICATION | C107: =C13/$O13*100 -> 33.980591 | D107: =D13/$O13*100 -> 21.332228 | E107: =E13/$O13*100 -> 0 | F107: =F13/$O13*100 -> 0 | G107: =G13/$O13*100 -> 35.559126 | H107: =H13/$O13*100 -> 2.0578768 | I107: =I13/$O13*100 -> 0 | J107: =J13/$O13*100 -> 0 | ... N107: =N13/$O13*100 -> 23.390105 | O107: =M107+N107 -> 100
A108: K | B108: ARTS, ENTERTAINMENTAND RECREATION | C108: =C14/$O14*100 -> 57.592029 | D108: =D14/$O14*100 -> 36.660711 | E108: =E14/$O14*100 -> 0 | F108: =F14/$O14*100 -> 0 | G108: =G14/$O14*100 -> 4.766212 | H108: =H14/$O14*100 -> 0.98104819 | I108: =I14/$O14*100 -> 0 | J108: =J14/$O14*100 -> 0 | ... N108: =N14/$O14*100 -> 37.641759 | O108: =M108+N108 -> 100
A109: L | B109: FINANCIAL AND INSURANCE | C109: =C15/$O15*100 -> 59.656523 | D109: =D15/$O15*100 -> 32.733096 | E109: =E15/$O15*100 -> 0 | F109: =F15/$O15*100 -> 0 | G109: =G15/$O15*100 -> 2.2663034 | H109: =H15/$O15*100 -> 0 | I109: =I15/$O15*100 -> 0 | J109: =J15/$O15*100 -> 0 | ... N109: =N15/$O15*100 -> 33.854132 | O109: =M109+N109 -> 100
... A115: S | B115: OTHER SERVICES | C115: =C21/$O21*100 -> 29.971809 | D115: =D21/$O21*100 -> 17.119944 | E115: =E21/$O21*100 -> 0 | F115: =F21/$O21*100 -> 0 | G115: =G21/$O21*100 -> 17.784719 | H115: =H21/$O21*100 -> 19.621781 | I115: =I21/$O21*100 -> 0.66204745 | J115: =J21/$O21*100 -> 1.0428357 | ... N115: =N21/$O21*100 -> 46.921447 | O115: =M115+N115 -> 100
O142: Male+Female
O143: =SUM(M98:N98) -> 100
O144: =SUM(M99:N99) -> 100
O145: =SUM(M100:N100) -> 100
O146: =SUM(M101:N101) -> 100
...

Sheet Work 20-39 Hrs-Underemployed
A1: ABSOLUTE DISTRIBUTION OF WORKING POPULATION BY ECONOMIC ACTIVITY BY TYPE OF ENGAGEMENT AND BY SEX
B2: Major Economic Activity | C2: Work for Pay/Wage | E2: Self employment (in farming) | G2: Self employment (non farming) | I2: Paid Apprentice | K2: UnPaid Household Worker | M2: TOTAL
C3: Male | D3: Female | E3: Male | F3: Female | G3: Male | H3: Female | I3: Male | J3: Female | K3: Male | L3: Female | M3: Male | N3: Female | O3: Male+Female
A4: A | B4: AGRICULTURE | C4: 336232.57 | D4: 185390.01 | E4: 4467539.9 | F4: 2153465.2 | G4: 221001.76 | H4: 81902.109 | I4: 32658.426 | J4: 13795.524 | K4: 943206.26 | L4: 974017.01 | M4: =SUM(C4,E4,G4,I4,K4) -> 6000638.9 | N4: =SUM(D4,F4,H4,J4,L4) -> 3408569.9 | O4: =M4+N4 -> 9409208.8
A5: B | B5: MINING AND QUARRYING | C5: 3030.7999 | D5: 0 | G5: 20055.919 | H5: 2183.3893 | I5: 345.67595 | J5: 0 | M5: =SUM(C5,E5,G5,I5,K5) -> 23432.395 | N5: =SUM(D5,F5,H5,J5,L5) -> 2183.3893 | O5: =M5+N5 -> 25615.784
A6: C | B6: MANUFACTURING | C6: 83979.668 | D6: 60236.119 | G6: 416762.82 | H6: 640260.21 | I6: 30350.727 | J6: 13050.581 | K6: 19004.237 | L6: 76709.81 | M6: =SUM(C6,E6,G6,I6,K6) -> 550097.45 | N6: =SUM(D6,F6,H6,J6,L6) -> 790256.72 | O6: =M6+N6 -> 1340354.2
A7: D | B7: ELECTRICITY, GAS, STEAM & AIR CONDITIONING SUPPLY | G7: 1161.0115 | H7: 0 | M7: =SUM(C7,E7,G7,I7,K7) -> 1161.0115 | N7: =SUM(D7,F7,H7,J7,L7) -> 0 | O7: =M7+N7 -> 1161.0115
A8: E | B8: WATER SUPPLY, SEWERAGE, WASTE MANAGEMENT & REMEDIATION | C8: 2219.4455 | D8: 0 | G8: 3334.9716 | H8: 5439.6052 | K8: 0 | L8: 485.312 | M8: =SUM(C8,E8,G8,I8,K8) -> 5554.4171 | N8: =SUM(D8,F8,H8,J8,L8) -> 5924.9172 | O8: =M8+N8 -> 11479.334
A9: F | B9: CONSTRUCTION | C9: 145824.96 | D9: 1419.1516 | G9: 194964.7 | H9: 5110.5048 | I9: 16163.062 | J9: 0 | K9: 2797.7159 | L9: 1125.9187 | M9: =SUM(C9,E9,G9,I9,K9) -> 359750.44 | N9: =SUM(D9,F9,H9,J9,L9) -> 7655.5751 | O9: =M9+N9 -> 367406.01
A10: G | B10: TRADE | C10: 81663.008 | D10: 216849.07 | G10: 395881.05 | H10: 1555605.3 | I10: 17170.326 | J10: 18198.952 | K10: 17468.668 | L10: 82210.157 | M10: =SUM(C10,E10,G10,I10,K10) -> 512183.05 | N10: =SUM(D10,F10,H10,J10,L10) -> 1872863.5 | O10: =M10+N10 -> 2385046.5
A11: I | B11: ACCOMMODATION AND FOOD SERVICES | C11: 0 | D11: 0 | G11: 15171.96 | H11: 362295.91 | I11: 0 | J11: 7718.7768 | K11: 4221.3853 | L11: 22295.063 | M11: =SUM(C11,E11,G11,I11,K11) -> 19393.345 | N11: =SUM(D11,F11,H11,J11,L11) -> 392309.75 | O11: =M11+N11 -> 411703.1
A12: H | B12: TRANSPORTATION AND STORAGE | C12: 157691.51 | D12: 5888.714 | G12: 163182.84 | H12: 0 | I12: 1454.7894 | J12: 0 | K12: 4722.801 | L12: 0 | M12: =SUM(C12,E12,G12,I12,K12) -> 327051.94 | N12: =SUM(D12,F12,H12,J12,L12) -> 5888.714 | O12: =M12+N12 -> 332940.65
A13: J | B13: INFORMATION AND COMMUNICATION | C13: 56330.964 | D13: 16851.282 | G13: 25729.428 | H13: 3333.721 | I13: 2021.2598 | J13: 0 | M13: =SUM(C13,E13,G13,I13,K13) -> 84081.652 | N13: =SUM(D13,F13,H13,J13,L13) -> 20185.003 | O13: =M13+N13 -> 104266.66
A14: K | B14: ARTS, ENTERTAINMENTAND RECREATION | C14: 95216.669 | D14: 23275.289 | G14: 12317.129 | H14: 685.27642 | M14: =SUM(C14,E14,G14,I14,K14) -> 107533.8 | N14: =SUM(D14,F14,H14,J14,L14) -> 23960.565 | O14: =M14+N14 -> 131494.36
A15: L | B15: FINANCIAL AND INSURANCE | C15: 84598.774 | D15: 108484.13 | G15: 2085.7308 | H15: 0 | K15: 1202.0317 | L15: 0 | M15: =SUM(C15,E15,G15,I15,K15) -> 87886.537 | N15: =SUM(D15,F15,H15,J15,L15) -> 108484.13 | O15: =M15+N15 -> 196370.67
A16: M | B16: REAL ESTATE | G16: 16117.192 | H16: 2613.6226 | M16: =SUM(C16,E16,G16,I16,K16) -> 16117.192 | N16: =SUM(D16,F16,H16,J16,L16) -> 2613.6226 | O16: =M16+N16 -> 18730.814
A17: N | B17: PROFESSIONAL, SCIENTIFIC AND TECHNICAL SERVICES | C17: 331128.74 | D17: 238556.18 | G17: 129376.73 | H17: 119132.33 | I17: 34906.737 | J17: 21596.368 | K17: 6801.1891 | L17: 21383.982 | M17: =SUM(C17,E17,G17,I17,K17) -> 502213.4 | N17: =SUM(D17,F17,H17,J17,L17) -> 400668.86 | O17: =M17+N17 -> 902882.26
A18: O | B18: ADMINISTRATIVE & SUPPORT SERVICES | C18: 26088.656 | D18: 4376.0081 | G18: 19129.912 | H18: 5215.9902 | I18: 338.34895 | J18: 0 | K18: 818.89965 | L18: 0 | M18: =SUM(C18,E18,G18,I18,K18) -> 46375.817 | N18: =SUM(D18,F18,H18,J18,L18) -> 9591.9982 | O18: =M18+N18 -> 55967.815
A19: Q | B19: EDUCATION | C19: 237906.16 | D19: 348305.81 | G19: 59486.538 | H19: 38089.725 | I19: 854.91938 | J19: 1095.1443 | K19: 10662.142 | L19: 3733.1096 | M19: =SUM(C19,E19,G19,I19,K19) -> 308909.76 | N19: =SUM(D19,F19,H19,J19,L19) -> 391223.79 | O19: =M19+N19 -> 700133.55
A20: R | B20: HUMAN HEALTH AND SOCIAL SERVICES | C20: 92270.337 | D20: 199453.37 | G20: 18924.162 | H20: 14197.567 | I20: 1213.6771 | J20: 934.47796 | K20: 1339.4679 | L20: 40262.228 | M20: =SUM(C20,E20,G20,I20,K20) -> 113747.64 | N20: =SUM(D20,F20,H20,J20,L20) -> 254847.65 | O20: =M20+N20 -> 368595.29
A21: S | B21: OTHER SERVICES | C21: 389335.68 | D21: 246722.89 | G21: 187915.2 | H21: 244221.92 | I21: 12171.711 | J21: 5631.7814 | K21: 71703.176 | L21: 108011.66 | M21: =SUM(C21,E21,G21,I21,K21) -> 661125.77 | N21: =SUM(D21,F21,H21,J21,L21) -> 604588.26 | O21: =M21+N21 -> 1265714
B22: TOTAL | C22: =SUM(C4:C21) -> 2123517.9 | D22: =SUM(D4:D21) -> 1655808 | E22: =SUM(E4:E21) -> 4467539.9 | F22: =SUM(F4:F21) -> 2153465.2 | G22: =SUM(G4:G21) -> 1902599.1 | H22: =SUM(H4:H21) -> 3080287.2 | I22: =SUM(I4:I21) -> 149649.66 | J22: =SUM(J4:J21) -> 82021.605 | ... N22: =SUM(N4:N21) -> 8301816.3 | O22: =M22+N22 -> 18029071
A24: DISTRIBUTION OF WORKING POPULATION BY ECONOMIC ACTIVITY BY TYPE OF ENGAGEMENT AND BY SEX -Male
B25: Major Economic Activity | C25: Work for Pay/Wage | E25: Self employment (in farming) | G25: Self employment (non farming) | I25: Paid Apprentice | K25: UnPaid Household Worker | M25: TOTAL
C26: Total Male | E26: Total Male | G26: Total Male | I26: Total Male | K26: Total Male | M26: Total Male
A27: A | B27: AGRICULTURE | C27: 336232.57 | E27: 4467539.9 | G27: 221001.76 | I27: 32658.426 | K27: 943206.26 | M27: 6000638.9
A28: B | B28: MINING AND QUARRYING | C28: 3030.7999 | E28: 0 | G28: 20055.919 | I28: 345.67595 | K28: 0 | M28: 23432.395
A29: C | B29: MANUFACTURING | C29: 83979.668 | E29: 0 | G29: 416762.82 | I29: 30350.727 | K29: 19004.237 | M29: 550097.45
A30: D | B30: ELECTRICITY, GAS, STEAM & AIR CONDITIONING SUPPLY | C30: 0 | E30: 0 | G30: 1161.0115 | I30: 0 | K30: 0 | M30: 1161.0115
A31: E | B31: WATER SUPPLY, SEWERAGE, WASTE MANAGEMENT & REMEDIATION | C31: 2219.4455 | E31: 0 | G31: 3334.9716 | I31: 0 | K31: 0 | M31: 5554.4171
A32: F | B32: CONSTRUCTION | C32: 145824.96 | E32: 0 | G32: 194964.7 | I32: 16163.062 | K32: 2797.7159 | M32: 359750.44
A33: G | B33: TRADE | C33: 81663.008 | E33: 0 | G33: 395881.05 | I33: 17170.326 | K33: 17468.668 | M33: 512183.05
A34: I | B34: ACCOMMODATION AND FOOD SERVICES | C34: 0 | E34: 0 | G34: 15171.96 | I34: 0 | K34: 4221.3853 | M34: 19393.345
A35: H | B35: TRANSPORTATION AND STORAGE | C35: 157691.51 | E35: 0 | G35: 163182.84 | I35: 1454.7894 | K35: 4722.801 | M35: 327051.94
A36: J | B36: INFORMATION AND COMMUNICATION | C36: 56330.964 | E36: 0 | G36: 25729.428 | I36: 2021.2598 | K36: 0 | M36: 84081.652
A37: K | B37: ARTS, ENTERTAINMENTAND RECREATION | C37: 95216.669 | E37: 0 | G37: 12317.129 | I37: 0 | K37: 0 | M37: 107533.8
A38: L | B38: FINANCIAL AND INSURANCE | C38: 84598.774 | E38: 0 | G38: 2085.7308 | I38: 0 | K38: 1202.0317 | M38: 87886.537
... A44: S | B44: OTHER SERVICES | C44: 389335.68 | E44: 0 | G44: 187915.2 | I44: 12171.711 | K44: 71703.176 | M44: 661125.77
B45: TOTAL | C45: 2123517.9 | E45: 4467539.9 | G45: 1902599.1 | I45: 149649.66 | K45: 1083948 | M45: 9727254.5
A47: DISTRIBUTION OF WORKING POPULATION BY ECONOMIC ACTIVITY BY TYPE OF ENGAGEMENT AND BY SEX- Female
B48: Major Economic Activity | C48: Work for Pay/Wage | E48: Self employment (in farming) | G48: Self employment (non farming) | I48: Paid Apprentice | K48: UnPaid Household Worker | M48: TOTAL
C49: Female | E49: Female | G49: Female | I49: Female | K49: Female | M49: Female
A50: A | B50: AGRICULTURE | C50: 185390.01 | E50: 2153465.2 | G50: 81902.109 | I50: 13795.524 | K50: 974017.01 | M50: 3408569.9
A51: B | B51: MINING AND QUARRYING | C51: 0 | E51: 0 | G51: 2183.3893 | I51: 0 | K51: 0 | M51: 2183.3893
A52: C | B52: MANUFACTURING | C52: 60236.119 | E52: 0 | G52: 640260.21 | I52: 13050.581 | K52: 76709.81 | M52: 790256.72
A53: D | B53: ELECTRICITY, GAS, STEAM & AIR CONDITIONING SUPPLY | C53: 0 | E53: 0 | G53: 0 | I53: 0 | K53: 0 | M53: 0
A54: E | B54: WATER SUPPLY, SEWERAGE, WASTE MANAGEMENT & REMEDIATION | C54: 0 | E54: 0 | G54: 5439.6052 | I54: 0 | K54: 485.312 | M54: 5924.9172
A55: F | B55: CONSTRUCTION | C55: 1419.1516 | E55: 0 | G55: 5110.5048 | I55: 0 | K55: 1125.9187 | M55: 7655.5751
A56: G | B56: TRADE | C56: 216849.07 | E56: 0 | G56: 1555605.3 | I56: 18198.952 | K56: 82210.157 | M56: 1872863.5
A57: I | B57: ACCOMMODATION AND FOOD SERVICES | C57: 0 | E57: 0 | G57: 362295.91 | I57: 7718.7768 | K57: 22295.063 | M57: 392309.75
A58: H | B58: TRANSPORTATION AND STORAGE | C58: 5888.714 | E58: 0 | G58: 0 | I58: 0 | K58: 0 | M58: 5888.714
A59: J | B59: INFORMATION AND COMMUNICATION | C59: 16851.282 | E59: 0 | G59: 3333.721 | I59: 0 | K59: 0 | M59: 20185.003
A60: K | B60: ARTS, ENTERTAINMENTAND RECREATION | C60: 23275.289 | E60: 0 | G60: 685.27642 | I60: 0 | K60: 0 | M60: 23960.565
A61: L | B61: FINANCIAL AND INSURANCE | C61: 108484.13 | E61: 0 | G61: 0 | I61: 0 | K61: 0 | M61: 108484.13
... A67: S | B67: OTHER SERVICES | C67: 246722.89 | E67: 0 | G67: 244221.92 | I67: 5631.7814 | K67: 108011.66 | M67: 604588.26
B68: TOTAL | C68: =SUM(C50:D67) -> 1655808 | E68: =SUM(E50:F67) -> 2153465.2 | G68: =SUM(G50:H67) -> 3080287.2 | I68: =SUM(I50:J67) -> 82021.605 | K68: =SUM(K50:L67) -> 1330234.3 | M68: =SUM(M50:N67) -> 8301816.3
A71: PERCENTAGE DISTRIBUTION OF WORKING POPULATION BY ECONOMIC ACTIVITY BY TYPE OF ENGAGEMENT AND BY SEX %
B72: Major Economic Activity | C72: Work for Pay/Wage | E72: Self employment (in farming) | G72: Self employment (non farming) | I72: Paid Apprentice | K72: UnPaid Household Worker | M72: TOTAL
C73: Male | D73: Female | E73: Male | F73: Female | G73: Male | H73: Female | I73: Male | J73: Female | K73: Male | L73: Female | M73: Male | N73: Female
A74: A | B74: AGRICULTURE | C74: 15.833752 | D74: 11.196347 | E74: 100 | F74: 100 | G74: 11.615782 | H74: 2.6589115 | I74: 21.823254 | J74: 16.819378 | K74: 87.015824 | L74: 73.221465 | M74: 61.688927 | N74: 41.058122
A75: B | B75: MINING AND QUARRYING | C75: 0.14272542 | D75: 0 | G75: 1.0541327 | H75: 0.070882653 | I75: 0.23099013 | J75: 0 | K75: 0 | L75: 0 | M75: 0.24089423 | N75: 0.02630014
A76: C | B76: MANUFACTURING | C76: 3.9547425 | D76: 3.6378685 | G76: 21.904921 | H76: 20.785731 | I76: 20.281187 | J76: 15.91115 | K76: 1.7532426 | L76: 5.7666392 | M76: 5.6552181 | N76: 9.5190822
A77: D | B77: ELECTRICITY, GAS, STEAM & AIR CONDITIONING SUPPLY | C77: =100*C7/C$22 -> 0 | D77: =100*D7/D$22 -> 0 | G77: =100*G7/G$22 -> 0.061022392 | H77: =100*H7/H$22 -> 0 | M77: =100*M7/M$22 -> 0.011935654 | N77: =100*N7/N$22 -> 0
A78: E | B78: WATER SUPPLY, SEWERAGE, WASTE MANAGEMENT & REMEDIATION | C78: =100*C8/C$22 -> 0.10451739 | D78: =100*D8/D$22 -> 0 | G78: =100*G8/G$22 -> 0.17528505 | H78: =100*H8/H$22 -> 0.17659409 | M78: =100*M8/M$22 -> 0.057101591 | N78: =100*N8/N$22 -> 0.071368927
A79: F | B79: CONSTRUCTION | C79: =100*C9/C$22 -> 6.8671406 | D79: =100*D9/D$22 -> 0.085707493 | G79: =100*G9/G$22 -> 10.247282 | H79: =100*H9/H$22 -> 0.16591001 | I79: =100*I9/I$22 -> 10.800601 | J79: =100*J9/J$22 -> 0 | K79: =100*K9/K$22 -> 0.25810426 | L79: =100*L9/L$22 -> 0.084640635 | M79: =100*M9/M$22 -> 3.6983759 | N79: =100*N9/N$22 -> 0.092215664
A80: G | B80: TRADE | C80: =100*C10/C$22 -> 3.8456472 | D80: =100*D10/D$22 -> 13.096269 | G80: =100*G10/G$22 -> 20.807382 | H80: =100*H10/H$22 -> 50.501956 | I80: =100*I10/I$22 -> 11.473682 | J80: =100*J10/J$22 -> 22.187998 | K80: =100*K10/K$22 -> 1.611578 | L80: =100*L10/L$22 -> 6.1801263 | M80: =100*M10/M$22 -> 5.2654431 | N80: =100*N10/N$22 -> 22.559683
A81: I | B81: ACCOMMODATION AND FOOD SERVICES | G81: =100*G11/G$22 -> 0.79743336 | H81: =100*H11/H$22 -> 11.761758 | I81: =100*I11/I$22 -> 0 | J81: =100*J11/J$22 -> 9.4106629 | K81: =100*K11/K$22 -> 0.38944538 | L81: =100*L11/L$22 -> 1.6760253 | M81: =100*M11/M$22 -> 0.19937121 | N81: =100*N11/N$22 -> 4.7255894
A82: H | B82: TRANSPORTATION AND STORAGE | C82: =100*C12/C$22 -> 7.4259561 | D82: =100*D12/D$22 -> 0.3556399 | G82: =100*G12/G$22 -> 8.5768381 | H82: =100*H12/H$22 -> 0 | I82: =100*I12/I$22 -> 0.97213012 | J82: =100*J12/J$22 -> 0 | K82: =100*K12/K$22 -> 0.43570366 | L82: =100*L12/L$22 -> 0 | M82: =100*M12/M$22 -> 3.3622225 | N82: =100*N12/N$22 -> 0.070932839
A83: J | B83: INFORMATION AND COMMUNICATION | C83: =100*C13/C$22 -> 2.652719 | D83: =100*D13/D$22 -> 1.0177075 | G83: =100*G13/G$22 -> 1.3523305 | H83: =100*H13/H$22 -> 0.1082276 | I83: =100*I13/I$22 -> 1.3506611 | J83: =100*J13/J$22 -> 0 | M83: =100*M13/M$22 -> 0.86439244 | N83: =100*N13/N$22 -> 0.2431396
A84: K | B84: ARTS, ENTERTAINMENTAND RECREATION | C84: =100*C14/C$22 -> 4.4839117 | D84: =100*D14/D$22 -> 1.4056756 | G84: =100*G14/G$22 -> 0.6473844 | H84: =100*H14/H$22 -> 0.02224716 | I84: =100*I14/I$22 -> 0 | J84: =100*J14/J$22 -> 0 | M84: =100*M14/M$22 -> 1.1054897 | N84: =100*N14/N$22 -> 0.28861835
A85: L | B85: FINANCIAL AND INSURANCE | C85: =100*C15/C$22 -> 3.9838973 | D85: =100*D15/D$22 -> 6.5517336 | G85: =100*G15/G$22 -> 0.10962535 | H85: =100*H15/H$22 -> 0 | I85: =100*I15/I$22 -> 0 | J85: =100*J15/J$22 -> 0 | K85: =100*K15/K$22 -> 0.11089386 | L85: =100*L15/L$22 -> 0 | M85: =100*M15/M$22 -> 0.90350815 | N85: =100*N15/N$22 -> 1.3067518
A86: M | B86: REAL ESTATE | C86: =100*C16/C$22 -> 0 | D86: =100*D16/D$22 -> 0 | G86: =100*G16/G$22 -> 0.84711445 | H86: =100*H16/H$22 -> 0.084849966 | I86: =100*I16/I$22 -> 0 | J86: =100*J16/J$22 -> 0 | K86: =100*K16/K$22 -> 0 | L86: =100*L16/L$22 -> 0 | M86: =100*M16/M$22 -> 0.16569106 | N86: =100*N16/N$22 -> 0.03148254
A87: N | B87: PROFESSIONAL, SCIENTIFIC AND TECHNICAL SERVICES | C87: =100*C17/C$22 -> 15.593404 | D87: =100*D17/D$22 -> 14.407236 | G87: =100*G17/G$22 -> 6.7999999 | H87: =100*H17/H$22 -> 3.8675722 | I87: =100*I17/I$22 -> 23.325638 | J87: =100*J17/J$22 -> 26.330097 | K87: =100*K17/K$22 -> 0.62744609 | L87: =100*L17/L$22 -> 1.6075351 | M87: =100*M17/M$22 -> 5.1629511 | N87: =100*N17/N$22 -> 4.8262795
A88: O | B88: ADMINISTRATIVE & SUPPORT SERVICES | C88: =100*C18/C$22 -> 1.2285583 | D88: =100*D18/D$22 -> 0.26428233 | G88: =100*G18/G$22 -> 1.0054621 | H88: =100*H18/H$22 -> 0.16933454 | I88: =100*I18/I$22 -> 0.22609403 | J88: =100*J18/J$22 -> 0 | K88: =100*K18/K$22 -> 0.075547874 | L88: =100*L18/L$22 -> 0 | M88: =100*M18/M$22 -> 0.47676163 | N88: =100*N18/N$22 -> 0.11554096
A89: Q | B89: EDUCATION | C89: =100*C19/C$22 -> 11.203398 | D89: =100*D19/D$22 -> 21.035398 | G89: =100*G19/G$22 -> 3.1265935 | H89: =100*H19/H$22 -> 1.2365641 | I89: =100*I19/I$22 -> 0.57128054 | J89: =100*J19/J$22 -> 1.3351901 | K89: =100*K19/K$22 -> 0.98363961 | L89: =100*L19/L$22 -> 0.2806355 | M89: =100*M19/M$22 -> 3.1757138 | N89: =100*N19/N$22 -> 4.7125084
A90: R | B90: HUMAN HEALTH AND SOCIAL SERVICES | C90: =100*C20/C$22 -> 4.345164 | D90: =100*D20/D$22 -> 12.045682 | G90: =100*G20/G$22 -> 0.99464793 | H90: =100*H20/H$22 -> 0.46091699 | I90: =100*I20/I$22 -> 0.81101225 | J90: =100*J20/J$22 -> 1.1393071 | K90: =100*K20/K$22 -> 0.12357308 | L90: =100*L20/L$22 -> 3.026702 | M90: =100*M20/M$22 -> 1.1693705 | N90: =100*N20/N$22 -> 3.0697818
A91: S | B91: OTHER SERVICES | C91: =100*C21/C$22 -> 18.334466 | D91: =100*D21/D$22 -> 14.900453 | G91: =100*G21/G$22 -> 9.8767629 | H91: =100*H21/H$22 -> 7.9285439 | I91: =100*I21/I$22 -> 8.1334707 | J91: =100*J21/J$22 -> 6.8662171 | K91: =100*K21/K$22 -> 6.6150016 | L91: =100*L21/L$22 -> 8.1197476 | M91: =100*M21/M$22 -> 6.7966328 | N91: =100*N21/N$22 -> 7.2826022
B92: TOTAL | C92: =SUM(C74:C91) -> 100 | D92: =SUM(D74:D91) -> 100 | E92: =SUM(E74:E91) -> 100 | F92: =SUM(F74:F91) -> 100 | G92: =SUM(G74:G91) -> 100 | H92: =SUM(H74:H91) -> 100 | I92: =SUM(I74:I91) -> 100 | J92: =SUM(J74:J91) -> 100 | ... N92: =SUM(N74:N91) -> 100
A96: PERCENTAGE DISTRIBUTION OF WORKING POPULATION BY SECTOR AND BY SEX %
B97: Major Economic Activity | C97: Work for Pay/Wage | E97: Self employment (in farming) | G97: Self employment (non farming) | I97: Paid Apprentice | K97: UnPaid Household Worker | M97: TOTAL
C98: Male | D98: Female | E98: Male | F98: Female | G98: Male | H98: Female | I98: Male | J98: Female | K98: Male | L98: Female | M98: Male | N98: Female | O98: Male+Female
A99: A | B99: AGRICULTURE | C99: =C4/$O4*100 -> 3.5734415 | D99: =D4/$O4*100 -> 1.970304 | E99: =E4/$O4*100 -> 47.480505 | F99: =F4/$O4*100 -> 22.886783 | G99: =G4/$O4*100 -> 2.3487816 | H99: =H4/$O4*100 -> 0.8704463 | I99: =I4/$O4*100 -> 0.34709003 | J99: =J4/$O4*100 -> 0.14661725 | ... N99: =N4/$O4*100 -> 36.225893 | O99: =SUM(M99:N99) -> 100
A100: B | B100: MINING AND QUARRYING | C100: =C5/$O5*100 -> 11.831767 | D100: =D5/$O5*100 -> 0 | E100: =E5/$O5*100 -> 0 | F100: =F5/$O5*100 -> 0 | G100: =G5/$O5*100 -> 78.295159 | H100: =H5/$O5*100 -> 8.5236089 | I100: =I5/$O5*100 -> 1.3494646 | J100: =J5/$O5*100 -> 0 | ... N100: =N5/$O5*100 -> 8.5236089 | O100: =SUM(M100:N100) -> 100
A101: C | B101: MANUFACTURING | C101: =C6/$O6*100 -> 6.2654834 | D101: =D6/$O6*100 -> 4.494045 | E101: =E6/$O6*100 -> 0 | F101: =F6/$O6*100 -> 0 | G101: =G6/$O6*100 -> 31.093485 | H101: =H6/$O6*100 -> 47.767987 | I101: =I6/$O6*100 -> 2.2643811 | J101: =J6/$O6*100 -> 0.97366659 | ... N101: =N6/$O6*100 -> 58.958799 | O101: =SUM(M101:N101) -> 100
A102: D | B102: ELECTRICITY, GAS, STEAM & AIR CONDITIONING SUPPLY | C102: =C7/$O7*100 -> 0 | D102: =D7/$O7*100 -> 0 | E102: =E7/$O7*100 -> 0 | F102: =F7/$O7*100 -> 0 | G102: =G7/$O7*100 -> 100 | H102: =H7/$O7*100 -> 0 | I102: =I7/$O7*100 -> 0 | J102: =J7/$O7*100 -> 0 | ... N102: =N7/$O7*100 -> 0 | O102: =SUM(M102:N102) -> 100
A103: E | B103: WATER SUPPLY, SEWERAGE, WASTE MANAGEMENT & REMEDIATION | C103: =C8/$O8*100 -> 19.33427 | D103: =D8/$O8*100 -> 0 | E103: =E8/$O8*100 -> 0 | F103: =F8/$O8*100 -> 0 | G103: =G8/$O8*100 -> 29.05196 | H103: =H8/$O8*100 -> 47.386068 | I103: =I8/$O8*100 -> 0 | J103: =J8/$O8*100 -> 0 | ... N103: =N8/$O8*100 -> 51.61377 | O103: =SUM(M103:N103) -> 100
A104: F | B104: CONSTRUCTION | C104: =C9/$O9*100 -> 39.690413 | D104: =D9/$O9*100 -> 0.38626247 | E104: =E9/$O9*100 -> 0 | F104: =F9/$O9*100 -> 0 | G104: =G9/$O9*100 -> 53.06519 | H104: =H9/$O9*100 -> 1.3909693 | I104: =I9/$O9*100 -> 4.3992373 | J104: =J9/$O9*100 -> 0 | ... N104: =N9/$O9*100 -> 2.0836826 | O104: =SUM(M104:N104) -> 100
A105: G | B105: TRADE | C105: =C10/$O10*100 -> 3.4239587 | D105: =D10/$O10*100 -> 9.0920268 | E105: =E10/$O10*100 -> 0 | F105: =F10/$O10*100 -> 0 | G105: =G10/$O10*100 -> 16.598462 | H105: =H10/$O10*100 -> 65.223268 | I105: =I10/$O10*100 -> 0.71991578 | J105: =J10/$O10*100 -> 0.7630439 | ... N105: =N10/$O10*100 -> 78.525239 | O105: =SUM(M105:N105) -> 100
A106: I | B106: ACCOMMODATION AND FOOD SERVICES | C106: =C11/$O11*100 -> 0 | D106: =D11/$O11*100 -> 0 | E106: =E11/$O11*100 -> 0 | F106: =F11/$O11*100 -> 0 | G106: =G11/$O11*100 -> 3.6851702 | H106: =H11/$O11*100 -> 87.999317 | I106: =I11/$O11*100 -> 0 | J106: =J11/$O11*100 -> 1.8748406 | ... N106: =N11/$O11*100 -> 95.289483 | O106: =SUM(M106:N106) -> 100
A107: H | B107: TRANSPORTATION AND STORAGE | C107: =C12/$O12*100 -> 47.363249 | D107: =D12/$O12*100 -> 1.7686978 | E107: =E12/$O12*100 -> 0 | F107: =F12/$O12*100 -> 0 | G107: =G12/$O12*100 -> 49.012591 | H107: =H12/$O12*100 -> 0 | I107: =I12/$O12*100 -> 0.43695157 | J107: =J12/$O12*100 -> 0 | ... N107: =N12/$O12*100 -> 1.7686978 | O107: =SUM(M107:N107) -> 100
A108: J | B108: INFORMATION AND COMMUNICATION | C108: =C13/$O13*100 -> 54.025867 | D108: =D13/$O13*100 -> 16.161717 | E108: =E13/$O13*100 -> 0 | F108: =F13/$O13*100 -> 0 | G108: =G13/$O13*100 -> 24.676564 | H108: =H13/$O13*100 -> 3.1973031 | I108: =I13/$O13*100 -> 1.9385486 | J108: =J13/$O13*100 -> 0 | ... N108: =N13/$O13*100 -> 19.35902 | O108: =SUM(M108:N108) -> 100
A109: K | B109: ARTS, ENTERTAINMENTAND RECREATION | C109: =C14/$O14*100 -> 72.411217 | D109: =D14/$O14*100 -> 17.700598 | E109: =E14/$O14*100 -> 0 | F109: =F14/$O14*100 -> 0 | G109: =G14/$O14*100 -> 9.3670398 | H109: =H14/$O14*100 -> 0.52114509 | I109: =I14/$O14*100 -> 0 | J109: =J14/$O14*100 -> 0 | ... N109: =N14/$O14*100 -> 18.221743 | O109: =SUM(M109:N109) -> 100
A110: L | B110: FINANCIAL AND INSURANCE | C110: =C15/$O15*100 -> 43.081166 | D110: =D15/$O15*100 -> 55.24457 | E110: =E15/$O15*100 -> 0 | F110: =F15/$O15*100 -> 0 | G110: =G15/$O15*100 -> 1.0621397 | H110: =H15/$O15*100 -> 0 | I110: =I15/$O15*100 -> 0 | J110: =J15/$O15*100 -> 0 | ... N110: =N15/$O15*100 -> 55.24457 | O110: =SUM(M110:N110) -> 100
... A116: S | B116: OTHER SERVICES | C116: =C21/$O21*100 -> 30.760162 | D116: =D21/$O21*100 -> 19.492783 | E116: =E21/$O21*100 -> 0 | F116: =F21/$O21*100 -> 0 | G116: =G21/$O21*100 -> 14.846576 | H116: =H21/$O21*100 -> 19.295189 | I116: =I21/$O21*100 -> 0.96164781 | J116: =J21/$O21*100 -> 0.44494896 | ... N116: =N21/$O21*100 -> 47.766577 | O116: =SUM(M116:N116) -> 100

Sheet Work 40 Hrs-Full-Time employed
A1: ABSOLUTE DISTRIBUTION OF WORKING POPULATION BY ECONOMIC ACTIVITY BY TYPE OF ENGAGEMENT AND BY SEX
B2: Major Economic Activity | C2: Work for Pay/Wage | E2: Self employment (in farming) | G2: Self employment (non farming) | I2: Paid Apprentice | K2: UnPaid Household Worker | M2: TOTAL
C3: Male | D3: Female | E3: Male | F3: Female | G3: Male | H3: Female | I3: Male | J3: Female | K3: Male | L3: Female | M3: Male | N3: Female | O3: Male+Female
A4: A | B4: AGRICULTURE | C4: 1289697 | D4: 400806.09 | E4: 15240449 | F4: 3612219.4 | G4: 554942.03 | H4: 162215.96 | I4: 118512.38 | J4: 25603.345 | K4: 905177.65 | L4: 639402.28 | M4: =SUM(C4,E4,G4,I4,K4) -> 18108778 | N4: =SUM(D4,F4,H4,J4,L4) -> 4840247.1 | O4: =M4+N4 -> 22949025
A5: B | B5: MINING AND QUARRYING | C5: 11838.893 | D5: 0 | G5: 62474.193 | H5: 6513.4175 | I5: 4091.1137 | J5: 0 | K5: 1158.0094 | L5: 0 | M5: =SUM(C5,E5,G5,I5,K5) -> 79562.208 | N5: =SUM(D5,F5,H5,J5,L5) -> 6513.4175 | O5: =M5+N5 -> 86075.626
A6: C | B6: MANUFACTURING | C6: 569115.8 | D6: 110208.8 | G6: 1715209.7 | H6: 875285.09 | I6: 95113.509 | J6: 28951.802 | K6: 78446.588 | L6: 109182.46 | M6: =SUM(C6,E6,G6,I6,K6) -> 2457885.6 | N6: =SUM(D6,F6,H6,J6,L6) -> 1123628.2 | O6: =M6+N6 -> 3581513.8
A7: D | B7: ELECTRICITY, GAS, STEAM & AIR CONDITIONING SUPPLY | G7: 5144.2045 | H7: 0 | K7: 823.91988 | L7: 0 | M7: =SUM(C7,E7,G7,I7,K7) -> 5968.1244 | N7: =SUM(D7,F7,H7,J7,L7) -> 0 | O7: =M7+N7 -> 5968.1244
A8: E | B8: WATER SUPPLY, SEWERAGE, WASTE MANAGEMENT & REMEDIATION | C8: 33784.872 | D8: 7310.9119 | G8: 27390.178 | H8: 2626.3535 | I8: 223.45651 | J8: 0 | K8: 0 | L8: 796.40855 | M8: =SUM(C8,E8,G8,I8,K8) -> 61398.507 | N8: =SUM(D8,F8,H8,J8,L8) -> 10733.674 | O8: =M8+N8 -> 72132.181
A9: F | B9: CONSTRUCTION | C9: 556355.76 | D9: 18368.439 | G9: 627161.19 | H9: 5895.925 | I9: 28814.701 | J9: 0 | K9: 9266.7895 | L9: 679.03517 | M9: =SUM(C9,E9,G9,I9,K9) -> 1221598.4 | N9: =SUM(D9,F9,H9,J9,L9) -> 24943.399 | O9: =M9+N9 -> 1246541.8
A10: G | B10: TRADE | C10: 433718.79 | D10: 574557.29 | G10: 2539866.6 | H10: 3878479.3 | I10: 53304.871 | J10: 29770.115 | K10: 51947.236 | L10: 68103.826 | M10: =SUM(C10,E10,G10,I10,K10) -> 3078837.5 | N10: =SUM(D10,F10,H10,J10,L10) -> 4550910.5 | O10: =M10+N10 -> 7629748
A11: I | B11: ACCOMMODATION AND FOOD SERVICES | C11: 5113.2759 | D11: 2599.3037 | G11: 77274.656 | H11: 358504.36 | I11: 4285.2597 | J11: 3616.4377 | K11: 8441.9303 | L11: 63093.774 | M11: =SUM(C11,E11,G11,I11,K11) -> 95115.121 | N11: =SUM(D11,F11,H11,J11,L11) -> 427813.88 | O11: =M11+N11 -> 522929
A12: H | B12: TRANSPORTATION AND STORAGE | C12: 675231.09 | D12: 8671.5441 | G12: 1337922.2 | H12: 8594.5615 | I12: 12686.297 | J12: 0 | K12: 14033.059 | L12: 0 | M12: =SUM(C12,E12,G12,I12,K12) -> 2039872.6 | N12: =SUM(D12,F12,H12,J12,L12) -> 17266.106 | O12: =M12+N12 -> 2057138.7
A13: J | B13: INFORMATION AND COMMUNICATION | C13: 159183.31 | D13: 59640.598 | G13: 59251.046 | H13: 2425.4777 | I13: 2366.7557 | J13: 1309.2954 | M13: =SUM(C13,E13,G13,I13,K13) -> 220801.12 | N13: =SUM(D13,F13,H13,J13,L13) -> 63375.371 | O13: =M13+N13 -> 284176.49
A14: K | B14: ARTS, ENTERTAINMENTAND RECREATION | C14: 223890.75 | D14: 56389.477 | G14: 24996.213 | H14: 4047.7992 | I14: 4102.281 | J14: 0 | M14: =SUM(C14,E14,G14,I14,K14) -> 252989.24 | N14: =SUM(D14,F14,H14,J14,L14) -> 60437.276 | O14: =M14+N14 -> 313426.52
A15: L | B15: FINANCIAL AND INSURANCE | C15: 428201.14 | D15: 199701.2 | G15: 47254.433 | H15: 4378.5166 | I15: 834.21728 | J15: 0 | K15: 4334.032 | L15: 3005.7579 | M15: =SUM(C15,E15,G15,I15,K15) -> 480623.82 | N15: =SUM(D15,F15,H15,J15,L15) -> 207085.48 | O15: =M15+N15 -> 687709.3
A16: M | B16: REAL ESTATE | G16: 46346.954 | H16: 0 | K16: 1102.6478 | L16: 0 | M16: =SUM(C16,E16,G16,I16,K16) -> 47449.602 | N16: =SUM(D16,F16,H16,J16,L16) -> 0 | O16: =M16+N16 -> 47449.602
A17: N | B17: PROFESSIONAL, SCIENTIFIC AND TECHNICAL SERVICES | C17: 1749950.5 | D17: 846955.3 | G17: 500094.57 | H17: 246388.5 | I17: 22274.208 | J17: 26058.58 | K17: 18776.796 | L17: 34205.711 | M17: =SUM(C17,E17,G17,I17,K17) -> 2291096 | N17: =SUM(D17,F17,H17,J17,L17) -> 1153608.1 | O17: =M17+N17 -> 3444704.1
A18: O | B18: ADMINISTRATIVE & SUPPORT SERVICES | C18: 215986.91 | D18: 40403.123 | G18: 79102.014 | H18: 25008.747 | I18: 5184.1953 | J18: 0 | K18: 7672.2133 | L18: 5093.4702 | M18: =SUM(C18,E18,G18,I18,K18) -> 307945.34 | N18: =SUM(D18,F18,H18,J18,L18) -> 70505.34 | O18: =M18+N18 -> 378450.68
A19: Q | B19: EDUCATION | C19: 721017.62 | D19: 736661.1 | G19: 176519.57 | H19: 132886.55 | I19: 7583.5048 | J19: 2471.8744 | K19: 29908.532 | L19: 15568.524 | M19: =SUM(C19,E19,G19,I19,K19) -> 935029.23 | N19: =SUM(D19,F19,H19,J19,L19) -> 887588.05 | O19: =M19+N19 -> 1822617.3
A20: R | B20: HUMAN HEALTH AND SOCIAL SERVICES | C20: 508435.03 | D20: 801401.28 | G20: 113825.6 | H20: 60409.924 | I20: 8538.0712 | J20: 5088.3989 | K20: 10618.292 | L20: 97028.241 | M20: =SUM(C20,E20,G20,I20,K20) -> 641416.99 | N20: =SUM(D20,F20,H20,J20,L20) -> 963927.85 | O20: =M20+N20 -> 1605344.8
A21: S | B21: OTHER SERVICES | C21: 1681377.2 | D21: 975602.39 | G21: 664665.24 | H21: 584228.72 | I21: 26718.626 | J21: 29827.159 | K21: 148930.76 | L21: 214634.97 | M21: =SUM(C21,E21,G21,I21,K21) -> 2521691.8 | N21: =SUM(D21,F21,H21,J21,L21) -> 1804293.2 | O21: =M21+N21 -> 4325985
B22: TOTAL | C22: =SUM(C4:C21) -> 9262897.8 | D22: =SUM(D4:D21) -> 4839276.9 | E22: =SUM(E4:E21) -> 15240449 | F22: =SUM(F4:F21) -> 3612219.4 | G22: =SUM(G4:G21) -> 8659440.5 | H22: =SUM(H4:H21) -> 6357889.2 | I22: =SUM(I4:I21) -> 394633.45 | J22: =SUM(J4:J21) -> 152697.01 | ... N22: =SUM(N4:N21) -> 16212877 | O22: =M22+N22 -> 51060936
A24: DISTRIBUTION OF WORKING POPULATION BY ECONOMIC ACTIVITY BY TYPE OF ENGAGEMENT AND BY SEX -Male
B25: Major Economic Activity | C25: Work for Pay/Wage | E25: Self employment (in farming) | G25: Self employment (non farming) | I25: Paid Apprentice | K25: UnPaid Household Worker | M25: TOTAL
C26: Total Male | E26: Total Male | G26: Total Male | I26: Total Male | K26: Total Male | M26: Total Male
A27: A | B27: AGRICULTURE | C27: 1289697 | E27: 15240449 | G27: 554942.03 | I27: 118512.38 | K27: 905177.65 | M27: 18108778
A28: B | B28: MINING AND QUARRYING | C28: 11838.893 | E28: 0 | G28: 62474.193 | I28: 4091.1137 | K28: 1158.0094 | M28: 79562.208
A29: C | B29: MANUFACTURING | C29: 569115.8 | E29: 0 | G29: 1715209.7 | I29: 95113.509 | K29: 78446.588 | M29: 2457885.6
A30: D | B30: ELECTRICITY, GAS, STEAM & AIR CONDITIONING SUPPLY | C30: 0 | E30: 0 | G30: 5144.2045 | I30: 0 | K30: 823.91988 | M30: 5968.1244
A31: E | B31: WATER SUPPLY, SEWERAGE, WASTE MANAGEMENT & REMEDIATION | C31: 33784.872 | E31: 0 | G31: 27390.178 | I31: 223.45651 | K31: 0 | M31: 61398.507
A32: F | B32: CONSTRUCTION | C32: 556355.76 | E32: 0 | G32: 627161.19 | I32: 28814.701 | K32: 9266.7895 | M32: 1221598.4
A33: G | B33: TRADE | C33: 433718.79 | E33: 0 | G33: 2539866.6 | I33: 53304.871 | K33: 51947.236 | M33: 3078837.5
A34: I | B34: ACCOMMODATION AND FOOD SERVICES | C34: 5113.2759 | E34: 0 | G34: 77274.656 | I34: 4285.2597 | K34: 8441.9303 | M34: 95115.121
A35: H | B35: TRANSPORTATION AND STORAGE | C35: 675231.09 | E35: 0 | G35: 1337922.2 | I35: 12686.297 | K35: 14033.059 | M35: 2039872.6
A36: J | B36: INFORMATION AND COMMUNICATION | C36: 159183.31 | E36: 0 | G36: 59251.046 | I36: 2366.7557 | K36: 0 | M36: 220801.12
A37: K | B37: ARTS, ENTERTAINMENTAND RECREATION | C37: 223890.75 | E37: 0 | G37: 24996.213 | I37: 4102.281 | K37: 0 | M37: 252989.24
A38: L | B38: FINANCIAL AND INSURANCE | C38: 428201.14 | E38: 0 | G38: 47254.433 | I38: 834.21728 | K38: 4334.032 | M38: 480623.82
... A44: S | B44: OTHER SERVICES | C44: 1681377.2 | E44: 0 | G44: 664665.24 | I44: 26718.626 | K44: 148930.76 | M44: 2521691.8
B45: TOTAL | C45: 9262897.8 | E45: 15240449 | G45: 8659440.5 | I45: 394633.45 | K45: 1290638.5 | M45: 34848059
A47: DISTRIBUTION OF WORKING POPULATION BY ECONOMIC ACTIVITY BY TYPE OF ENGAGEMENT AND BY SEX- Female
B48: Major Economic Activity | C48: Work for Pay/Wage | E48: Self employment (in farming) | G48: Self employment (non farming) | I48: Paid Apprentice | K48: UnPaid Household Worker | M48: TOTAL
C49: Female | E49: Female | G49: Female | I49: Female | K49: Female | M49: Female
A50: A | B50: AGRICULTURE | C50: 400806.09 | E50: 3612219.4 | G50: 162215.96 | I50: 25603.345 | K50: 639402.28 | M50: 4840247.1
A51: B | B51: MINING AND QUARRYING | C51: 0 | E51: 0 | G51: 6513.4175 | I51: 0 | K51: 0 | M51: 6513.4175
A52: C | B52: MANUFACTURING | C52: 110208.8 | E52: 0 | G52: 875285.09 | I52: 28951.802 | K52: 109182.46 | M52: 1123628.2
A53: D | B53: ELECTRICITY, GAS, STEAM & AIR CONDITIONING SUPPLY | C53: 0 | E53: 0 | G53: 0 | I53: 0 | K53: 0 | M53: 0
A54: E | B54: WATER SUPPLY, SEWERAGE, WASTE MANAGEMENT & REMEDIATION | C54: 7310.9119 | E54: 0 | G54: 2626.3535 | I54: 0 | K54: 796.40855 | M54: 10733.674
A55: F | B55: CONSTRUCTION | C55: 18368.439 | E55: 0 | G55: 5895.925 | I55: 0 | K55: 679.03517 | M55: 24943.399
A56: G | B56: TRADE | C56: 574557.29 | E56: 0 | G56: 3878479.3 | I56: 29770.115 | K56: 68103.826 | M56: 4550910.5
A57: I | B57: ACCOMMODATION AND FOOD SERVICES | C57: 2599.3037 | E57: 0 | G57: 358504.36 | I57: 3616.4377 | K57: 63093.774 | M57: 427813.88
A58: H | B58: TRANSPORTATION AND STORAGE | C58: 8671.5441 | E58: 0 | G58: 8594.5615 | I58: 0 | K58: 0 | M58: 17266.106
A59: J | B59: INFORMATION AND COMMUNICATION | C59: 59640.598 | E59: 0 | G59: 2425.4777 | I59: 1309.2954 | K59: 0 | M59: 63375.371
A60: K | B60: ARTS, ENTERTAINMENTAND RECREATION | C60: 56389.477 | E60: 0 | G60: 4047.7992 | I60: 0 | K60: 0 | M60: 60437.276
A61: L | B61: FINANCIAL AND INSURANCE | C61: 199701.2 | E61: 0 | G61: 4378.5166 | I61: 0 | K61: 3005.7579 | M61: 207085.48
... A67: S | B67: OTHER SERVICES | C67: 975602.39 | E67: 0 | G67: 584228.72 | I67: 29827.159 | K67: 214634.97 | M67: 1804293.2
B68: TOTAL | C68: =SUM(C50:D67) -> 4839276.9 | E68: =SUM(E50:F67) -> 3612219.4 | G68: =SUM(G50:H67) -> 6357889.2 | I68: =SUM(I50:J67) -> 152697.01 | K68: =SUM(K50:L67) -> 1250794.5 | M68: =SUM(M50:N67) -> 16212877
A71: PERCENTAGE DISTRIBUTION OF WORKING POPULATION BY ECONOMIC ACTIVITY BY TYPE OF ENGAGEMENT AND BY SEX %
B72: Major Economic Activity | C72: Work for Pay/Wage | E72: Self employment (in farming) | G72: Self employment (non farming) | I72: Paid Apprentice | K72: UnPaid Household Worker | M72: TOTAL
C73: Male | D73: Female | E73: Male | F73: Female | G73: Male | H73: Female | I73: Male | J73: Female | K73: Male | L73: Female | M73: Male | N73: Female
A74: A | B74: AGRICULTURE | C74: 13.923256 | D74: 8.282355 | E74: 100 | F74: 100 | G74: 6.4085206 | H74: 2.5514123 | I74: 30.031002 | J74: 16.767418 | K74: 70.134099 | L74: 51.119692 | M74: 51.964954 | N74: 29.854338
A75: B | B75: MINING AND QUARRYING | C75: 0.12780982 | D75: 0 | G75: 0.72145761 | H75: 0.10244623 | I75: 1.036687 | J75: 0 | K75: 0.089723761 | L75: 0 | M75: 0.22831174 | N75: 0.040174347
A76: C | B76: MANUFACTURING | C76: 6.1440363 | D76: 2.2773815 | G76: 19.807397 | H76: 13.766913 | I76: 24.101735 | J76: 18.960294 | K76: 6.0781227 | L76: 8.729049 | M76: 7.0531493 | N76: 6.9304674
A77: D | B77: ELECTRICITY, GAS, STEAM & AIR CONDITIONING SUPPLY | C77: =100*C7/C$22 -> 0 | D77: =100*D7/D$22 -> 0 | G77: =100*G7/G$22 -> 0.059405738 | H77: =100*H7/H$22 -> 0 | K77: =100*K7/K$22 -> 0.063838163 | L77: =100*L7/L$22 -> 0 | M77: =100*M7/M$22 -> 0.017126132 | N77: =100*N7/N$22 -> 0
A78: E | B78: WATER SUPPLY, SEWERAGE, WASTE MANAGEMENT & REMEDIATION | C78: =100*C8/C$22 -> 0.36473329 | D78: =100*D8/D$22 -> 0.15107447 | G78: =100*G8/G$22 -> 0.31630425 | H78: =100*H8/H$22 -> 0.041308577 | I78: =100*I8/I$22 -> 0.056623813 | J78: =100*J8/J$22 -> 0 | K78: =100*K8/K$22 -> 0 | L78: =100*L8/L$22 -> 0.063672216 | M78: =100*M8/M$22 -> 0.17618917 | N78: =100*N8/N$22 -> 0.066204623
A79: F | B79: CONSTRUCTION | C79: =100*C9/C$22 -> 6.0062819 | D79: =100*D9/D$22 -> 0.37956991 | G79: =100*G9/G$22 -> 7.2425139 | H79: =100*H9/H$22 -> 0.092734002 | I79: =100*I9/I$22 -> 7.3016367 | J79: =100*J9/J$22 -> 0 | K79: =100*K9/K$22 -> 0.71800042 | L79: =100*L9/L$22 -> 0.05428831 | M79: =100*M9/M$22 -> 3.5054992 | N79: =100*N9/N$22 -> 0.15384931
A80: G | B80: TRADE | C80: =100*C10/C$22 -> 4.682323 | D80: =100*D10/D$22 -> 11.872792 | G80: =100*G10/G$22 -> 29.330608 | H80: =100*H10/H$22 -> 61.002625 | I80: =100*I10/I$22 -> 13.507439 | J80: =100*J10/J$22 -> 19.496201 | K80: =100*K10/K$22 -> 4.0249255 | L80: =100*L10/L$22 -> 5.4448455 | M80: =100*M10/M$22 -> 8.8350329 | N80: =100*N10/N$22 -> 28.069728
A81: I | B81: ACCOMMODATION AND FOOD SERVICES | C81: =100*C11/C$22 -> 0.055201687 | D81: =100*D11/D$22 -> 0.053712648 | G81: =100*G11/G$22 -> 0.89237469 | H81: =100*H11/H$22 -> 5.6387325 | I81: =100*I11/I$22 -> 1.0858836 | J81: =100*J11/J$22 -> 2.368375 | K81: =100*K11/K$22 -> 0.65408948 | L81: =100*L11/L$22 -> 5.0442959 | M81: =100*M11/M$22 -> 0.27294238 | N81: =100*N11/N$22 -> 2.6387289
A82: H | B82: TRANSPORTATION AND STORAGE | C82: =100*C12/C$22 -> 7.2896312 | D82: =100*D12/D$22 -> 0.17919091 | G82: =100*G12/G$22 -> 15.450446 | H82: =100*H12/H$22 -> 0.13517948 | I82: =100*I12/I$22 -> 3.2147039 | J82: =100*J12/J$22 -> 0 | K82: =100*K12/K$22 -> 1.0872959 | L82: =100*L12/L$22 -> 0 | M82: =100*M12/M$22 -> 5.853619 | N82: =100*N12/N$22 -> 0.10649625
A83: J | B83: INFORMATION AND COMMUNICATION | C83: =100*C13/C$22 -> 1.7185045 | D83: =100*D13/D$22 -> 1.2324279 | G83: =100*G13/G$22 -> 0.68423642 | H83: =100*H13/H$22 -> 0.038149103 | I83: =100*I13/I$22 -> 0.59973519 | J83: =100*J13/J$22 -> 0.85744667 | M83: =100*M13/M$22 -> 0.63361095 | N83: =100*N13/N$22 -> 0.39089528
A84: K | B84: ARTS, ENTERTAINMENTAND RECREATION | C84: =100*C14/C$22 -> 2.4170702 | D84: =100*D14/D$22 -> 1.1652459 | G84: =100*G14/G$22 -> 0.28865852 | H84: =100*H14/H$22 -> 0.063665771 | I84: =100*I14/I$22 -> 1.0395168 | J84: =100*J14/J$22 -> 0 | M84: =100*M14/M$22 -> 0.725978 | N84: =100*N14/N$22 -> 0.3727733
A85: L | B85: FINANCIAL AND INSURANCE | C85: =100*C15/C$22 -> 4.6227557 | D85: =100*D15/D$22 -> 4.1266744 | G85: =100*G15/G$22 -> 0.54569845 | H85: =100*H15/H$22 -> 0.068867457 | I85: =100*I15/I$22 -> 0.21139041 | J85: =100*J15/J$22 -> 0 | K85: =100*K15/K$22 -> 0.33580528 | L85: =100*L15/L$22 -> 0.2403079 | M85: =100*M15/M$22 -> 1.3791983 | N85: =100*N15/N$22 -> 1.2772901
A86: M | B86: REAL ESTATE | C86: =100*C16/C$22 -> 0 | D86: =100*D16/D$22 -> 0 | G86: =100*G16/G$22 -> 0.5352188 | H86: =100*H16/H$22 -> 0 | K86: =100*K16/K$22 -> 0.085434287 | L86: =100*L16/L$22 -> 0 | M86: =100*M16/M$22 -> 0.13616139 | N86: =100*N16/N$22 -> 0
A87: N | B87: PROFESSIONAL, SCIENTIFIC AND TECHNICAL SERVICES | C87: =100*C17/C$22 -> 18.892041 | D87: =100*D17/D$22 -> 17.501691 | G87: =100*G17/G$22 -> 5.7751372 | H87: =100*H17/H$22 -> 3.8753192 | I87: =100*I17/I$22 -> 5.6442779 | J87: =100*J17/J$22 -> 17.065547 | K87: =100*K17/K$22 -> 1.4548455 | L87: =100*L17/L$22 -> 2.7347188 | M87: =100*M17/M$22 -> 6.5745299 | N87: =100*N17/N$22 -> 7.1153818
A88: O | B88: ADMINISTRATIVE & SUPPORT SERVICES | C88: =100*C18/C$22 -> 2.3317424 | D88: =100*D18/D$22 -> 0.8349 | G88: =100*G18/G$22 -> 0.91347719 | H88: =100*H18/H$22 -> 0.39334984 | I88: =100*I18/I$22 -> 1.3136736 | J88: =100*J18/J$22 -> 0 | K88: =100*K18/K$22 -> 0.59445101 | L88: =100*L18/L$22 -> 0.4072188 | M88: =100*M18/M$22 -> 0.88368003 | N88: =100*N18/N$22 -> 0.43487248
A89: Q | B89: EDUCATION | C89: =100*C19/C$22 -> 7.7839315 | D89: =100*D19/D$22 -> 15.222545 | G89: =100*G19/G$22 -> 2.0384639 | H89: =100*H19/H$22 -> 2.0901048 | I89: =100*I19/I$22 -> 1.9216579 | J89: =100*J19/J$22 -> 1.61881 | K89: =100*K19/K$22 -> 2.317344 | L89: =100*L19/L$22 -> 1.2446909 | M89: =100*M19/M$22 -> 2.6831602 | N89: =100*N19/N$22 -> 5.474587
A90: R | B90: HUMAN HEALTH AND SOCIAL SERVICES | C90: =100*C20/C$22 -> 5.4889413 | D90: =100*D20/D$22 -> 16.560352 | G90: =100*G20/G$22 -> 1.3144683 | H90: =100*H20/H$22 -> 0.95015692 | I90: =100*I20/I$22 -> 2.1635447 | J90: =100*J20/J$22 -> 3.3323501 | K90: =100*K20/K$22 -> 0.82271621 | L90: =100*L20/L$22 -> 7.7573289 | M90: =100*M20/M$22 -> 1.8406104 | N90: =100*N20/N$22 -> 5.945446
A91: S | B91: OTHER SERVICES | C91: =100*C21/C$22 -> 18.15174 | D91: =100*D21/D$22 -> 20.160086 | G91: =100*G21/G$22 -> 7.6756142 | H91: =100*H21/H$22 -> 9.189036 | I91: =100*I21/I$22 -> 6.7704921 | J91: =100*J21/J$22 -> 19.533558 | K91: =100*K21/K$22 -> 11.539309 | L91: =100*L21/L$22 -> 17.159891 | M91: =100*M21/M$22 -> 7.2362475 | N91: =100*N21/N$22 -> 11.128767
B92: TOTAL | C92: =SUM(C74:C91) -> 100 | D92: =SUM(D74:D91) -> 100 | E92: =SUM(E74:E91) -> 100 | F92: =SUM(F74:F91) -> 100 | G92: =SUM(G74:G91) -> 100 | H92: =SUM(H74:H91) -> 100 | I92: =SUM(I74:I91) -> 100 | J92: =SUM(J74:J91) -> 100 | ... N92: =SUM(N74:N91) -> 100
A96: PERCENTAGE DISTRIBUTION OF WORKING POPULATION BY SECTOR AND BY SEX %
B97: Major Economic Activity | C97: Work for Pay/Wage | E97: Self employment (in farming) | G97: Self employment (non farming) | I97: Paid Apprentice | K97: UnPaid Household Worker | M97: TOTAL
C98: Male | D98: Female | E98: Male | F98: Female | G98: Male | H98: Female | I98: Male | J98: Female | K98: Male | L98: Female | M98: Male | N98: Female | O98: Male+Female
A99: A | B99: AGRICULTURE | C99: =C4/$O4*100 -> 5.6198334 | D99: =D4/$O4*100 -> 1.746506 | E99: =E4/$O4*100 -> 66.410005 | F99: =F4/$O4*100 -> 15.740187 | G99: =G4/$O4*100 -> 2.4181508 | H99: =H4/$O4*100 -> 0.70685341 | I99: =I4/$O4*100 -> 0.51641576 | J99: =J4/$O4*100 -> 0.11156616 | ... N99: =N4/$O4*100 -> 21.091298 | O99: =M99+N99 -> 100
A100: B | B100: MINING AND QUARRYING | C100: =C5/$O5*100 -> 13.754059 | D100: =D5/$O5*100 -> 0 | E100: =E5/$O5*100 -> 0 | F100: =F5/$O5*100 -> 0 | G100: =G5/$O5*100 -> 72.580585 | H100: =H5/$O5*100 -> 7.567087 | I100: =I5/$O5*100 -> 4.7529293 | J100: =J5/$O5*100 -> 0 | ... N100: =N5/$O5*100 -> 7.567087 | O100: =M100+N100 -> 100
A101: C | B101: MANUFACTURING | C101: =C6/$O6*100 -> 15.89037 | D101: =D6/$O6*100 -> 3.0771569 | E101: =E6/$O6*100 -> 0 | F101: =F6/$O6*100 -> 0 | G101: =G6/$O6*100 -> 47.890636 | H101: =H6/$O6*100 -> 24.43897 | I101: =I6/$O6*100 -> 2.655679 | J101: =J6/$O6*100 -> 0.80836774 | ... N101: =N6/$O6*100 -> 31.372995 | O101: =M101+N101 -> 100
A102: D | B102: ELECTRICITY, GAS, STEAM & AIR CONDITIONING SUPPLY | C102: =C7/$O7*100 -> 0 | D102: =D7/$O7*100 -> 0 | E102: =E7/$O7*100 -> 0 | F102: =F7/$O7*100 -> 0 | G102: =G7/$O7*100 -> 86.19466 | H102: =H7/$O7*100 -> 0 | I102: =I7/$O7*100 -> 0 | J102: =J7/$O7*100 -> 0 | ... N102: =N7/$O7*100 -> 0 | O102: =M102+N102 -> 100
A103: E | B103: WATER SUPPLY, SEWERAGE, WASTE MANAGEMENT & REMEDIATION | C103: =C8/$O8*100 -> 46.837447 | D103: =D8/$O8*100 -> 10.135437 | E103: =E8/$O8*100 -> 0 | F103: =F8/$O8*100 -> 0 | G103: =G8/$O8*100 -> 37.972203 | H103: =H8/$O8*100 -> 3.6410289 | I103: =I8/$O8*100 -> 0.30978754 | J103: =J8/$O8*100 -> 0 | ... N103: =N8/$O8*100 -> 14.880562 | O103: =M103+N103 -> 100
A104: F | B104: CONSTRUCTION | C104: =C9/$O9*100 -> 44.631936 | D104: =D9/$O9*100 -> 1.4735517 | E104: =E9/$O9*100 -> 0 | F104: =F9/$O9*100 -> 0 | G104: =G9/$O9*100 -> 50.312085 | H104: =H9/$O9*100 -> 0.47298253 | I104: =I9/$O9*100 -> 2.3115711 | J104: =J9/$O9*100 -> 0 | ... N104: =N9/$O9*100 -> 2.0010078 | O104: =M104+N104 -> 100
A105: G | B105: TRADE | C105: =C10/$O10*100 -> 5.6845757 | D105: =D10/$O10*100 -> 7.5304885 | E105: =E10/$O10*100 -> 0 | F105: =F10/$O10*100 -> 0 | G105: =G10/$O10*100 -> 33.288997 | H105: =H10/$O10*100 -> 50.833649 | I105: =I10/$O10*100 -> 0.69864524 | J105: =J10/$O10*100 -> 0.39018478 | ... N105: =N10/$O10*100 -> 59.646931 | O105: =M105+N105 -> 100
A106: I | B106: ACCOMMODATION AND FOOD SERVICES | C106: =C11/$O11*100 -> 0.97781456 | D106: =D11/$O11*100 -> 0.49706628 | E106: =E11/$O11*100 -> 0 | F106: =F11/$O11*100 -> 0 | G106: =G11/$O11*100 -> 14.777275 | H106: =H11/$O11*100 -> 68.556986 | I106: =I11/$O11*100 -> 0.81947258 | J106: =J11/$O11*100 -> 0.69157337 | ... N106: =N11/$O11*100 -> 81.811083 | O106: =M106+N106 -> 100
A107: H | B107: TRANSPORTATION AND STORAGE | C107: =C12/$O12*100 -> 32.8238 | D107: =D12/$O12*100 -> 0.42153424 | E107: =E12/$O12*100 -> 0 | F107: =F12/$O12*100 -> 0 | G107: =G12/$O12*100 -> 65.038014 | H107: =H12/$O12*100 -> 0.41779203 | I107: =I12/$O12*100 -> 0.61669623 | J107: =J12/$O12*100 -> 0 | ... N107: =N12/$O12*100 -> 0.83932627 | O107: =M107+N107 -> 100
A108: J | B108: INFORMATION AND COMMUNICATION | C108: =C13/$O13*100 -> 56.015653 | D108: =D13/$O13*100 -> 20.987168 | E108: =E13/$O13*100 -> 0 | F108: =F13/$O13*100 -> 0 | G108: =G13/$O13*100 -> 20.850087 | H108: =H13/$O13*100 -> 0.85351105 | I108: =I13/$O13*100 -> 0.83284711 | J108: =J13/$O13*100 -> 0.46073319 | ... N108: =N13/$O13*100 -> 22.301413 | O108: =M108+N108 -> 100
A109: K | B109: ARTS, ENTERTAINMENTAND RECREATION | C109: =C14/$O14*100 -> 71.43325 | D109: =D14/$O14*100 -> 17.991291 | E109: =E14/$O14*100 -> 0 | F109: =F14/$O14*100 -> 0 | G109: =G14/$O14*100 -> 7.975143 | H109: =H14/$O14*100 -> 1.2914667 | I109: =I14/$O14*100 -> 1.3088494 | J109: =J14/$O14*100 -> 0 | ... N109: =N14/$O14*100 -> 19.282758 | O109: =M109+N109 -> 100
A110: L | B110: FINANCIAL AND INSURANCE | C110: =C15/$O15*100 -> 62.264847 | D110: =D15/$O15*100 -> 29.038607 | E110: =E15/$O15*100 -> 0 | F110: =F15/$O15*100 -> 0 | G110: =G15/$O15*100 -> 6.8712802 | H110: =H15/$O15*100 -> 0.63668131 | I110: =I15/$O15*100 -> 0.12130377 | J110: =J15/$O15*100 -> 0 | ... N110: =N15/$O15*100 -> 30.112357 | O110: =M110+N110 -> 100
... A116: S | B116: OTHER SERVICES | C116: =C21/$O21*100 -> 38.86692 | D116: =D21/$O21*100 -> 22.552144 | E116: =E21/$O21*100 -> 0 | F116: =F21/$O21*100 -> 0 | G116: =G21/$O21*100 -> 15.364483 | H116: =H21/$O21*100 -> 13.505103 | I116: =I21/$O21*100 -> 0.61763104 | J116: =J21/$O21*100 -> 0.68948826 | ... N116: =N21/$O21*100 -> 41.708264 | O116: =M116+N116 -> 100
O143: Male+Female
O144: =SUM(M99:N99) -> 100
O145: =SUM(M100:N100) -> 100
O146: =SUM(M101:N101) -> 100
O147: =SUM(M102:N102) -> 100
O148: =SUM(M103:N103) -> 100
...

Sheet Employed=Full time+Undermployed
A1: ABSOLUTE DISTRIBUTION OF WORKING POPULATION BY ECONOMIC ACTIVITY BY TYPE OF ENGAGEMENT AND BY SEX
B2: Major Economic Activity | C2: Work for Pay/Wage | E2: Self employment (in farming) | G2: Self employment (non farming) | I2: Paid Apprentice | K2: UnPaid Household Worker | M2: TOTAL
C3: Male | D3: Female | E3: Male | F3: Female | G3: Male | H3: Female | I3: Male | J3: Female | K3: Male | L3: Female | M3: Male | N3: Female | O3: Male+Female
A4: A | B4: AGRICULTURE | C4: ='Work 40 Hrs-Full-Time employed'!C4+'Work 20-39 Hrs-Underemployed'!C4 -> 1625929.5 | D4: ='Work 40 Hrs-Full-Time employed'!D4+'Work 20-39 Hrs-Underemployed'!D4 -> 586196.1 | E4: ='Work 40 Hrs-Full-Time employed'!E4+'Work 20-39 Hrs-Underemployed'!E4 -> 19707988 | F4: ='Work 40 Hrs-Full-Time employed'!F4+'Work 20-39 Hrs-Underemployed'!F4 -> 5765684.7 | G4: ='Work 40 Hrs-Full-Time employed'!G4+'Work 20-39 Hrs-Underemployed'!G4 -> 775943.79 | H4: ='Work 40 Hrs-Full-Time employed'!H4+'Work 20-39 Hrs-Underemployed'!H4 -> 244118.07 | I4: ='Work 40 Hrs-Full-Time employed'!I4+'Work 20-39 Hrs-Underemployed'!I4 -> 151170.81 | J4: ='Work 40 Hrs-Full-Time employed'!J4+'Work 20-39 Hrs-Underemployed'!J4 -> 39398.869 | ... N4: ='Work 40 Hrs-Full-Time employed'!N4+'Work 20-39 Hrs-Underemployed'!N4 -> 8248817 | O4: =M4+N4 -> 32358233
A5: B | B5: MINING AND QUARRYING | C5: ='Work 40 Hrs-Full-Time employed'!C5+'Work 20-39 Hrs-Underemployed'!C5 -> 14869.693 | D5: ='Work 40 Hrs-Full-Time employed'!D5+'Work 20-39 Hrs-Underemployed'!D5 -> 0 | E5: ='Work 40 Hrs-Full-Time employed'!E5+'Work 20-39 Hrs-Underemployed'!E5 -> 0 | F5: ='Work 40 Hrs-Full-Time employed'!F5+'Work 20-39 Hrs-Underemployed'!F5 -> 0 | G5: ='Work 40 Hrs-Full-Time employed'!G5+'Work 20-39 Hrs-Underemployed'!G5 -> 82530.112 | H5: ='Work 40 Hrs-Full-Time employed'!H5+'Work 20-39 Hrs-Underemployed'!H5 -> 8696.8067 | I5: ='Work 40 Hrs-Full-Time employed'!I5+'Work 20-39 Hrs-Underemployed'!I5 -> 4436.7896 | J5: ='Work 40 Hrs-Full-Time employed'!J5+'Work 20-39 Hrs-Underemployed'!J5 -> 0 | ... N5: ='Work 40 Hrs-Full-Time employed'!N5+'Work 20-39 Hrs-Underemployed'!N5 -> 8696.8067 | O5: =M5+N5 -> 111691.41
A6: C | B6: MANUFACTURING | C6: ='Work 40 Hrs-Full-Time employed'!C6+'Work 20-39 Hrs-Underemployed'!C6 -> 653095.47 | D6: ='Work 40 Hrs-Full-Time employed'!D6+'Work 20-39 Hrs-Underemployed'!D6 -> 170444.92 | E6: ='Work 40 Hrs-Full-Time employed'!E6+'Work 20-39 Hrs-Underemployed'!E6 -> 0 | F6: ='Work 40 Hrs-Full-Time employed'!F6+'Work 20-39 Hrs-Underemployed'!F6 -> 0 | G6: ='Work 40 Hrs-Full-Time employed'!G6+'Work 20-39 Hrs-Underemployed'!G6 -> 2131972.5 | H6: ='Work 40 Hrs-Full-Time employed'!H6+'Work 20-39 Hrs-Underemployed'!H6 -> 1515545.3 | I6: ='Work 40 Hrs-Full-Time employed'!I6+'Work 20-39 Hrs-Underemployed'!I6 -> 125464.24 | J6: ='Work 40 Hrs-Full-Time employed'!J6+'Work 20-39 Hrs-Underemployed'!J6 -> 42002.383 | ... N6: ='Work 40 Hrs-Full-Time employed'!N6+'Work 20-39 Hrs-Underemployed'!N6 -> 1913884.9 | O6: =M6+N6 -> 4921867.9
A7: D | B7: ELECTRICITY, GAS, STEAM & AIR CONDITIONING SUPPLY | C7: ='Work 40 Hrs-Full-Time employed'!C7+'Work 20-39 Hrs-Underemployed'!C7 -> 0 | D7: ='Work 40 Hrs-Full-Time employed'!D7+'Work 20-39 Hrs-Underemployed'!D7 -> 0 | E7: ='Work 40 Hrs-Full-Time employed'!E7+'Work 20-39 Hrs-Underemployed'!E7 -> 0 | F7: ='Work 40 Hrs-Full-Time employed'!F7+'Work 20-39 Hrs-Underemployed'!F7 -> 0 | G7: ='Work 40 Hrs-Full-Time employed'!G7+'Work 20-39 Hrs-Underemployed'!G7 -> 6305.216 | H7: ='Work 40 Hrs-Full-Time employed'!H7+'Work 20-39 Hrs-Underemployed'!H7 -> 0 | I7: ='Work 40 Hrs-Full-Time employed'!I7+'Work 20-39 Hrs-Underemployed'!I7 -> 0 | J7: ='Work 40 Hrs-Full-Time employed'!J7+'Work 20-39 Hrs-Underemployed'!J7 -> 0 | ... N7: ='Work 40 Hrs-Full-Time employed'!N7+'Work 20-39 Hrs-Underemployed'!N7 -> 0 | O7: =M7+N7 -> 7129.1359
A8: E | B8: WATER SUPPLY, SEWERAGE, WASTE MANAGEMENT & REMEDIATION | C8: ='Work 40 Hrs-Full-Time employed'!C8+'Work 20-39 Hrs-Underemployed'!C8 -> 36004.318 | D8: ='Work 40 Hrs-Full-Time employed'!D8+'Work 20-39 Hrs-Underemployed'!D8 -> 7310.9119 | E8: ='Work 40 Hrs-Full-Time employed'!E8+'Work 20-39 Hrs-Underemployed'!E8 -> 0 | F8: ='Work 40 Hrs-Full-Time employed'!F8+'Work 20-39 Hrs-Underemployed'!F8 -> 0 | G8: ='Work 40 Hrs-Full-Time employed'!G8+'Work 20-39 Hrs-Underemployed'!G8 -> 30725.15 | H8: ='Work 40 Hrs-Full-Time employed'!H8+'Work 20-39 Hrs-Underemployed'!H8 -> 8065.9588 | I8: ='Work 40 Hrs-Full-Time employed'!I8+'Work 20-39 Hrs-Underemployed'!I8 -> 223.45651 | J8: ='Work 40 Hrs-Full-Time employed'!J8+'Work 20-39 Hrs-Underemployed'!J8 -> 0 | ... N8: ='Work 40 Hrs-Full-Time employed'!N8+'Work 20-39 Hrs-Underemployed'!N8 -> 16658.591 | O8: =M8+N8 -> 83611.515
A9: F | B9: CONSTRUCTION | C9: ='Work 40 Hrs-Full-Time employed'!C9+'Work 20-39 Hrs-Underemployed'!C9 -> 702180.72 | D9: ='Work 40 Hrs-Full-Time employed'!D9+'Work 20-39 Hrs-Underemployed'!D9 -> 19787.59 | E9: ='Work 40 Hrs-Full-Time employed'!E9+'Work 20-39 Hrs-Underemployed'!E9 -> 0 | F9: ='Work 40 Hrs-Full-Time employed'!F9+'Work 20-39 Hrs-Underemployed'!F9 -> 0 | G9: ='Work 40 Hrs-Full-Time employed'!G9+'Work 20-39 Hrs-Underemployed'!G9 -> 822125.89 | H9: ='Work 40 Hrs-Full-Time employed'!H9+'Work 20-39 Hrs-Underemployed'!H9 -> 11006.43 | I9: ='Work 40 Hrs-Full-Time employed'!I9+'Work 20-39 Hrs-Underemployed'!I9 -> 44977.763 | J9: ='Work 40 Hrs-Full-Time employed'!J9+'Work 20-39 Hrs-Underemployed'!J9 -> 0 | ... N9: ='Work 40 Hrs-Full-Time employed'!N9+'Work 20-39 Hrs-Underemployed'!N9 -> 32598.974 | O9: =M9+N9 -> 1613947.8
A10: G | B10: TRADE | C10: ='Work 40 Hrs-Full-Time employed'!C10+'Work 20-39 Hrs-Underemployed'!C10 -> 515381.8 | D10: ='Work 40 Hrs-Full-Time employed'!D10+'Work 20-39 Hrs-Underemployed'!D10 -> 791406.36 | E10: ='Work 40 Hrs-Full-Time employed'!E10+'Work 20-39 Hrs-Underemployed'!E10 -> 0 | F10: ='Work 40 Hrs-Full-Time employed'!F10+'Work 20-39 Hrs-Underemployed'!F10 -> 0 | G10: ='Work 40 Hrs-Full-Time employed'!G10+'Work 20-39 Hrs-Underemployed'!G10 -> 2935747.6 | H10: ='Work 40 Hrs-Full-Time employed'!H10+'Work 20-39 Hrs-Underemployed'!H10 -> 5434084.5 | I10: ='Work 40 Hrs-Full-Time employed'!I10+'Work 20-39 Hrs-Underemployed'!I10 -> 70475.197 | J10: ='Work 40 Hrs-Full-Time employed'!J10+'Work 20-39 Hrs-Underemployed'!J10 -> 47969.067 | ... N10: ='Work 40 Hrs-Full-Time employed'!N10+'Work 20-39 Hrs-Underemployed'!N10 -> 6423773.9 | O10: =M10+N10 -> 10014794
A11: I | B11: ACCOMMODATION AND FOOD SERVICES | C11: ='Work 40 Hrs-Full-Time employed'!C11+'Work 20-39 Hrs-Underemployed'!C11 -> 5113.2759 | D11: ='Work 40 Hrs-Full-Time employed'!D11+'Work 20-39 Hrs-Underemployed'!D11 -> 2599.3037 | E11: ='Work 40 Hrs-Full-Time employed'!E11+'Work 20-39 Hrs-Underemployed'!E11 -> 0 | F11: ='Work 40 Hrs-Full-Time employed'!F11+'Work 20-39 Hrs-Underemployed'!F11 -> 0 | G11: ='Work 40 Hrs-Full-Time employed'!G11+'Work 20-39 Hrs-Underemployed'!G11 -> 92446.615 | H11: ='Work 40 Hrs-Full-Time employed'!H11+'Work 20-39 Hrs-Underemployed'!H11 -> 720800.27 | I11: ='Work 40 Hrs-Full-Time employed'!I11+'Work 20-39 Hrs-Underemployed'!I11 -> 4285.2597 | J11: ='Work 40 Hrs-Full-Time employed'!J11+'Work 20-39 Hrs-Underemployed'!J11 -> 11335.214 | ... N11: ='Work 40 Hrs-Full-Time employed'!N11+'Work 20-39 Hrs-Underemployed'!N11 -> 820123.63 | O11: =M11+N11 -> 934632.09
A12: H | B12: TRANSPORTATION AND STORAGE | C12: ='Work 40 Hrs-Full-Time employed'!C12+'Work 20-39 Hrs-Underemployed'!C12 -> 832922.6 | D12: ='Work 40 Hrs-Full-Time employed'!D12+'Work 20-39 Hrs-Underemployed'!D12 -> 14560.258 | E12: ='Work 40 Hrs-Full-Time employed'!E12+'Work 20-39 Hrs-Underemployed'!E12 -> 0 | F12: ='Work 40 Hrs-Full-Time employed'!F12+'Work 20-39 Hrs-Underemployed'!F12 -> 0 | G12: ='Work 40 Hrs-Full-Time employed'!G12+'Work 20-39 Hrs-Underemployed'!G12 -> 1501105 | H12: ='Work 40 Hrs-Full-Time employed'!H12+'Work 20-39 Hrs-Underemployed'!H12 -> 8594.5615 | I12: ='Work 40 Hrs-Full-Time employed'!I12+'Work 20-39 Hrs-Underemployed'!I12 -> 14141.086 | J12: ='Work 40 Hrs-Full-Time employed'!J12+'Work 20-39 Hrs-Underemployed'!J12 -> 0 | ... N12: ='Work 40 Hrs-Full-Time employed'!N12+'Work 20-39 Hrs-Underemployed'!N12 -> 23154.82 | O12: =M12+N12 -> 2390079.4
A13: J | B13: INFORMATION AND COMMUNICATION | C13: ='Work 40 Hrs-Full-Time employed'!C13+'Work 20-39 Hrs-Underemployed'!C13 -> 215514.28 | D13: ='Work 40 Hrs-Full-Time employed'!D13+'Work 20-39 Hrs-Underemployed'!D13 -> 76491.88 | E13: ='Work 40 Hrs-Full-Time employed'!E13+'Work 20-39 Hrs-Underemployed'!E13 -> 0 | F13: ='Work 40 Hrs-Full-Time employed'!F13+'Work 20-39 Hrs-Underemployed'!F13 -> 0 | G13: ='Work 40 Hrs-Full-Time employed'!G13+'Work 20-39 Hrs-Underemployed'!G13 -> 84980.474 | H13: ='Work 40 Hrs-Full-Time employed'!H13+'Work 20-39 Hrs-Underemployed'!H13 -> 5759.1987 | I13: ='Work 40 Hrs-Full-Time employed'!I13+'Work 20-39 Hrs-Underemployed'!I13 -> 4388.0154 | J13: ='Work 40 Hrs-Full-Time employed'!J13+'Work 20-39 Hrs-Underemployed'!J13 -> 1309.2954 | ... N13: ='Work 40 Hrs-Full-Time employed'!N13+'Work 20-39 Hrs-Underemployed'!N13 -> 83560.374 | O13: =M13+N13 -> 388443.14
A14: K | B14: ARTS, ENTERTAINMENTAND RECREATION | C14: ='Work 40 Hrs-Full-Time employed'!C14+'Work 20-39 Hrs-Underemployed'!C14 -> 319107.41 | D14: ='Work 40 Hrs-Full-Time employed'!D14+'Work 20-39 Hrs-Underemployed'!D14 -> 79664.766 | E14: ='Work 40 Hrs-Full-Time employed'!E14+'Work 20-39 Hrs-Underemployed'!E14 -> 0 | F14: ='Work 40 Hrs-Full-Time employed'!F14+'Work 20-39 Hrs-Underemployed'!F14 -> 0 | G14: ='Work 40 Hrs-Full-Time employed'!G14+'Work 20-39 Hrs-Underemployed'!G14 -> 37313.342 | H14: ='Work 40 Hrs-Full-Time employed'!H14+'Work 20-39 Hrs-Underemployed'!H14 -> 4733.0756 | I14: ='Work 40 Hrs-Full-Time employed'!I14+'Work 20-39 Hrs-Underemployed'!I14 -> 4102.281 | J14: ='Work 40 Hrs-Full-Time employed'!J14+'Work 20-39 Hrs-Underemployed'!J14 -> 0 | ... N14: ='Work 40 Hrs-Full-Time employed'!N14+'Work 20-39 Hrs-Underemployed'!N14 -> 84397.842 | O14: =M14+N14 -> 444920.88
A15: L | B15: FINANCIAL AND INSURANCE | C15: ='Work 40 Hrs-Full-Time employed'!C15+'Work 20-39 Hrs-Underemployed'!C15 -> 512799.91 | D15: ='Work 40 Hrs-Full-Time employed'!D15+'Work 20-39 Hrs-Underemployed'!D15 -> 308185.33 | E15: ='Work 40 Hrs-Full-Time employed'!E15+'Work 20-39 Hrs-Underemployed'!E15 -> 0 | F15: ='Work 40 Hrs-Full-Time employed'!F15+'Work 20-39 Hrs-Underemployed'!F15 -> 0 | G15: ='Work 40 Hrs-Full-Time employed'!G15+'Work 20-39 Hrs-Underemployed'!G15 -> 49340.163 | H15: ='Work 40 Hrs-Full-Time employed'!H15+'Work 20-39 Hrs-Underemployed'!H15 -> 4378.5166 | I15: ='Work 40 Hrs-Full-Time employed'!I15+'Work 20-39 Hrs-Underemployed'!I15 -> 834.21728 | J15: ='Work 40 Hrs-Full-Time employed'!J15+'Work 20-39 Hrs-Underemployed'!J15 -> 0 | ... N15: ='Work 40 Hrs-Full-Time employed'!N15+'Work 20-39 Hrs-Underemployed'!N15 -> 315569.61 | O15: =M15+N15 -> 884079.96
... A21: S | B21: OTHER SERVICES | C21: ='Work 40 Hrs-Full-Time employed'!C21+'Work 20-39 Hrs-Underemployed'!C21 -> 2070712.8 | D21: ='Work 40 Hrs-Full-Time employed'!D21+'Work 20-39 Hrs-Underemployed'!D21 -> 1222325.3 | E21: ='Work 40 Hrs-Full-Time employed'!E21+'Work 20-39 Hrs-Underemployed'!E21 -> 0 | F21: ='Work 40 Hrs-Full-Time employed'!F21+'Work 20-39 Hrs-Underemployed'!F21 -> 0 | G21: ='Work 40 Hrs-Full-Time employed'!G21+'Work 20-39 Hrs-Underemployed'!G21 -> 852580.44 | H21: ='Work 40 Hrs-Full-Time employed'!H21+'Work 20-39 Hrs-Underemployed'!H21 -> 828450.64 | I21: ='Work 40 Hrs-Full-Time employed'!I21+'Work 20-39 Hrs-Underemployed'!I21 -> 38890.338 | J21: ='Work 40 Hrs-Full-Time employed'!J21+'Work 20-39 Hrs-Underemployed'!J21 -> 35458.94 | ... N21: ='Work 40 Hrs-Full-Time employed'!N21+'Work 20-39 Hrs-Underemployed'!N21 -> 2408881.5 | O21: =M21+N21 -> 5591699.1
B22: TOTAL | C22: =SUM(C4:C21) -> 11386416 | D22: =SUM(D4:D21) -> 6495084.9 | E22: =SUM(E4:E21) -> 19707988 | F22: =SUM(F4:F21) -> 5765684.7 | G22: =SUM(G4:G21) -> 10562040 | H22: =SUM(H4:H21) -> 9438176.3 | I22: =SUM(I4:I21) -> 544283.11 | J22: =SUM(J4:J21) -> 234718.61 | ... N22: =SUM(N4:N21) -> 24514693 | O22: =M22+N22 -> 69090007
A24: DISTRIBUTION OF WORKING POPULATION BY ECONOMIC ACTIVITY BY TYPE OF ENGAGEMENT AND BY SEX -Male
B25: Major Economic Activity | C25: Work for Pay/Wage | E25: Self employment (in farming) | G25: Self employment (non farming) | I25: Paid Apprentice | K25: UnPaid Household Worker | M25: TOTAL
C26: Total Male | E26: Total Male | G26: Total Male | I26: Total Male | K26: Total Male | M26: Total Male
A27: A | B27: AGRICULTURE | C27: 1625929.5 | E27: 19707988 | G27: 775943.79 | I27: 151170.81 | K27: 1848383.9 | M27: 24109416
A28: B | B28: MINING AND QUARRYING | C28: 14869.693 | E28: 0 | G28: 82530.112 | I28: 4436.7896 | K28: 1158.0094 | M28: 102994.6
A29: C | B29: MANUFACTURING | C29: 653095.47 | E29: 0 | G29: 2131972.5 | I29: 125464.24 | K29: 97450.826 | M29: 3007983.1
A30: D | B30: ELECTRICITY, GAS, STEAM & AIR CONDITIONING SUPPLY | C30: 0 | E30: 0 | G30: 6305.216 | I30: 0 | K30: 823.91988 | M30: 7129.1359
A31: E | B31: WATER SUPPLY, SEWERAGE, WASTE MANAGEMENT & REMEDIATION | C31: 36004.318 | E31: 0 | G31: 30725.15 | I31: 223.45651 | K31: 0 | M31: 66952.924
A32: F | B32: CONSTRUCTION | C32: 702180.72 | E32: 0 | G32: 822125.89 | I32: 44977.763 | K32: 12064.505 | M32: 1581348.9
A33: G | B33: TRADE | C33: 515381.8 | E33: 0 | G33: 2935747.6 | I33: 70475.197 | K33: 69415.903 | M33: 3591020.5
A34: I | B34: ACCOMMODATION AND FOOD SERVICES | C34: 5113.2759 | E34: 0 | G34: 92446.615 | I34: 4285.2597 | K34: 12663.316 | M34: 114508.47
A35: H | B35: TRANSPORTATION AND STORAGE | C35: 832922.6 | E35: 0 | G35: 1501105 | I35: 14141.086 | K35: 18755.86 | M35: 2366924.5
A36: J | B36: INFORMATION AND COMMUNICATION | C36: 215514.28 | E36: 0 | G36: 84980.474 | I36: 4388.0154 | K36: 0 | M36: 304882.77
A37: K | B37: ARTS, ENTERTAINMENTAND RECREATION | C37: 319107.41 | E37: 0 | G37: 37313.342 | I37: 4102.281 | K37: 0 | M37: 360523.04
A38: L | B38: FINANCIAL AND INSURANCE | C38: 512799.91 | E38: 0 | G38: 49340.163 | I38: 834.21728 | K38: 5536.0638 | M38: 568510.36
... A44: S | B44: OTHER SERVICES | C44: 2070712.8 | E44: 0 | G44: 852580.44 | I44: 38890.338 | K44: 220633.93 | M44: 3182817.6
B45: TOTAL | C45: 11386416 | E45: 19707988 | G45: 10562040 | I45: 544283.11 | K45: 2374586.4 | M45: 44575313
A47: DISTRIBUTION OF WORKING POPULATION BY ECONOMIC ACTIVITY BY TYPE OF ENGAGEMENT AND BY SEX- Female
B48: Major Economic Activity | C48: Work for Pay/Wage | E48: Self employment (in farming) | G48: Self employment (non farming) | I48: Paid Apprentice | K48: UnPaid Household Worker | M48: TOTAL
C49: Female | E49: Female | G49: Female | I49: Female | K49: Female | M49: Female
A50: A | B50: AGRICULTURE | C50: 586196.1 | E50: 5765684.7 | G50: 244118.07 | I50: 39398.869 | K50: 1613419.3 | M50: 8248817
A51: B | B51: MINING AND QUARRYING | C51: 0 | E51: 0 | G51: 8696.8067 | I51: 0 | K51: 0 | M51: 8696.8067
A52: C | B52: MANUFACTURING | C52: 170444.92 | E52: 0 | G52: 1515545.3 | I52: 42002.383 | K52: 185892.27 | M52: 1913884.9
A53: D | B53: ELECTRICITY, GAS, STEAM & AIR CONDITIONING SUPPLY | C53: 0 | E53: 0 | G53: 0 | I53: 0 | K53: 0 | M53: 0
A54: E | B54: WATER SUPPLY, SEWERAGE, WASTE MANAGEMENT & REMEDIATION | C54: 7310.9119 | E54: 0 | G54: 8065.9588 | I54: 0 | K54: 1281.7205 | M54: 16658.591
A55: F | B55: CONSTRUCTION | C55: 19787.59 | E55: 0 | G55: 11006.43 | I55: 0 | K55: 1804.9539 | M55: 32598.974
A56: G | B56: TRADE | C56: 791406.36 | E56: 0 | G56: 5434084.5 | I56: 47969.067 | K56: 150313.98 | M56: 6423773.9
A57: I | B57: ACCOMMODATION AND FOOD SERVICES | C57: 2599.3037 | E57: 0 | G57: 720800.27 | I57: 11335.214 | K57: 85388.837 | M57: 820123.63
A58: H | B58: TRANSPORTATION AND STORAGE | C58: 14560.258 | E58: 0 | G58: 8594.5615 | I58: 0 | K58: 0 | M58: 23154.82
A59: J | B59: INFORMATION AND COMMUNICATION | C59: 76491.88 | E59: 0 | G59: 5759.1987 | I59: 1309.2954 | K59: 0 | M59: 83560.374
A60: K | B60: ARTS, ENTERTAINMENTAND RECREATION | C60: 79664.766 | E60: 0 | G60: 4733.0756 | I60: 0 | K60: 0 | M60: 84397.842
A61: L | B61: FINANCIAL AND INSURANCE | C61: 308185.33 | E61: 0 | G61: 4378.5166 | I61: 0 | K61: 3005.7579 | M61: 315569.61
... A67: S | B67: OTHER SERVICES | C67: 1222325.3 | E67: 0 | G67: 828450.64 | I67: 35458.94 | K67: 322646.64 | M67: 2408881.5
B68: TOTAL | C68: =SUM(C50:D67) -> 6495084.9 | E68: =SUM(E50:F67) -> 5765684.7 | G68: =SUM(G50:H67) -> 9438176.3 | I68: =SUM(I50:J67) -> 234718.61 | K68: =SUM(K50:L67) -> 2581028.7 | M68: =SUM(M50:N67) -> 24514693
A71: PERCENTAGE DISTRIBUTION OF WORKING POPULATION BY ECONOMIC ACTIVITY BY TYPE OF ENGAGEMENT AND BY SEX %
B72: Major Economic Activity | C72: Work for Pay/Wage | E72: Self employment (in farming) | G72: Self employment (non farming) | I72: Paid Apprentice | K72: UnPaid Household Worker | M72: TOTAL
C73: Male | D73: Female | E73: Male | F73: Female | G73: Male | H73: Female | I73: Male | J73: Female | K73: Male | L73: Female | M73: Male | N73: Female
A74: A | B74: AGRICULTURE | C74: =100*C4/C$22 -> 14.279555 | D74: =100*D4/D$22 -> 9.0252262 | E74: =100*E4/E$22 -> 100 | F74: =100*F4/F$22 -> 100 | G74: =100*G4/G$22 -> 7.3465336 | H74: =100*H4/H$22 -> 2.5864962 | I74: =100*I4/I$22 -> 27.774297 | J74: =100*J4/J$22 -> 16.785575 | ... N74: =100*N4/N$22 -> 33.648461
A75: B | B75: MINING AND QUARRYING | C75: =100*C5/C$22 -> 0.13059151 | D75: =100*D5/D$22 -> 0 | E75: =100*E5/E$22 -> 0 | F75: =100*F5/F$22 -> 0 | G75: =100*G5/G$22 -> 0.78138423 | H75: =100*H5/H$22 -> 0.092144991 | I75: =100*I5/I$22 -> 0.8151621 | J75: =100*J5/J$22 -> 0 | ... N75: =100*N5/N$22 -> 0.035475895
A76: C | B76: MANUFACTURING | C76: =100*C6/C$22 -> 5.7357423 | D76: =100*D6/D$22 -> 2.6242138 | E76: =100*E6/E$22 -> 0 | F76: =100*F6/F$22 -> 0 | G76: =100*G6/G$22 -> 20.185235 | H76: =100*H6/H$22 -> 16.057607 | I76: =100*I6/I$22 -> 23.051282 | J76: =100*J6/J$22 -> 17.894781 | ... N76: =100*N6/N$22 -> 7.8070929
A77: D | B77: ELECTRICITY, GAS, STEAM & AIR CONDITIONING SUPPLY | G77: =100*G7/G$22 -> 0.059696955 | H77: =100*H7/H$22 -> 0 | K77: =100*K7/K$22 -> 0.034697406 | L77: =100*L7/L$22 -> 0 | M77: =100*M7/M$22 -> 0.015993462 | N77: =100*N7/N$22 -> 0
A78: E | B78: WATER SUPPLY, SEWERAGE, WASTE MANAGEMENT & REMEDIATION | C78: =100*C8/C$22 -> 0.31620414 | D78: =100*D8/D$22 -> 0.11256068 | G78: =100*G8/G$22 -> 0.29090167 | H78: =100*H8/H$22 -> 0.085460988 | I78: =100*I8/I$22 -> 0.041055198 | J78: =100*J8/J$22 -> 0 | K78: =100*K8/K$22 -> 0 | L78: =100*L8/L$22 -> 0.04965929 | M78: =100*M8/M$22 -> 0.1502018 | N78: =100*N8/N$22 -> 0.067953497
A79: F | B79: CONSTRUCTION | C79: =100*C9/C$22 -> 6.1668284 | D79: =100*D9/D$22 -> 0.30465483 | G79: =100*G9/G$22 -> 7.7837796 | H79: =100*H9/H$22 -> 0.11661607 | I79: =100*I9/I$22 -> 8.2636705 | J79: =100*J9/J$22 -> 0 | K79: =100*K9/K$22 -> 0.50806765 | L79: =100*L9/L$22 -> 0.06993157 | M79: =100*M9/M$22 -> 3.5475889 | N79: =100*N9/N$22 -> 0.13297729
A80: G | B80: TRADE | C80: =100*C10/C$22 -> 4.5262865 | D80: =100*D10/D$22 -> 12.184696 | G80: =100*G10/G$22 -> 27.795272 | H80: =100*H10/H$22 -> 57.575578 | I80: =100*I10/I$22 -> 12.948261 | J80: =100*J10/J$22 -> 20.43684 | K80: =100*K10/K$22 -> 2.9232839 | L80: =100*L10/L$22 -> 5.8238013 | M80: =100*M10/M$22 -> 8.0560746 | N80: =100*N10/N$22 -> 26.20377
A81: I | B81: ACCOMMODATION AND FOOD SERVICES | C81: =100*C11/C$22 -> 0.044906808 | D81: =100*D11/D$22 -> 0.04001955 | G81: =100*G11/G$22 -> 0.87527238 | H81: =100*H11/H$22 -> 7.6370715 | I81: =100*I11/I$22 -> 0.78732183 | J81: =100*J11/J$22 -> 4.8292781 | K81: =100*K11/K$22 -> 0.5332851 | L81: =100*L11/L$22 -> 3.3083257 | M81: =100*M11/M$22 -> 0.25688763 | N81: =100*N11/N$22 -> 3.345437
A82: H | B82: TRANSPORTATION AND STORAGE | C82: =100*C12/C$22 -> 7.3150552 | D82: =100*D12/D$22 -> 0.22417348 | G82: =100*G12/G$22 -> 14.212264 | H82: =100*H12/H$22 -> 0.091061676 | I82: =100*I12/I$22 -> 2.5981123 | J82: =100*J12/J$22 -> 0 | K82: =100*K12/K$22 -> 0.78985794 | L82: =100*L12/L$22 -> 0 | M82: =100*M12/M$22 -> 5.3099448 | N82: =100*N12/N$22 -> 0.094452822
A83: J | B83: INFORMATION AND COMMUNICATION | C83: =100*C13/C$22 -> 1.8927315 | D83: =100*D13/D$22 -> 1.1776887 | G83: =100*G13/G$22 -> 0.80458393 | H83: =100*H13/H$22 -> 0.061020249 | I83: =100*I13/I$22 -> 0.80620092 | J83: =100*J13/J$22 -> 0.5578149 | M83: =100*M13/M$22 -> 0.68397224 | N83: =100*N13/N$22 -> 0.34085833
A84: K | B84: ARTS, ENTERTAINMENTAND RECREATION | C84: =100*C14/C$22 -> 2.8025273 | D84: =100*D14/D$22 -> 1.2265393 | G84: =100*G14/G$22 -> 0.35327781 | H84: =100*H14/H$22 -> 0.050148201 | I84: =100*I14/I$22 -> 0.75370353 | J84: =100*J14/J$22 -> 0 | M84: =100*M14/M$22 -> 0.8087953 | N84: =100*N14/N$22 -> 0.34427452
A85: L | B85: FINANCIAL AND INSURANCE | C85: =100*C15/C$22 -> 4.5036113 | D85: =100*D15/D$22 -> 4.7449008 | G85: =100*G15/G$22 -> 0.46714617 | H85: =100*H15/H$22 -> 0.046391553 | I85: =100*I15/I$22 -> 0.153269 | J85: =100*J15/J$22 -> 0 | K85: =100*K15/K$22 -> 0.23313802 | L85: =100*L15/L$22 -> 0.11645581 | M85: =100*M15/M$22 -> 1.2753928 | N85: =100*N15/N$22 -> 1.2872672
A86: M | B86: REAL ESTATE | C86: =100*C16/C$22 -> 0 | D86: =100*D16/D$22 -> 0 | G86: =100*G16/G$22 -> 0.59140231 | H86: =100*H16/H$22 -> 0.02769203 | K86: =100*K16/K$22 -> 0.04643536 | L86: =100*L16/L$22 -> 0 | M86: =100*M16/M$22 -> 0.14260538 | N86: =100*N16/N$22 -> 0.010661453
A87: N | B87: PROFESSIONAL, SCIENTIFIC AND TECHNICAL SERVICES | C87: =100*C17/C$22 -> 18.276859 | D87: =100*D17/D$22 -> 16.712814 | G87: =100*G17/G$22 -> 5.9597514 | H87: =100*H17/H$22 -> 3.8727908 | I87: =100*I17/I$22 -> 10.505736 | J87: =100*J17/J$22 -> 20.303012 | K87: =100*K17/K$22 -> 1.0771553 | L87: =100*L17/L$22 -> 2.1537805 | M87: =100*M17/M$22 -> 6.2664942 | N87: =100*N17/N$22 -> 6.3401852
A88: O | B88: ADMINISTRATIVE & SUPPORT SERVICES | C88: =100*C18/C$22 -> 2.1260033 | D88: =100*D18/D$22 -> 0.68943103 | G88: =100*G18/G$22 -> 0.93004695 | H88: =100*H18/H$22 -> 0.32023916 | I88: =100*I18/I$22 -> 1.0146455 | J88: =100*J18/J$22 -> 0 | K88: =100*K18/K$22 -> 0.35758281 | L88: =100*L18/L$22 -> 0.19734264 | M88: =100*M18/M$22 -> 0.79488203 | N88: =100*N18/N$22 -> 0.32673196
A89: Q | B89: EDUCATION | C89: =100*C19/C$22 -> 8.4216473 | D89: =100*D19/D$22 -> 16.70443 | G89: =100*G19/G$22 -> 2.2344748 | H89: =100*H19/H$22 -> 1.8115393 | I89: =100*I19/I$22 -> 1.5503741 | J89: =100*J19/J$22 -> 1.5197 | K89: =100*K19/K$22 -> 1.7085364 | L89: =100*L19/L$22 -> 0.74782717 | M89: =100*M19/M$22 -> 2.7906455 | N89: =100*N19/N$22 -> 5.2165117
A90: R | B90: HUMAN HEALTH AND SOCIAL SERVICES | C90: =100*C20/C$22 -> 5.2756318 | D90: =100*D20/D$22 -> 15.409416 | G90: =100*G20/G$22 -> 1.2568573 | H90: =100*H20/H$22 -> 0.7904863 | I90: =100*I20/I$22 -> 1.7916684 | J90: =100*J20/J$22 -> 2.5659988 | K90: =100*K20/K$22 -> 0.50357231 | L90: =100*L20/L$22 -> 5.3192151 | M90: =100*M20/M$22 -> 1.694132 | N90: =100*N20/N$22 -> 4.9716123
A91: S | B91: OTHER SERVICES | C91: =100*C21/C$22 -> 18.185818 | D91: =100*D21/D$22 -> 18.819235 | G91: =100*G21/G$22 -> 8.0721193 | H91: =100*H21/H$22 -> 8.7776559 | I91: =100*I21/I$22 -> 7.1452406 | J91: =100*J21/J$22 -> 15.107 | K91: =100*K21/K$22 -> 9.2914679 | L91: =100*L21/L$22 -> 12.500699 | M91: =100*M21/M$22 -> 7.1403145 | N91: =100*N21/N$22 -> 9.8262764
B92: TOTAL | C92: =SUM(C74:C91) -> 100 | D92: =SUM(D74:D91) -> 100 | E92: =SUM(E74:E91) -> 100 | F92: =SUM(F74:F91) -> 100 | G92: =SUM(G74:G91) -> 100 | H92: =SUM(H74:H91) -> 100 | I92: =SUM(I74:I91) -> 100 | J92: =SUM(J74:J91) -> 100 | ... N92: =SUM(N74:N91) -> 100
A96: PERCENTAGE DISTRIBUTION OF WORKING POPULATION BY SECTOR AND BY SEX %
B97: Major Economic Activity | C97: Work for Pay/Wage | E97: Self employment (in farming) | G97: Self employment (non farming) | I97: Paid Apprentice | K97: UnPaid Household Worker | M97: TOTAL
C98: Male | D98: Female | E98: Male | F98: Female | G98: Male | H98: Female | I98: Male | J98: Female | K98: Male | L98: Female | M98: Male | N98: Female | O98: Male+Female
A99: A | B99: AGRICULTURE | C99: =C4/$O4*100 -> 5.0247784 | D99: =D4/$O4*100 -> 1.8115825 | E99: =E4/$O4*100 -> 60.905638 | F99: =F4/$O4*100 -> 17.818292 | G99: =G4/$O4*100 -> 2.3979795 | H99: =H4/$O4*100 -> 0.75442337 | I99: =I4/$O4*100 -> 0.4671788 | J99: =J4/$O4*100 -> 0.1217584 | ... N99: =N4/$O4*100 -> 25.492174 | O99: =SUM(M99:N99) -> 100
A100: B | B100: MINING AND QUARRYING | C100: =C5/$O5*100 -> 13.313193 | D100: =D5/$O5*100 -> 0 | E100: =E5/$O5*100 -> 0 | F100: =F5/$O5*100 -> 0 | G100: =G5/$O5*100 -> 73.89119 | H100: =H5/$O5*100 -> 7.7864598 | I100: =I5/$O5*100 -> 3.9723642 | J100: =J5/$O5*100 -> 0 | ... N100: =N5/$O5*100 -> 7.7864598 | O100: =SUM(M100:N100) -> 100
A101: C | B101: MANUFACTURING | C101: =C6/$O6*100 -> 13.26926 | D101: =D6/$O6*100 -> 3.4630128 | E101: =E6/$O6*100 -> 0 | F101: =F6/$O6*100 -> 0 | G101: =G6/$O6*100 -> 43.31633 | H101: =H6/$O6*100 -> 30.792076 | I101: =I6/$O6*100 -> 2.5491183 | J101: =J6/$O6*100 -> 0.85338296 | ... N101: =N6/$O6*100 -> 38.885336 | O101: =SUM(M101:N101) -> 100
A102: D | B102: ELECTRICITY, GAS, STEAM & AIR CONDITIONING SUPPLY | C102: =C7/$O7*100 -> 0 | D102: =D7/$O7*100 -> 0 | E102: =E7/$O7*100 -> 0 | F102: =F7/$O7*100 -> 0 | G102: =G7/$O7*100 -> 88.442921 | H102: =H7/$O7*100 -> 0 | I102: =I7/$O7*100 -> 0 | J102: =J7/$O7*100 -> 0 | ... N102: =N7/$O7*100 -> 0 | O102: =SUM(M102:N102) -> 100
A103: E | B103: WATER SUPPLY, SEWERAGE, WASTE MANAGEMENT & REMEDIATION | C103: =C8/$O8*100 -> 43.061434 | D103: =D8/$O8*100 -> 8.7439056 | E103: =E8/$O8*100 -> 0 | F103: =F8/$O8*100 -> 0 | G103: =G8/$O8*100 -> 36.74751 | H103: =H8/$O8*100 -> 9.6469472 | I103: =I8/$O8*100 -> 0.26725566 | J103: =J8/$O8*100 -> 0 | ... N103: =N8/$O8*100 -> 19.9238 | O103: =SUM(M103:N103) -> 100
A104: F | B104: CONSTRUCTION | C104: =C9/$O9*100 -> 43.507027 | D104: =D9/$O9*100 -> 1.2260365 | E104: =E9/$O9*100 -> 0 | F104: =F9/$O9*100 -> 0 | G104: =G9/$O9*100 -> 50.938814 | H104: =H9/$O9*100 -> 0.68195697 | I104: =I9/$O9*100 -> 2.7868164 | J104: =J9/$O9*100 -> 0 | ... N104: =N9/$O9*100 -> 2.0198282 | O104: =SUM(M104:N104) -> 100
A105: G | B105: TRADE | C105: =C10/$O10*100 -> 5.1462045 | D105: =D10/$O10*100 -> 7.9023725 | E105: =E10/$O10*100 -> 0 | F105: =F10/$O10*100 -> 0 | G105: =G10/$O10*100 -> 29.314107 | H105: =H10/$O10*100 -> 54.26057 | I105: =I10/$O10*100 -> 0.70371087 | J105: =J10/$O10*100 -> 0.47898204 | ... N105: =N10/$O10*100 -> 64.142844 | O105: =SUM(M105:N105) -> 100
A106: I | B106: ACCOMMODATION AND FOOD SERVICES | C106: =C11/$O11*100 -> 0.5470897 | D106: =D11/$O11*100 -> 0.27810983 | E106: =E11/$O11*100 -> 0 | F106: =F11/$O11*100 -> 0 | G106: =G11/$O11*100 -> 9.8912306 | H106: =H11/$O11*100 -> 77.121284 | I106: =I11/$O11*100 -> 0.45849696 | J106: =J11/$O11*100 -> 1.2127996 | ... N106: =N11/$O11*100 -> 87.748284 | O106: =SUM(M106:N106) -> 100
A107: H | B107: TRANSPORTATION AND STORAGE | C107: =C12/$O12*100 -> 34.849161 | D107: =D12/$O12*100 -> 0.60919559 | E107: =E12/$O12*100 -> 0 | F107: =F12/$O12*100 -> 0 | G107: =G12/$O12*100 -> 62.805655 | H107: =H12/$O12*100 -> 0.35959314 | I107: =I12/$O12*100 -> 0.59165761 | J107: =J12/$O12*100 -> 0 | ... N107: =N12/$O12*100 -> 0.96878874 | O107: =SUM(M107:N107) -> 100
A108: J | B108: INFORMATION AND COMMUNICATION | C108: =C13/$O13*100 -> 55.481551 | D108: =D13/$O13*100 -> 19.691912 | E108: =E13/$O13*100 -> 0 | F108: =F13/$O13*100 -> 0 | G108: =G13/$O13*100 -> 21.877198 | H108: =H13/$O13*100 -> 1.4826362 | I108: =I13/$O13*100 -> 1.1296416 | J108: =J13/$O13*100 -> 0.3370623 | ... N108: =N13/$O13*100 -> 21.51161 | O108: =SUM(M108:N108) -> 100
A109: K | B109: ARTS, ENTERTAINMENTAND RECREATION | C109: =C14/$O14*100 -> 71.722283 | D109: =D14/$O14*100 -> 17.905378 | E109: =E14/$O14*100 -> 0 | F109: =F14/$O14*100 -> 0 | G109: =G14/$O14*100 -> 8.3865118 | H109: =H14/$O14*100 -> 1.0638016 | I109: =I14/$O14*100 -> 0.92202484 | J109: =J14/$O14*100 -> 0 | ... N109: =N14/$O14*100 -> 18.96918 | O109: =SUM(M109:N109) -> 100
A110: L | B110: FINANCIAL AND INSURANCE | C110: =C15/$O15*100 -> 58.003793 | D110: =D15/$O15*100 -> 34.859441 | E110: =E15/$O15*100 -> 0 | F110: =F15/$O15*100 -> 0 | G110: =G15/$O15*100 -> 5.5809616 | H110: =H15/$O15*100 -> 0.4952625 | I110: =I15/$O15*100 -> 0.094359935 | J110: =J15/$O15*100 -> 0 | ... N110: =N15/$O15*100 -> 35.694691 | O110: =SUM(M110:N110) -> 100
... A116: S | B116: OTHER SERVICES | C116: =C21/$O21*100 -> 37.031908 | D116: =D21/$O21*100 -> 21.85964 | E116: =E21/$O21*100 -> 0 | F116: =F21/$O21*100 -> 0 | G116: =G21/$O21*100 -> 15.247252 | H116: =H21/$O21*100 -> 14.815723 | I116: =I21/$O21*100 -> 0.69550126 | J116: =J21/$O21*100 -> 0.63413535 | ... N116: =N21/$O21*100 -> 43.079599 | O116: =SUM(M116:N116) -> 100

Sheet All-Employed+Unemployed(<20hr) 
A1: ABSOLUTE DISTRIBUTION OF WORKING POPULATION BY ECONOMIC ACTIVITY BY TYPE OF ENGAGEMENT AND BY SEX
B2: Major Economic Activity | C2: Work for Pay/Wage | E2: Self employment (in farming) | G2: Self employment (non farming) | I2: Paid Apprentice | K2: UnPaid Household Worker | M2: TOTAL
C3: Male | D3: Female | E3: Male | F3: Female | G3: Male | H3: Female | I3: Male | J3: Female | K3: Male | L3: Female | M3: Male | N3: Female | O3: Male+Female
A4: A | B4: AGRICULTURE | C4: ='Work 1-19 Hrs-Unemployed'!C4+'Work 20-39 Hrs-Underemployed'!C4+'Work 40 Hrs-Full-Time employed'!C4 -> 1770971.1 | D4: ='Work 1-19 Hrs-Unemployed'!D4+'Work 20-39 Hrs-Underemployed'!D4+'Work 40 Hrs-Full-Time employed'!D4 -> 693298.1 | E4: ='Work 1-19 Hrs-Unemployed'!E4+'Work 20-39 Hrs-Underemployed'!E4+'Work 40 Hrs-Full-Time employed'!E4 -> 22272459 | F4: ='Work 1-19 Hrs-Unemployed'!F4+'Work 20-39 Hrs-Underemployed'!F4+'Work 40 Hrs-Full-Time employed'!F4 -> 7384836.1 | G4: ='Work 1-19 Hrs-Unemployed'!G4+'Work 20-39 Hrs-Underemployed'!G4+'Work 40 Hrs-Full-Time employed'!G4 -> 874104.03 | H4: ='Work 1-19 Hrs-Unemployed'!H4+'Work 20-39 Hrs-Underemployed'!H4+'Work 40 Hrs-Full-Time employed'!H4 -> 303341.27 | I4: ='Work 1-19 Hrs-Unemployed'!I4+'Work 20-39 Hrs-Underemployed'!I4+'Work 40 Hrs-Full-Time employed'!I4 -> 171857.13 | J4: ='Work 1-19 Hrs-Unemployed'!J4+'Work 20-39 Hrs-Underemployed'!J4+'Work 40 Hrs-Full-Time employed'!J4 -> 45900.413 | ... L4: ='Work 1-19 Hrs-Unemployed'!L4+'Work 20-39 Hrs-Underemployed'!L4+'Work 40 Hrs-Full-Time employed'!L4 -> 1816068.3 | M4: =SUM(C4,E4,G4,I4,K4) -> 27125486 | N4: =SUM(D4,F4,H4,J4,L4) -> 10243444 | O4: =M4+N4 -> 37368930
A5: B | B5: MINING AND QUARRYING | C5: ='Work 1-19 Hrs-Unemployed'!C5+'Work 20-39 Hrs-Underemployed'!C5+'Work 40 Hrs-Full-Time employed'!C5 -> 24549.621 | D5: ='Work 1-19 Hrs-Unemployed'!D5+'Work 20-39 Hrs-Underemployed'!D5+'Work 40 Hrs-Full-Time employed'!D5 -> 362.13411 | G5: ='Work 1-19 Hrs-Unemployed'!G5+'Work 20-39 Hrs-Underemployed'!G5+'Work 40 Hrs-Full-Time employed'!G5 -> 87660.722 | H5: ='Work 1-19 Hrs-Unemployed'!H5+'Work 20-39 Hrs-Underemployed'!H5+'Work 40 Hrs-Full-Time employed'!H5 -> 11537.836 | I5: ='Work 1-19 Hrs-Unemployed'!I5+'Work 20-39 Hrs-Underemployed'!I5+'Work 40 Hrs-Full-Time employed'!I5 -> 4436.7896 | J5: ='Work 1-19 Hrs-Unemployed'!J5+'Work 20-39 Hrs-Underemployed'!J5+'Work 40 Hrs-Full-Time employed'!J5 -> 0 | K5: ='Work 1-19 Hrs-Unemployed'!K5+'Work 20-39 Hrs-Underemployed'!K5+'Work 40 Hrs-Full-Time employed'!K5 -> 1158.0094 | L5: ='Work 1-19 Hrs-Unemployed'!L5+'Work 20-39 Hrs-Underemployed'!L5+'Work 40 Hrs-Full-Time employed'!L5 -> 0 | M5: =SUM(C5,E5,G5,I5,K5) -> 117805.14 | N5: =SUM(D5,F5,H5,J5,L5) -> 11899.97 | O5: =M5+N5 -> 129705.11
A6: C | B6: MANUFACTURING | C6: ='Work 1-19 Hrs-Unemployed'!C6+'Work 20-39 Hrs-Underemployed'!C6+'Work 40 Hrs-Full-Time employed'!C6 -> 722310.71 | D6: ='Work 1-19 Hrs-Unemployed'!D6+'Work 20-39 Hrs-Underemployed'!D6+'Work 40 Hrs-Full-Time employed'!D6 -> 213841.34 | G6: ='Work 1-19 Hrs-Unemployed'!G6+'Work 20-39 Hrs-Underemployed'!G6+'Work 40 Hrs-Full-Time employed'!G6 -> 2257392 | H6: ='Work 1-19 Hrs-Unemployed'!H6+'Work 20-39 Hrs-Underemployed'!H6+'Work 40 Hrs-Full-Time employed'!H6 -> 1680389.1 | I6: ='Work 1-19 Hrs-Unemployed'!I6+'Work 20-39 Hrs-Underemployed'!I6+'Work 40 Hrs-Full-Time employed'!I6 -> 135937.19 | J6: ='Work 1-19 Hrs-Unemployed'!J6+'Work 20-39 Hrs-Underemployed'!J6+'Work 40 Hrs-Full-Time employed'!J6 -> 44582.721 | K6: ='Work 1-19 Hrs-Unemployed'!K6+'Work 20-39 Hrs-Underemployed'!K6+'Work 40 Hrs-Full-Time employed'!K6 -> 133742.68 | L6: ='Work 1-19 Hrs-Unemployed'!L6+'Work 20-39 Hrs-Underemployed'!L6+'Work 40 Hrs-Full-Time employed'!L6 -> 222445.76 | M6: =SUM(C6,E6,G6,I6,K6) -> 3249382.5 | N6: =SUM(D6,F6,H6,J6,L6) -> 2161258.9 | O6: =M6+N6 -> 5410641.4
A7: D | B7: ELECTRICITY, GAS, STEAM & AIR CONDITIONING SUPPLY | G7: ='Work 1-19 Hrs-Unemployed'!G7+'Work 20-39 Hrs-Underemployed'!G7+'Work 40 Hrs-Full-Time employed'!G7 -> 8228.1533 | H7: ='Work 1-19 Hrs-Unemployed'!H7+'Work 20-39 Hrs-Underemployed'!H7+'Work 40 Hrs-Full-Time employed'!H7 -> 0 | K7: ='Work 1-19 Hrs-Unemployed'!K7+'Work 20-39 Hrs-Underemployed'!K7+'Work 40 Hrs-Full-Time employed'!K7 -> 2263.4221 | L7: ='Work 1-19 Hrs-Unemployed'!L7+'Work 20-39 Hrs-Underemployed'!L7+'Work 40 Hrs-Full-Time employed'!L7 -> 0 | M7: =SUM(C7,E7,G7,I7,K7) -> 10491.575 | N7: =SUM(D7,F7,H7,J7,L7) -> 0 | O7: =M7+N7 -> 10491.575
A8: E | B8: WATER SUPPLY, SEWERAGE, WASTE MANAGEMENT & REMEDIATION | C8: ='Work 1-19 Hrs-Unemployed'!C8+'Work 20-39 Hrs-Underemployed'!C8+'Work 40 Hrs-Full-Time employed'!C8 -> 39726.47 | D8: ='Work 1-19 Hrs-Unemployed'!D8+'Work 20-39 Hrs-Underemployed'!D8+'Work 40 Hrs-Full-Time employed'!D8 -> 9388.0735 | G8: ='Work 1-19 Hrs-Unemployed'!G8+'Work 20-39 Hrs-Underemployed'!G8+'Work 40 Hrs-Full-Time employed'!G8 -> 30725.15 | H8: ='Work 1-19 Hrs-Unemployed'!H8+'Work 20-39 Hrs-Underemployed'!H8+'Work 40 Hrs-Full-Time employed'!H8 -> 9460.8575 | I8: ='Work 1-19 Hrs-Unemployed'!I8+'Work 20-39 Hrs-Underemployed'!I8+'Work 40 Hrs-Full-Time employed'!I8 -> 223.45651 | J8: ='Work 1-19 Hrs-Unemployed'!J8+'Work 20-39 Hrs-Underemployed'!J8+'Work 40 Hrs-Full-Time employed'!J8 -> 0 | K8: ='Work 1-19 Hrs-Unemployed'!K8+'Work 20-39 Hrs-Underemployed'!K8+'Work 40 Hrs-Full-Time employed'!K8 -> 0 | L8: ='Work 1-19 Hrs-Unemployed'!L8+'Work 20-39 Hrs-Underemployed'!L8+'Work 40 Hrs-Full-Time employed'!L8 -> 1281.7205 | M8: =SUM(C8,E8,G8,I8,K8) -> 70675.076 | N8: =SUM(D8,F8,H8,J8,L8) -> 20130.652 | O8: =M8+N8 -> 90805.728
A9: F | B9: CONSTRUCTION | C9: ='Work 1-19 Hrs-Unemployed'!C9+'Work 20-39 Hrs-Underemployed'!C9+'Work 40 Hrs-Full-Time employed'!C9 -> 769127.24 | D9: ='Work 1-19 Hrs-Unemployed'!D9+'Work 20-39 Hrs-Underemployed'!D9+'Work 40 Hrs-Full-Time employed'!D9 -> 26337.989 | G9: ='Work 1-19 Hrs-Unemployed'!G9+'Work 20-39 Hrs-Underemployed'!G9+'Work 40 Hrs-Full-Time employed'!G9 -> 866409.57 | H9: ='Work 1-19 Hrs-Unemployed'!H9+'Work 20-39 Hrs-Underemployed'!H9+'Work 40 Hrs-Full-Time employed'!H9 -> 13051.883 | I9: ='Work 1-19 Hrs-Unemployed'!I9+'Work 20-39 Hrs-Underemployed'!I9+'Work 40 Hrs-Full-Time employed'!I9 -> 46251.983 | J9: ='Work 1-19 Hrs-Unemployed'!J9+'Work 20-39 Hrs-Underemployed'!J9+'Work 40 Hrs-Full-Time employed'!J9 -> 0 | K9: ='Work 1-19 Hrs-Unemployed'!K9+'Work 20-39 Hrs-Underemployed'!K9+'Work 40 Hrs-Full-Time employed'!K9 -> 22495.246 | L9: ='Work 1-19 Hrs-Unemployed'!L9+'Work 20-39 Hrs-Underemployed'!L9+'Work 40 Hrs-Full-Time employed'!L9 -> 1804.9539 | M9: =SUM(C9,E9,G9,I9,K9) -> 1704284 | N9: =SUM(D9,F9,H9,J9,L9) -> 41194.825 | O9: =M9+N9 -> 1745478.9
A10: G | B10: TRADE | C10: ='Work 1-19 Hrs-Unemployed'!C10+'Work 20-39 Hrs-Underemployed'!C10+'Work 40 Hrs-Full-Time employed'!C10 -> 570214.96 | D10: ='Work 1-19 Hrs-Unemployed'!D10+'Work 20-39 Hrs-Underemployed'!D10+'Work 40 Hrs-Full-Time employed'!D10 -> 878597.94 | G10: ='Work 1-19 Hrs-Unemployed'!G10+'Work 20-39 Hrs-Underemployed'!G10+'Work 40 Hrs-Full-Time employed'!G10 -> 3065790 | H10: ='Work 1-19 Hrs-Unemployed'!H10+'Work 20-39 Hrs-Underemployed'!H10+'Work 40 Hrs-Full-Time employed'!H10 -> 5913170 | I10: ='Work 1-19 Hrs-Unemployed'!I10+'Work 20-39 Hrs-Underemployed'!I10+'Work 40 Hrs-Full-Time employed'!I10 -> 79408.854 | J10: ='Work 1-19 Hrs-Unemployed'!J10+'Work 20-39 Hrs-Underemployed'!J10+'Work 40 Hrs-Full-Time employed'!J10 -> 50965.324 | K10: ='Work 1-19 Hrs-Unemployed'!K10+'Work 20-39 Hrs-Underemployed'!K10+'Work 40 Hrs-Full-Time employed'!K10 -> 91898.981 | L10: ='Work 1-19 Hrs-Unemployed'!L10+'Work 20-39 Hrs-Underemployed'!L10+'Work 40 Hrs-Full-Time employed'!L10 -> 184985.96 | M10: =SUM(C10,E10,G10,I10,K10) -> 3807312.8 | N10: =SUM(D10,F10,H10,J10,L10) -> 7027719.2 | O10: =M10+N10 -> 10835032
A11: I | B11: ACCOMMODATION AND FOOD SERVICES | C11: ='Work 1-19 Hrs-Unemployed'!C11+'Work 20-39 Hrs-Underemployed'!C11+'Work 40 Hrs-Full-Time employed'!C11 -> 5113.2759 | D11: ='Work 1-19 Hrs-Unemployed'!D11+'Work 20-39 Hrs-Underemployed'!D11+'Work 40 Hrs-Full-Time employed'!D11 -> 2599.3037 | G11: ='Work 1-19 Hrs-Unemployed'!G11+'Work 20-39 Hrs-Underemployed'!G11+'Work 40 Hrs-Full-Time employed'!G11 -> 94524.496 | H11: ='Work 1-19 Hrs-Unemployed'!H11+'Work 20-39 Hrs-Underemployed'!H11+'Work 40 Hrs-Full-Time employed'!H11 -> 819150.55 | I11: ='Work 1-19 Hrs-Unemployed'!I11+'Work 20-39 Hrs-Underemployed'!I11+'Work 40 Hrs-Full-Time employed'!I11 -> 4285.2597 | J11: ='Work 1-19 Hrs-Unemployed'!J11+'Work 20-39 Hrs-Underemployed'!J11+'Work 40 Hrs-Full-Time employed'!J11 -> 14714.998 | K11: ='Work 1-19 Hrs-Unemployed'!K11+'Work 20-39 Hrs-Underemployed'!K11+'Work 40 Hrs-Full-Time employed'!K11 -> 13071.608 | L11: ='Work 1-19 Hrs-Unemployed'!L11+'Work 20-39 Hrs-Underemployed'!L11+'Work 40 Hrs-Full-Time employed'!L11 -> 98648.257 | M11: =SUM(C11,E11,G11,I11,K11) -> 116994.64 | N11: =SUM(D11,F11,H11,J11,L11) -> 935113.11 | O11: =M11+N11 -> 1052107.7
A12: H | B12: TRANSPORTATION AND STORAGE | C12: ='Work 1-19 Hrs-Unemployed'!C12+'Work 20-39 Hrs-Underemployed'!C12+'Work 40 Hrs-Full-Time employed'!C12 -> 876302.67 | D12: ='Work 1-19 Hrs-Unemployed'!D12+'Work 20-39 Hrs-Underemployed'!D12+'Work 40 Hrs-Full-Time employed'!D12 -> 14783.703 | G12: ='Work 1-19 Hrs-Unemployed'!G12+'Work 20-39 Hrs-Underemployed'!G12+'Work 40 Hrs-Full-Time employed'!G12 -> 1552087.3 | H12: ='Work 1-19 Hrs-Unemployed'!H12+'Work 20-39 Hrs-Underemployed'!H12+'Work 40 Hrs-Full-Time employed'!H12 -> 9398.452 | I12: ='Work 1-19 Hrs-Unemployed'!I12+'Work 20-39 Hrs-Underemployed'!I12+'Work 40 Hrs-Full-Time employed'!I12 -> 14371.921 | J12: ='Work 1-19 Hrs-Unemployed'!J12+'Work 20-39 Hrs-Underemployed'!J12+'Work 40 Hrs-Full-Time employed'!J12 -> 0 | K12: ='Work 1-19 Hrs-Unemployed'!K12+'Work 20-39 Hrs-Underemployed'!K12+'Work 40 Hrs-Full-Time employed'!K12 -> 20833.461 | L12: ='Work 1-19 Hrs-Unemployed'!L12+'Work 20-39 Hrs-Underemployed'!L12+'Work 40 Hrs-Full-Time employed'!L12 -> 2079.0304 | M12: =SUM(C12,E12,G12,I12,K12) -> 2463595.4 | N12: =SUM(D12,F12,H12,J12,L12) -> 26261.186 | O12: =M12+N12 -> 2489856.6
A13: J | B13: INFORMATION AND COMMUNICATION | C13: ='Work 1-19 Hrs-Unemployed'!C13+'Work 20-39 Hrs-Underemployed'!C13+'Work 40 Hrs-Full-Time employed'!C13 -> 227649.77 | D13: ='Work 1-19 Hrs-Unemployed'!D13+'Work 20-39 Hrs-Underemployed'!D13+'Work 40 Hrs-Full-Time employed'!D13 -> 84110.261 | G13: ='Work 1-19 Hrs-Unemployed'!G13+'Work 20-39 Hrs-Underemployed'!G13+'Work 40 Hrs-Full-Time employed'!G13 -> 97679.708 | H13: ='Work 1-19 Hrs-Unemployed'!H13+'Work 20-39 Hrs-Underemployed'!H13+'Work 40 Hrs-Full-Time employed'!H13 -> 6494.1285 | I13: ='Work 1-19 Hrs-Unemployed'!I13+'Work 20-39 Hrs-Underemployed'!I13+'Work 40 Hrs-Full-Time employed'!I13 -> 4388.0154 | J13: ='Work 1-19 Hrs-Unemployed'!J13+'Work 20-39 Hrs-Underemployed'!J13+'Work 40 Hrs-Full-Time employed'!J13 -> 1309.2954 | K13: ='Work 1-19 Hrs-Unemployed'!K13+'Work 20-39 Hrs-Underemployed'!K13+'Work 40 Hrs-Full-Time employed'!K13 -> 2524.9737 | L13: ='Work 1-19 Hrs-Unemployed'!L13+'Work 20-39 Hrs-Underemployed'!L13+'Work 40 Hrs-Full-Time employed'!L13 -> 0 | M13: =SUM(C13,E13,G13,I13,K13) -> 332242.47 | N13: =SUM(D13,F13,H13,J13,L13) -> 91913.685 | O13: =M13+N13 -> 424156.15
A14: K | B14: ARTS, ENTERTAINMENTAND RECREATION | C14: ='Work 1-19 Hrs-Unemployed'!C14+'Work 20-39 Hrs-Underemployed'!C14+'Work 40 Hrs-Full-Time employed'!C14 -> 383746.81 | D14: ='Work 1-19 Hrs-Unemployed'!D14+'Work 20-39 Hrs-Underemployed'!D14+'Work 40 Hrs-Full-Time employed'!D14 -> 120811.54 | G14: ='Work 1-19 Hrs-Unemployed'!G14+'Work 20-39 Hrs-Underemployed'!G14+'Work 40 Hrs-Full-Time employed'!G14 -> 42662.781 | H14: ='Work 1-19 Hrs-Unemployed'!H14+'Work 20-39 Hrs-Underemployed'!H14+'Work 40 Hrs-Full-Time employed'!H14 -> 5834.1718 | I14: ='Work 1-19 Hrs-Unemployed'!I14+'Work 20-39 Hrs-Underemployed'!I14+'Work 40 Hrs-Full-Time employed'!I14 -> 4102.281 | J14: ='Work 1-19 Hrs-Unemployed'!J14+'Work 20-39 Hrs-Underemployed'!J14+'Work 40 Hrs-Full-Time employed'!J14 -> 0 | M14: =SUM(C14,E14,G14,I14,K14) -> 430511.87 | N14: =SUM(D14,F14,H14,J14,L14) -> 126645.71 | O14: =M14+N14 -> 557157.58
A15: L | B15: FINANCIAL AND INSURANCE | C15: ='Work 1-19 Hrs-Unemployed'!C15+'Work 20-39 Hrs-Underemployed'!C15+'Work 40 Hrs-Full-Time employed'!C15 -> 588885.51 | D15: ='Work 1-19 Hrs-Unemployed'!D15+'Work 20-39 Hrs-Underemployed'!D15+'Work 40 Hrs-Full-Time employed'!D15 -> 349932.94 | G15: ='Work 1-19 Hrs-Unemployed'!G15+'Work 20-39 Hrs-Underemployed'!G15+'Work 40 Hrs-Full-Time employed'!G15 -> 52230.594 | H15: ='Work 1-19 Hrs-Unemployed'!H15+'Work 20-39 Hrs-Underemployed'!H15+'Work 40 Hrs-Full-Time employed'!H15 -> 4378.5166 | I15: ='Work 1-19 Hrs-Unemployed'!I15+'Work 20-39 Hrs-Underemployed'!I15+'Work 40 Hrs-Full-Time employed'!I15 -> 834.21728 | J15: ='Work 1-19 Hrs-Unemployed'!J15+'Work 20-39 Hrs-Underemployed'!J15+'Work 40 Hrs-Full-Time employed'!J15 -> 0 | K15: ='Work 1-19 Hrs-Unemployed'!K15+'Work 20-39 Hrs-Underemployed'!K15+'Work 40 Hrs-Full-Time employed'!K15 -> 10922.107 | L15: ='Work 1-19 Hrs-Unemployed'!L15+'Work 20-39 Hrs-Underemployed'!L15+'Work 40 Hrs-Full-Time employed'!L15 -> 4435.5209 | M15: =SUM(C15,E15,G15,I15,K15) -> 652872.43 | N15: =SUM(D15,F15,H15,J15,L15) -> 358746.98 | O15: =M15+N15 -> 1011619.4
A16: M | B16: REAL ESTATE | G16: ='Work 1-19 Hrs-Unemployed'!G16+'Work 20-39 Hrs-Underemployed'!G16+'Work 40 Hrs-Full-Time employed'!G16 -> 63716.627 | H16: ='Work 1-19 Hrs-Unemployed'!H16+'Work 20-39 Hrs-Underemployed'!H16+'Work 40 Hrs-Full-Time employed'!H16 -> 2613.6226 | K16: ='Work 1-19 Hrs-Unemployed'!K16+'Work 20-39 Hrs-Underemployed'!K16+'Work 40 Hrs-Full-Time employed'!K16 -> 3184.9505 | L16: ='Work 1-19 Hrs-Unemployed'!L16+'Work 20-39 Hrs-Underemployed'!L16+'Work 40 Hrs-Full-Time employed'!L16 -> 0 | M16: =SUM(C16,E16,G16,I16,K16) -> 66901.578 | N16: =SUM(D16,F16,H16,J16,L16) -> 2613.6226 | O16: =M16+N16 -> 69515.201
A17: N | B17: PROFESSIONAL, SCIENTIFIC AND TECHNICAL SERVICES | C17: ='Work 1-19 Hrs-Unemployed'!C17+'Work 20-39 Hrs-Underemployed'!C17+'Work 40 Hrs-Full-Time employed'!C17 -> 2307670.2 | D17: ='Work 1-19 Hrs-Unemployed'!D17+'Work 20-39 Hrs-Underemployed'!D17+'Work 40 Hrs-Full-Time employed'!D17 -> 1275998.2 | G17: ='Work 1-19 Hrs-Unemployed'!G17+'Work 20-39 Hrs-Underemployed'!G17+'Work 40 Hrs-Full-Time employed'!G17 -> 681517.41 | H17: ='Work 1-19 Hrs-Unemployed'!H17+'Work 20-39 Hrs-Underemployed'!H17+'Work 40 Hrs-Full-Time employed'!H17 -> 426938.31 | I17: ='Work 1-19 Hrs-Unemployed'!I17+'Work 20-39 Hrs-Underemployed'!I17+'Work 40 Hrs-Full-Time employed'!I17 -> 70172.417 | J17: ='Work 1-19 Hrs-Unemployed'!J17+'Work 20-39 Hrs-Underemployed'!J17+'Work 40 Hrs-Full-Time employed'!J17 -> 49146.045 | K17: ='Work 1-19 Hrs-Unemployed'!K17+'Work 20-39 Hrs-Underemployed'!K17+'Work 40 Hrs-Full-Time employed'!K17 -> 61463.31 | L17: ='Work 1-19 Hrs-Unemployed'!L17+'Work 20-39 Hrs-Underemployed'!L17+'Work 40 Hrs-Full-Time employed'!L17 -> 65594.677 | M17: =SUM(C17,E17,G17,I17,K17) -> 3120823.3 | N17: =SUM(D17,F17,H17,J17,L17) -> 1817677.3 | O17: =M17+N17 -> 4938500.6
A18: O | B18: ADMINISTRATIVE & SUPPORT SERVICES | C18: ='Work 1-19 Hrs-Unemployed'!C18+'Work 20-39 Hrs-Underemployed'!C18+'Work 40 Hrs-Full-Time employed'!C18 -> 260410.41 | D18: ='Work 1-19 Hrs-Unemployed'!D18+'Work 20-39 Hrs-Underemployed'!D18+'Work 40 Hrs-Full-Time employed'!D18 -> 46313.528 | G18: ='Work 1-19 Hrs-Unemployed'!G18+'Work 20-39 Hrs-Underemployed'!G18+'Work 40 Hrs-Full-Time employed'!G18 -> 105122.53 | H18: ='Work 1-19 Hrs-Unemployed'!H18+'Work 20-39 Hrs-Underemployed'!H18+'Work 40 Hrs-Full-Time employed'!H18 -> 34568.442 | I18: ='Work 1-19 Hrs-Unemployed'!I18+'Work 20-39 Hrs-Underemployed'!I18+'Work 40 Hrs-Full-Time employed'!I18 -> 5522.5443 | J18: ='Work 1-19 Hrs-Unemployed'!J18+'Work 20-39 Hrs-Underemployed'!J18+'Work 40 Hrs-Full-Time employed'!J18 -> 0 | K18: ='Work 1-19 Hrs-Unemployed'!K18+'Work 20-39 Hrs-Underemployed'!K18+'Work 40 Hrs-Full-Time employed'!K18 -> 9601.311 | L18: ='Work 1-19 Hrs-Unemployed'!L18+'Work 20-39 Hrs-Underemployed'!L18+'Work 40 Hrs-Full-Time employed'!L18 -> 5093.4702 | M18: =SUM(C18,E18,G18,I18,K18) -> 380656.8 | N18: =SUM(D18,F18,H18,J18,L18) -> 85975.44 | O18: =M18+N18 -> 466632.24
A19: Q | B19: EDUCATION | C19: ='Work 1-19 Hrs-Unemployed'!C19+'Work 20-39 Hrs-Underemployed'!C19+'Work 40 Hrs-Full-Time employed'!C19 -> 1033667.4 | D19: ='Work 1-19 Hrs-Unemployed'!D19+'Work 20-39 Hrs-Underemployed'!D19+'Work 40 Hrs-Full-Time employed'!D19 -> 1131307.5 | G19: ='Work 1-19 Hrs-Unemployed'!G19+'Work 20-39 Hrs-Underemployed'!G19+'Work 40 Hrs-Full-Time employed'!G19 -> 254672.79 | H19: ='Work 1-19 Hrs-Unemployed'!H19+'Work 20-39 Hrs-Underemployed'!H19+'Work 40 Hrs-Full-Time employed'!H19 -> 181767.42 | I19: ='Work 1-19 Hrs-Unemployed'!I19+'Work 20-39 Hrs-Underemployed'!I19+'Work 40 Hrs-Full-Time employed'!I19 -> 9064.5812 | J19: ='Work 1-19 Hrs-Unemployed'!J19+'Work 20-39 Hrs-Underemployed'!J19+'Work 40 Hrs-Full-Time employed'!J19 -> 5221.7021 | K19: ='Work 1-19 Hrs-Unemployed'!K19+'Work 20-39 Hrs-Underemployed'!K19+'Work 40 Hrs-Full-Time employed'!K19 -> 44731.639 | L19: ='Work 1-19 Hrs-Unemployed'!L19+'Work 20-39 Hrs-Underemployed'!L19+'Work 40 Hrs-Full-Time employed'!L19 -> 24824.16 | M19: =SUM(C19,E19,G19,I19,K19) -> 1342136.4 | N19: =SUM(D19,F19,H19,J19,L19) -> 1343120.7 | O19: =M19+N19 -> 2685257.1
A20: R | B20: HUMAN HEALTH AND SOCIAL SERVICES | C20: ='Work 1-19 Hrs-Unemployed'!C20+'Work 20-39 Hrs-Underemployed'!C20+'Work 40 Hrs-Full-Time employed'!C20 -> 662439.52 | D20: ='Work 1-19 Hrs-Unemployed'!D20+'Work 20-39 Hrs-Underemployed'!D20+'Work 40 Hrs-Full-Time employed'!D20 -> 1082068.7 | G20: ='Work 1-19 Hrs-Unemployed'!G20+'Work 20-39 Hrs-Underemployed'!G20+'Work 40 Hrs-Full-Time employed'!G20 -> 143779.26 | H20: ='Work 1-19 Hrs-Unemployed'!H20+'Work 20-39 Hrs-Underemployed'!H20+'Work 40 Hrs-Full-Time employed'!H20 -> 77678.875 | I20: ='Work 1-19 Hrs-Unemployed'!I20+'Work 20-39 Hrs-Underemployed'!I20+'Work 40 Hrs-Full-Time employed'!I20 -> 9751.7483 | J20: ='Work 1-19 Hrs-Unemployed'!J20+'Work 20-39 Hrs-Underemployed'!J20+'Work 40 Hrs-Full-Time employed'!J20 -> 7150.4074 | K20: ='Work 1-19 Hrs-Unemployed'!K20+'Work 20-39 Hrs-Underemployed'!K20+'Work 40 Hrs-Full-Time employed'!K20 -> 17332.343 | L20: ='Work 1-19 Hrs-Unemployed'!L20+'Work 20-39 Hrs-Underemployed'!L20+'Work 40 Hrs-Full-Time employed'!L20 -> 143906.96 | M20: =SUM(C20,E20,G20,I20,K20) -> 833302.87 | N20: =SUM(D20,F20,H20,J20,L20) -> 1310804.9 | O20: =M20+N20 -> 2144107.8
A21: S | B21: OTHER SERVICES | C21: ='Work 1-19 Hrs-Unemployed'!C21+'Work 20-39 Hrs-Underemployed'!C21+'Work 40 Hrs-Full-Time employed'!C21 -> 2229483.7 | D21: ='Work 1-19 Hrs-Unemployed'!D21+'Work 20-39 Hrs-Underemployed'!D21+'Work 40 Hrs-Full-Time employed'!D21 -> 1313015.5 | G21: ='Work 1-19 Hrs-Unemployed'!G21+'Work 20-39 Hrs-Underemployed'!G21+'Work 40 Hrs-Full-Time employed'!G21 -> 946792.15 | H21: ='Work 1-19 Hrs-Unemployed'!H21+'Work 20-39 Hrs-Underemployed'!H21+'Work 40 Hrs-Full-Time employed'!H21 -> 932393.89 | I21: ='Work 1-19 Hrs-Unemployed'!I21+'Work 20-39 Hrs-Underemployed'!I21+'Work 40 Hrs-Full-Time employed'!I21 -> 42397.428 | J21: ='Work 1-19 Hrs-Unemployed'!J21+'Work 20-39 Hrs-Underemployed'!J21+'Work 40 Hrs-Full-Time employed'!J21 -> 40983.196 | K21: ='Work 1-19 Hrs-Unemployed'!K21+'Work 20-39 Hrs-Underemployed'!K21+'Work 40 Hrs-Full-Time employed'!K21 -> 245319.42 | L21: ='Work 1-19 Hrs-Unemployed'!L21+'Work 20-39 Hrs-Underemployed'!L21+'Work 40 Hrs-Full-Time employed'!L21 -> 371047.84 | M21: =SUM(C21,E21,G21,I21,K21) -> 3463992.7 | N21: =SUM(D21,F21,H21,J21,L21) -> 2657440.4 | O21: =M21+N21 -> 6121433.1
B22: TOTAL | C22: =SUM(C4:C21) -> 12472269 | D22: =SUM(D4:D21) -> 7242766.7 | E22: =SUM(E4:E21) -> 22272459 | F22: =SUM(F4:F21) -> 7384836.1 | G22: =SUM(G4:G21) -> 11225095 | H22: =SUM(H4:H21) -> 10432167 | I22: =SUM(I4:I21) -> 603005.82 | J22: =SUM(J4:J21) -> 259974.1 | ... N22: =SUM(N4:N21) -> 28261961 | O22: =M22+N22 -> 77551429
A24: DISTRIBUTION OF WORKING POPULATION BY ECONOMIC ACTIVITY BY TYPE OF ENGAGEMENT AND BY SEX -Male
B25: Major Economic Activity | C25: Work for Pay/Wage | E25: Self employment (in farming) | G25: Self employment (non farming) | I25: Paid Apprentice | K25: UnPaid Household Worker | M25: TOTAL
C26: Total Male | E26: Total Male | G26: Total Male | I26: Total Male | K26: Total Male | M26: Total Male
A27: A | B27: AGRICULTURE | C27: 1770971.1 | E27: 22272459 | G27: 874104.03 | I27: 171857.13 | K27: 2036095.1 | M27: 27125486
A28: B | B28: MINING AND QUARRYING | C28: 24549.621 | E28: 0 | G28: 87660.722 | I28: 4436.7896 | K28: 1158.0094 | M28: 117805.14
A29: C | B29: MANUFACTURING | C29: 722310.71 | E29: 0 | G29: 2257392 | I29: 135937.19 | K29: 133742.68 | M29: 3249382.5
A30: D | B30: ELECTRICITY, GAS, STEAM & AIR CONDITIONING SUPPLY | C30: 0 | E30: 0 | G30: 8228.1533 | I30: 0 | K30: 2263.4221 | M30: 10491.575
A31: E | B31: WATER SUPPLY, SEWERAGE, WASTE MANAGEMENT & REMEDIATION | C31: 39726.47 | E31: 0 | G31: 30725.15 | I31: 223.45651 | K31: 0 | M31: 70675.076
A32: F | B32: CONSTRUCTION | C32: 769127.24 | E32: 0 | G32: 866409.57 | I32: 46251.983 | K32: 22495.246 | M32: 1704284
A33: G | B33: TRADE | C33: 570214.96 | E33: 0 | G33: 3065790 | I33: 79408.854 | K33: 91898.981 | M33: 3807312.8
A34: I | B34: ACCOMMODATION AND FOOD SERVICES | C34: 5113.2759 | E34: 0 | G34: 94524.496 | I34: 4285.2597 | K34: 13071.608 | M34: 116994.64
A35: H | B35: TRANSPORTATION AND STORAGE | C35: 876302.67 | E35: 0 | G35: 1552087.3 | I35: 14371.921 | K35: 20833.461 | M35: 2463595.4
A36: J | B36: INFORMATION AND COMMUNICATION | C36: 227649.77 | E36: 0 | G36: 97679.708 | I36: 4388.0154 | K36: 2524.9737 | M36: 332242.47
A37: K | B37: ARTS, ENTERTAINMENTAND RECREATION | C37: 383746.81 | E37: 0 | G37: 42662.781 | I37: 4102.281 | K37: 0 | M37: 430511.87
A38: L | B38: FINANCIAL AND INSURANCE | C38: 588885.51 | E38: 0 | G38: 52230.594 | I38: 834.21728 | K38: 10922.107 | M38: 652872.43
... A44: S | B44: OTHER SERVICES | C44: 2229483.7 | E44: 0 | G44: 946792.15 | I44: 42397.428 | K44: 245319.42 | M44: 3463992.7
B45: TOTAL | C45: 12472269 | E45: 22272459 | G45: 11225095 | I45: 603005.82 | K45: 2716638.5 | M45: 49289468
A47: DISTRIBUTION OF WORKING POPULATION BY ECONOMIC ACTIVITY BY TYPE OF ENGAGEMENT AND BY SEX- Female
B48: Major Economic Activity | C48: Work for Pay/Wage | E48: Self employment (in farming) | G48: Self employment (non farming) | I48: Paid Apprentice | K48: UnPaid Household Worker | M48: TOTAL
C49: Female | E49: Female | G49: Female | I49: Female | K49: Female | M49: Female
A50: A | B50: AGRICULTURE | C50: 693298.1 | E50: 7384836.1 | G50: 303341.27 | I50: 45900.413 | K50: 1816068.3 | M50: 10243444
A51: B | B51: MINING AND QUARRYING | C51: 362.13411 | E51: 0 | G51: 11537.836 | I51: 0 | K51: 0 | M51: 11899.97
A52: C | B52: MANUFACTURING | C52: 213841.34 | E52: 0 | G52: 1680389.1 | I52: 44582.721 | K52: 222445.76 | M52: 2161258.9
A53: D | B53: ELECTRICITY, GAS, STEAM & AIR CONDITIONING SUPPLY | C53: 0 | E53: 0 | G53: 0 | I53: 0 | K53: 0 | M53: 0
A54: E | B54: WATER SUPPLY, SEWERAGE, WASTE MANAGEMENT & REMEDIATION | C54: 9388.0735 | E54: 0 | G54: 9460.8575 | I54: 0 | K54: 1281.7205 | M54: 20130.652
A55: F | B55: CONSTRUCTION | C55: 26337.989 | E55: 0 | G55: 13051.883 | I55: 0 | K55: 1804.9539 | M55: 41194.825
A56: G | B56: TRADE | C56: 878597.94 | E56: 0 | G56: 5913170 | I56: 50965.324 | K56: 184985.96 | M56: 7027719.2
A57: I | B57: ACCOMMODATION AND FOOD SERVICES | C57: 2599.3037 | E57: 0 | G57: 819150.55 | I57: 14714.998 | K57: 98648.257 | M57: 935113.11
A58: H | B58: TRANSPORTATION AND STORAGE | C58: 14783.703 | E58: 0 | G58: 9398.452 | I58: 0 | K58: 2079.0304 | M58: 26261.186
A59: J | B59: INFORMATION AND COMMUNICATION | C59: 84110.261 | E59: 0 | G59: 6494.1285 | I59: 1309.2954 | K59: 0 | M59: 91913.685
A60: K | B60: ARTS, ENTERTAINMENTAND RECREATION | C60: 120811.54 | E60: 0 | G60: 5834.1718 | I60: 0 | K60: 0 | M60: 126645.71
A61: L | B61: FINANCIAL AND INSURANCE | C61: 349932.94 | E61: 0 | G61: 4378.5166 | I61: 0 | K61: 4435.5209 | M61: 358746.98
... A67: S | B67: OTHER SERVICES | C67: 1313015.5 | E67: 0 | G67: 932393.89 | I67: 40983.196 | K67: 371047.84 | M67: 2657440.4
B68: TOTAL | C68: =SUM(C50:D67) -> 7242766.7 | E68: =SUM(E50:F67) -> 7384836.1 | G68: =SUM(G50:H67) -> 10432167 | I68: =SUM(I50:J67) -> 259974.1 | K68: =SUM(K50:L67) -> 2942216.6 | M68: =SUM(M50:N67) -> 28261961
A71: PERCENTAGE DISTRIBUTION OF WORKING POPULATION BY ECONOMIC ACTIVITY BY TYPE OF ENGAGEMENT AND BY SEX %
B72: Major Economic Activity | C72: Work for Pay/Wage | E72: Self employment (in farming) | G72: Self employment (non farming) | I72: Paid Apprentice | K72: UnPaid Household Worker | M72: TOTAL
C73: Male | D73: Female | E73: Male | F73: Female | G73: Male | H73: Female | I73: Male | J73: Female | K73: Male | L73: Female | M73: Male | N73: Female
A74: A | B74: AGRICULTURE | C74: 14.199269 | D74: 9.5722827 | E74: 100 | F74: 100 | G74: 7.7870522 | H74: 2.9077493 | I74: 28.500079 | J74: 17.655764 | K74: 74.949061 | L74: 61.724493 | M74: 55.033027 | N74: 36.244634
A75: B | B75: MINING AND QUARRYING | C75: 0.19683363 | D75: 0.0049999417 | G75: 0.78093522 | H75: 0.11059865 | I75: 0.7357789 | J75: 0 | K75: 0.042626553 | L75: 0 | M75: 0.23900672 | N75: 0.042105961
A76: C | B76: MANUFACTURING | C76: 5.7913334 | D76: 2.9524814 | G76: 20.110225 | H76: 16.107766 | I76: 22.543264 | J76: 17.148909 | K76: 4.9230943 | L76: 7.5604823 | M76: 6.592448 | N76: 7.6472363
A77: D | B77: ELECTRICITY, GAS, STEAM & AIR CONDITIONING SUPPLY | G77: =100*G7/G$22 -> 0.073301412 | H77: =100*H7/H$22 -> 0 | I77: =100*I7/I$22 -> 0 | J77: =100*J7/J$22 -> 0 | K77: =100*K7/K$22 -> 0.083317015 | L77: =100*L7/L$22 -> 0 | M77: =100*M7/M$22 -> 0.021285633 | N77: =100*N7/N$22 -> 0
A78: E | B78: WATER SUPPLY, SEWERAGE, WASTE MANAGEMENT & REMEDIATION | C78: =100*C8/C$22 -> 0.31851838 | D78: =100*D8/D$22 -> 0.12961999 | G78: =100*G8/G$22 -> 0.27371839 | H78: =100*H8/H$22 -> 0.090689281 | M78: =100*M8/M$22 -> 0.14338779 | N78: =100*N8/N$22 -> 0.071228786
A79: F | B79: CONSTRUCTION | C79: =100*C9/C$22 -> 6.1666984 | D79: =100*D9/D$22 -> 0.36364541 | G79: =100*G9/G$22 -> 7.7185053 | H79: =100*H9/H$22 -> 0.1251119 | I79: =100*I9/I$22 -> 7.6702382 | J79: =100*J9/J$22 -> 0 | K79: =100*K9/K$22 -> 0.82805443 | L79: =100*L9/L$22 -> 0.061346738 | M79: =100*M9/M$22 -> 3.4577043 | N79: =100*N9/N$22 -> 0.14576068
A80: G | B80: TRADE | C80: =100*C10/C$22 -> 4.5718621 | D80: =100*D10/D$22 -> 12.130695 | G80: =100*G10/G$22 -> 27.311929 | H80: =100*H10/H$22 -> 56.682086 | I80: =100*I10/I$22 -> 13.168837 | J80: =100*J10/J$22 -> 19.604001 | K80: =100*K10/K$22 -> 3.3828196 | L80: =100*L10/L$22 -> 6.2872992 | M80: =100*M10/M$22 -> 7.7243942 | N80: =100*N10/N$22 -> 24.866354
A81: I | B81: ACCOMMODATION AND FOOD SERVICES | C81: =100*C11/C$22 -> 0.040997157 | D81: =100*D11/D$22 -> 0.035888271 | G81: =100*G11/G$22 -> 0.84208191 | H81: =100*H11/H$22 -> 7.8521608 | I81: =100*I11/I$22 -> 0.71064981 | J81: =100*J11/J$22 -> 5.6601783 | K81: =100*K11/K$22 -> 0.48116846 | L81: =100*L11/L$22 -> 3.352855 | M81: =100*M11/M$22 -> 0.23736235 | N81: =100*N11/N$22 -> 3.308734
A82: H | B82: TRANSPORTATION AND STORAGE | C82: =100*C12/C$22 -> 7.0260082 | D82: =100*D12/D$22 -> 0.2041168 | G82: =100*G12/G$22 -> 13.826941 | H82: =100*H12/H$22 -> 0.090091078 | I82: =100*I12/I$22 -> 2.3833802 | J82: =100*J12/J$22 -> 0 | K82: =100*K12/K$22 -> 0.7668838 | L82: =100*L12/L$22 -> 0.070662044 | M82: =100*M12/M$22 -> 4.9982187 | N82: =100*N12/N$22 -> 0.092920608
A83: J | B83: INFORMATION AND COMMUNICATION | C83: =100*C13/C$22 -> 1.8252474 | D83: =100*D13/D$22 -> 1.1613002 | G83: =100*G13/G$22 -> 0.87019046 | H83: =100*H13/H$22 -> 0.062251 | I83: =100*I13/I$22 -> 0.72769039 | J83: =100*J13/J$22 -> 0.50362532 | K83: =100*K13/K$22 -> 0.092944778 | L83: =100*L13/L$22 -> 0 | M83: =100*M13/M$22 -> 0.67406382 | N83: =100*N13/N$22 -> 0.32522048
A84: K | B84: ARTS, ENTERTAINMENTAND RECREATION | C84: =100*C14/C$22 -> 3.0768002 | D84: =100*D14/D$22 -> 1.6680303 | G84: =100*G14/G$22 -> 0.3800661 | H84: =100*H14/H$22 -> 0.055924829 | I84: =100*I14/I$22 -> 0.68030537 | J84: =100*J14/J$22 -> 0 | M84: =100*M14/M$22 -> 0.87343583 | N84: =100*N14/N$22 -> 0.44811368
A85: L | B85: FINANCIAL AND INSURANCE | C85: =100*C15/C$22 -> 4.7215586 | D85: =100*D15/D$22 -> 4.8314817 | G85: =100*G15/G$22 -> 0.46530201 | H85: =100*H15/H$22 -> 0.041971303 | I85: =100*I15/I$22 -> 0.13834315 | J85: =100*J15/J$22 -> 0 | K85: =100*K15/K$22 -> 0.40204492 | L85: =100*L15/L$22 -> 0.1507544 | M85: =100*M15/M$22 -> 1.3245678 | N85: =100*N15/N$22 -> 1.2693634
A86: M | B86: REAL ESTATE | C86: =100*C16/C$22 -> 0 | D86: =100*D16/D$22 -> 0 | G86: =100*G16/G$22 -> 0.56762661 | H86: =100*H16/H$22 -> 0.025053496 | I86: =100*I16/I$22 -> 0 | J86: =100*J16/J$22 -> 0 | K86: =100*K16/K$22 -> 0.11723866 | L86: =100*L16/L$22 -> 0 | M86: =100*M16/M$22 -> 0.13573199 | N86: =100*N16/N$22 -> 0.009247846
A87: N | B87: PROFESSIONAL, SCIENTIFIC AND TECHNICAL SERVICES | C87: =100*C17/C$22 -> 18.502408 | D87: =100*D17/D$22 -> 17.617553 | G87: =100*G17/G$22 -> 6.0713731 | H87: =100*H17/H$22 -> 4.0925179 | I87: =100*I17/I$22 -> 11.637104 | J87: =100*J17/J$22 -> 18.904208 | K87: =100*K17/K$22 -> 2.2624765 | L87: =100*L17/L$22 -> 2.2294306 | M87: =100*M17/M$22 -> 6.3316231 | N87: =100*N17/N$22 -> 6.4315328
A88: O | B88: ADMINISTRATIVE & SUPPORT SERVICES | C88: =100*C18/C$22 -> 2.0879152 | D88: =100*D18/D$22 -> 0.63944525 | G88: =100*G18/G$22 -> 0.93649562 | H88: =100*H18/H$22 -> 0.33136395 | I88: =100*I18/I$22 -> 0.91583597 | J88: =100*J18/J$22 -> 0 | K88: =100*K18/K$22 -> 0.35342615 | L88: =100*L18/L$22 -> 0.17311677 | M88: =100*M18/M$22 -> 0.7722883 | N88: =100*N18/N$22 -> 0.30420904
A89: Q | B89: EDUCATION | C89: =100*C19/C$22 -> 8.2877249 | D89: =100*D19/D$22 -> 15.619825 | G89: =100*G19/G$22 -> 2.2687807 | H89: =100*H19/H$22 -> 1.7423745 | I89: =100*I19/I$22 -> 1.5032328 | J89: =100*J19/J$22 -> 2.008547 | K89: =100*K19/K$22 -> 1.6465804 | L89: =100*L19/L$22 -> 0.84372308 | M89: =100*M19/M$22 -> 2.7229679 | N89: =100*N19/N$22 -> 4.7523976
A90: R | B90: HUMAN HEALTH AND SOCIAL SERVICES | C90: =100*C20/C$22 -> 5.311299 | D90: =100*D20/D$22 -> 14.939991 | G90: =100*G20/G$22 -> 1.2808734 | H90: =100*H20/H$22 -> 0.74460917 | I90: =100*I20/I$22 -> 1.6171897 | J90: =100*J20/J$22 -> 2.7504306 | K90: =100*K20/K$22 -> 0.63800697 | L90: =100*L20/L$22 -> 4.8911069 | M90: =100*M20/M$22 -> 1.6906307 | N90: =100*N20/N$22 -> 4.6380537
A91: S | B91: OTHER SERVICES | C91: =100*C21/C$22 -> 17.875526 | D91: =100*D21/D$22 -> 18.128645 | G91: =100*G21/G$22 -> 8.4346024 | H91: =100*H21/H$22 -> 8.9376815 | I91: =100*I21/I$22 -> 7.0310147 | J91: =100*J21/J$22 -> 15.764338 | K91: =100*K21/K$22 -> 9.0302561 | L91: =100*L21/L$22 -> 12.611167 | M91: =100*M21/M$22 -> 7.0278558 | N91: =100*N21/N$22 -> 9.4028875
B92: TOTAL | C92: =SUM(C74:C91) -> 100 | D92: =SUM(D74:D91) -> 100 | E92: =SUM(E74:E91) -> 100 | F92: =SUM(F74:F91) -> 100 | G92: =SUM(G74:G91) -> 100 | H92: =SUM(H74:H91) -> 100 | I92: =SUM(I74:I91) -> 99.962943 | J92: =SUM(J74:J91) -> 100 | ... N92: =SUM(N74:N91) -> 100
A96: PERCENTAGE DISTRIBUTION OF WORKING POPULATION BY SECTOR AND BY SEX %
B97: Major Economic Activity | C97: Work for Pay/Wage | E97: Self employment (in farming) | G97: Self employment (non farming) | I97: Paid Apprentice | K97: UnPaid Household Worker | M97: TOTAL
C98: Male | D98: Female | E98: Male | F98: Female | G98: Male | H98: Female | I98: Male | J98: Female | K98: Male | L98: Female | M98: Male | N98: Female | O98: Male+Female
A99: A | B99: AGRICULTURE | C99: =C4/$O4*100 -> 4.7391539 | D99: =D4/$O4*100 -> 1.8552795 | E99: =E4/$O4*100 -> 59.601542 | F99: =F4/$O4*100 -> 19.761968 | G99: =G4/$O4*100 -> 2.3391198 | H99: =H4/$O4*100 -> 0.81174727 | I99: =I4/$O4*100 -> 0.45989311 | J99: =J4/$O4*100 -> 0.12283042 | ... N99: =N4/$O4*100 -> 27.41166 | O99: =M99+N99 -> 100
A100: B | B100: MINING AND QUARRYING | C100: =C5/$O5*100 -> 18.927258 | D100: =D5/$O5*100 -> 0.27919802 | E100: =E5/$O5*100 -> 0 | F100: =F5/$O5*100 -> 0 | G100: =G5/$O5*100 -> 67.584631 | H100: =H5/$O5*100 -> 8.8954367 | I100: =I5/$O5*100 -> 3.4206744 | J100: =J5/$O5*100 -> 0 | ... N100: =N5/$O5*100 -> 9.1746347 | O100: =M100+N100 -> 100
A101: C | B101: MANUFACTURING | C101: =C6/$O6*100 -> 13.349817 | D101: =D6/$O6*100 -> 3.9522364 | E101: =E6/$O6*100 -> 0 | F101: =F6/$O6*100 -> 0 | G101: =G6/$O6*100 -> 41.721337 | H101: =H6/$O6*100 -> 31.057114 | I101: =I6/$O6*100 -> 2.5124044 | J101: =J6/$O6*100 -> 0.82398218 | ... N101: =N6/$O6*100 -> 39.944597 | O101: =M101+N101 -> 100
A102: D | B102: ELECTRICITY, GAS, STEAM & AIR CONDITIONING SUPPLY | C102: =C7/$O7*100 -> 0 | D102: =D7/$O7*100 -> 0 | E102: =E7/$O7*100 -> 0 | F102: =F7/$O7*100 -> 0 | G102: =G7/$O7*100 -> 78.426289 | H102: =H7/$O7*100 -> 0 | I102: =I7/$O7*100 -> 0 | J102: =J7/$O7*100 -> 0 | ... N102: =N7/$O7*100 -> 0 | O102: =M102+N102 -> 100
A103: E | B103: WATER SUPPLY, SEWERAGE, WASTE MANAGEMENT & REMEDIATION | C103: =C8/$O8*100 -> 43.748859 | D103: =D8/$O8*100 -> 10.338636 | E103: =E8/$O8*100 -> 0 | F103: =F8/$O8*100 -> 0 | G103: =G8/$O8*100 -> 33.836136 | H103: =H8/$O8*100 -> 10.418789 | I103: =I8/$O8*100 -> 0.24608195 | J103: =J8/$O8*100 -> 0 | ... N103: =N8/$O8*100 -> 22.168923 | O103: =M103+N103 -> 100
A104: F | B104: CONSTRUCTION | C104: =C9/$O9*100 -> 44.063968 | D104: =D9/$O9*100 -> 1.5089262 | E104: =E9/$O9*100 -> 0 | F104: =F9/$O9*100 -> 0 | G104: =G9/$O9*100 -> 49.637357 | H104: =H9/$O9*100 -> 0.74775369 | I104: =I9/$O9*100 -> 2.6498163 | J104: =J9/$O9*100 -> 0 | ... N104: =N9/$O9*100 -> 2.3600873 | O104: =M104+N104 -> 100
A105: G | B105: TRADE | C105: =C10/$O10*100 -> 5.2626975 | D105: =D10/$O10*100 -> 8.1088633 | E105: =E10/$O10*100 -> 0 | F105: =F10/$O10*100 -> 0 | G105: =G10/$O10*100 -> 28.295163 | H105: =H10/$O10*100 -> 54.57455 | I105: =I10/$O10*100 -> 0.73288989 | J105: =J10/$O10*100 -> 0.47037539 | ... N105: =N10/$O10*100 -> 64.861084 | O105: =M105+N105 -> 100
A106: I | B106: ACCOMMODATION AND FOOD SERVICES | C106: =C11/$O11*100 -> 0.48600306 | D106: =D11/$O11*100 -> 0.2470568 | E106: =E11/$O11*100 -> 0 | F106: =F11/$O11*100 -> 0 | G106: =G11/$O11*100 -> 8.9842981 | H106: =H11/$O11*100 -> 77.858048 | I106: =I11/$O11*100 -> 0.40730236 | J106: =J11/$O11*100 -> 1.3986208 | ... N106: =N11/$O11*100 -> 88.879975 | O106: =M106+N106 -> 100
A107: H | B107: TRANSPORTATION AND STORAGE | C107: =C12/$O12*100 -> 35.194906 | D107: =D12/$O12*100 -> 0.59375723 | E107: =E12/$O12*100 -> 0 | F107: =F12/$O12*100 -> 0 | G107: =G12/$O12*100 -> 62.336415 | H107: =H12/$O12*100 -> 0.37746962 | I107: =I12/$O12*100 -> 0.57721884 | J107: =J12/$O12*100 -> 0 | ... N107: =N12/$O12*100 -> 1.0547269 | O107: =M107+N107 -> 100
A108: J | B108: INFORMATION AND COMMUNICATION | C108: =C13/$O13*100 -> 53.671217 | D108: =D13/$O13*100 -> 19.830023 | E108: =E13/$O13*100 -> 0 | F108: =F13/$O13*100 -> 0 | G108: =G13/$O13*100 -> 23.029186 | H108: =H13/$O13*100 -> 1.5310702 | I108: =I13/$O13*100 -> 1.0345283 | J108: =J13/$O13*100 -> 0.3086824 | ... N108: =N13/$O13*100 -> 21.669775 | O108: =M108+N108 -> 100
A109: K | B109: ARTS, ENTERTAINMENTAND RECREATION | C109: =C14/$O14*100 -> 68.875812 | D109: =D14/$O14*100 -> 21.683549 | E109: =E14/$O14*100 -> 0 | F109: =F14/$O14*100 -> 0 | G109: =G14/$O14*100 -> 7.6572199 | H109: =H14/$O14*100 -> 1.0471314 | I109: =I14/$O14*100 -> 0.73628739 | J109: =J14/$O14*100 -> 0 | ... N109: =N14/$O14*100 -> 22.730681 | O109: =M109+N109 -> 100
A110: L | B110: FINANCIAL AND INSURANCE | C110: =C15/$O15*100 -> 58.21216 | D110: =D15/$O15*100 -> 34.591363 | E110: =E15/$O15*100 -> 0 | F110: =F15/$O15*100 -> 0 | G110: =G15/$O15*100 -> 5.1630676 | H110: =H15/$O15*100 -> 0.43282251 | I110: =I15/$O15*100 -> 0.08246355 | J110: =J15/$O15*100 -> 0 | ... N110: =N15/$O15*100 -> 35.462643 | O110: =M110+N110 -> 100
... A116: S | B116: OTHER SERVICES | C116: =C21/$O21*100 -> 36.420944 | D116: =D21/$O21*100 -> 21.449478 | E116: =E21/$O21*100 -> 0 | F116: =F21/$O21*100 -> 0 | G116: =G21/$O21*100 -> 15.466838 | H116: =H21/$O21*100 -> 15.231628 | I116: =I21/$O21*100 -> 0.69260625 | J116: =J21/$O21*100 -> 0.6695033 | ... N116: =N21/$O21*100 -> 43.412063 | O116: =M116+N116 -> 100
O143: Male+Female
O144: =SUM(M99:N99) -> 100
O145: =SUM(M100:N100) -> 100
O146: =SUM(M101:N101) -> 100
O147: =SUM(M102:N102) -> 100
O148: =SUM(M103:N103) -> 100
...
